{"text_format":"1","workbook":"xlsx","n_sheets":4,"sheets":["Registration","Aufgebot","SR-DB","Settings"],"not_rendered":{"charts":0,"images":7,"macros":1,"external_links":0,"defined_names":4,"comments":0,"pivot_tables":0},"unopened":[],"bounds":{"document_bytes":16777216,"sheet_cells":100000,"rows_first":2000,"rows_last":500,"rows_between":2000,"halvings":0,"cell_chars":16384,"cell_head_chars":4096},"cells_cut":0,"cells_raw":0,"read":"whole","date_system":"1900"}

{"sheet":"Registration","index":0,"n_rows":205,"n_cols":11,"rows_kept":205,"cut":false,"hidden":false,"merged":[[0,0,0,2],[204,0,204,8],[1,4,3,4]]}
["SFV R.A.D.A.R.\nReferee Attendance - Digital Access & Registration",null,null,null,null,null,null,null,null,null,"FVRZ"]
["Anlass:","OLA 2025-1",null,null,{"$f":"_xlfn.XLOOKUP(K1,Settings!A:A,Settings!C:C,\"NA\",0)","v":{"$error":"#VALUE!"}},null,null,null,null,null,"Verbandsauswahl"]
["Datum:","2025-03-13"]
["Ort:","Thalwil",{"$f":"SUM(--(COUNTIF(A7:A204,_xlfn.UNIQUE(A7:A204))>1))","v":0}]
["Anwesende:",{"$f":"COUNTA(A7:A204) - C4 & \" (\" & COUNTIF(D7:D204,FALSE) & \" ohne Aufgebot)\"","v":"0 (0 ohne Aufgebot)"},{"$f":"IF(C4>0,C4 & \" Dublette(n) vorhanden!\",\"\")","v":""},null,"© 2025 Alain A. Asik"]
["SR-Nr","Vorname","Nachname","Im Aufgebot","Zeitstempel","Extrafeld 1","Extrafeld 2","Extrafeld 3","Extrafeld 4"]
[null,{"$f":"IF(ISBLANK($A7),\"\",_xlfn.XLOOKUP($A7,'SR-DB'!$C:$C,'SR-DB'!A:A,\"NA\",0))","v":""},{"$f":"IF(ISBLANK($A7),\"\",_xlfn.XLOOKUP($A7,'SR-DB'!$C:$C,'SR-DB'!B:B,\"NA\",0))","v":""},{"$f":"IF(ISBLANK(Tabelle1[[#This Row],[SR-Nr]]),\"\",IF(COUNTIF(Aufgebot!$A$7:$A$1000,Tabelle1[[#This Row],[SR-Nr]])>0,TRUE,FALSE))","v":""}]
[null,{"$f":"IF(ISBLANK($A8),\"\",_xlfn.XLOOKUP($A8,'SR-DB'!$C:$C,'SR-DB'!A:A,\"NA\",0))","v":""},{"$f":"IF(ISBLANK($A8),\"\",_xlfn.XLOOKUP($A8,'SR-DB'!$C:$C,'SR-DB'!B:B,\"NA\",0))","v":""},{"$f":"IF(ISBLANK(Tabelle1[[#This Row],[SR-Nr]]),\"\",IF(COUNTIF(Aufgebot!$A$7:$A$1000,Tabelle1[[#This Row],[SR-Nr]])>0,TRUE,FALSE))","v":""}]
[null,{"$f":"IF(ISBLANK($A9),\"\",_xlfn.XLOOKUP($A9,'SR-DB'!$C:$C,'SR-DB'!A:A,\"NA\",0))","v":""},{"$f":"IF(ISBLANK($A9),\"\",_xlfn.XLOOKUP($A9,'SR-DB'!$C:$C,'SR-DB'!B:B,\"NA\",0))","v":""},{"$f":"IF(ISBLANK(Tabelle1[[#This Row],[SR-Nr]]),\"\",IF(COUNTIF(Aufgebot!$A$7:$A$1000,Tabelle1[[#This Row],[SR-Nr]])>0,TRUE,FALSE))","v":""}]
[null,{"$f":"IF(ISBLANK($A10),\"\",_xlfn.XLOOKUP($A10,'SR-DB'!$C:$C,'SR-DB'!A:A,\"NA\",0))","v":""},{"$f":"IF(ISBLANK($A10),\"\",_xlfn.XLOOKUP($A10,'SR-DB'!$C:$C,'SR-DB'!B:B,\"NA\",0))","v":""},{"$f":"IF(ISBLANK(Tabelle1[[#This Row],[SR-Nr]]),\"\",IF(COUNTIF(Aufgebot!$A$7:$A$1000,Tabelle1[[#This Row],[SR-Nr]])>0,TRUE,FALSE))","v":""}]
[null,{"$f":"IF(ISBLANK($A11),\"\",_xlfn.XLOOKUP($A11,'SR-DB'!$C:$C,'SR-DB'!A:A,\"NA\",0))","v":""},{"$f":"IF(ISBLANK($A11),\"\",_xlfn.XLOOKUP($A11,'SR-DB'!$C:$C,'SR-DB'!B:B,\"NA\",0))","v":""},{"$f":"IF(ISBLANK(Tabelle1[[#This Row],[SR-Nr]]),\"\",IF(COUNTIF(Aufgebot!$A$7:$A$1000,Tabelle1[[#This Row],[SR-Nr]])>0,TRUE,FALSE))","v":""}]
[null,{"$f":"IF(ISBLANK($A12),\"\",_xlfn.XLOOKUP($A12,'SR-DB'!$C:$C,'SR-DB'!A:A,\"NA\",0))","v":""},{"$f":"IF(ISBLANK($A12),\"\",_xlfn.XLOOKUP($A12,'SR-DB'!$C:$C,'SR-DB'!B:B,\"NA\",0))","v":""},{"$f":"IF(ISBLANK(Tabelle1[[#This Row],[SR-Nr]]),\"\",IF(COUNTIF(Aufgebot!$A$7:$A$1000,Tabelle1[[#This Row],[SR-Nr]])>0,TRUE,FALSE))","v":""}]
[null,{"$f":"IF(ISBLANK($A13),\"\",_xlfn.XLOOKUP($A13,'SR-DB'!$C:$C,'SR-DB'!A:A,\"NA\",0))","v":""},{"$f":"IF(ISBLANK($A13),\"\",_xlfn.XLOOKUP($A13,'SR-DB'!$C:$C,'SR-DB'!B:B,\"NA\",0))","v":""},{"$f":"IF(ISBLANK(Tabelle1[[#This Row],[SR-Nr]]),\"\",IF(COUNTIF(Aufgebot!$A$7:$A$1000,Tabelle1[[#This Row],[SR-Nr]])>0,TRUE,FALSE))","v":""}]
[null,{"$f":"IF(ISBLANK($A14),\"\",_xlfn.XLOOKUP($A14,'SR-DB'!$C:$C,'SR-DB'!A:A,\"NA\",0))","v":""},{"$f":"IF(ISBLANK($A14),\"\",_xlfn.XLOOKUP($A14,'SR-DB'!$C:$C,'SR-DB'!B:B,\"NA\",0))","v":""},{"$f":"IF(ISBLANK(Tabelle1[[#This Row],[SR-Nr]]),\"\",IF(COUNTIF(Aufgebot!$A$7:$A$1000,Tabelle1[[#This Row],[SR-Nr]])>0,TRUE,FALSE))","v":""}]
[null,{"$f":"IF(ISBLANK($A15),\"\",_xlfn.XLOOKUP($A15,'SR-DB'!$C:$C,'SR-DB'!A:A,\"NA\",0))","v":""},{"$f":"IF(ISBLANK($A15),\"\",_xlfn.XLOOKUP($A15,'SR-DB'!$C:$C,'SR-DB'!B:B,\"NA\",0))","v":""},{"$f":"IF(ISBLANK(Tabelle1[[#This Row],[SR-Nr]]),\"\",IF(COUNTIF(Aufgebot!$A$7:$A$1000,Tabelle1[[#This Row],[SR-Nr]])>0,TRUE,FALSE))","v":""}]
[null,{"$f":"IF(ISBLANK($A16),\"\",_xlfn.XLOOKUP($A16,'SR-DB'!$C:$C,'SR-DB'!A:A,\"NA\",0))","v":""},{"$f":"IF(ISBLANK($A16),\"\",_xlfn.XLOOKUP($A16,'SR-DB'!$C:$C,'SR-DB'!B:B,\"NA\",0))","v":""},{"$f":"IF(ISBLANK(Tabelle1[[#This Row],[SR-Nr]]),\"\",IF(COUNTIF(Aufgebot!$A$7:$A$1000,Tabelle1[[#This Row],[SR-Nr]])>0,TRUE,FALSE))","v":""}]
[null,{"$f":"IF(ISBLANK($A17),\"\",_xlfn.XLOOKUP($A17,'SR-DB'!$C:$C,'SR-DB'!A:A,\"NA\",0))","v":""},{"$f":"IF(ISBLANK($A17),\"\",_xlfn.XLOOKUP($A17,'SR-DB'!$C:$C,'SR-DB'!B:B,\"NA\",0))","v":""},{"$f":"IF(ISBLANK(Tabelle1[[#This Row],[SR-Nr]]),\"\",IF(COUNTIF(Aufgebot!$A$7:$A$1000,Tabelle1[[#This Row],[SR-Nr]])>0,TRUE,FALSE))","v":""}]
[null,{"$f":"IF(ISBLANK($A18),\"\",_xlfn.XLOOKUP($A18,'SR-DB'!$C:$C,'SR-DB'!A:A,\"NA\",0))","v":""},{"$f":"IF(ISBLANK($A18),\"\",_xlfn.XLOOKUP($A18,'SR-DB'!$C:$C,'SR-DB'!B:B,\"NA\",0))","v":""},{"$f":"IF(ISBLANK(Tabelle1[[#This Row],[SR-Nr]]),\"\",IF(COUNTIF(Aufgebot!$A$7:$A$1000,Tabelle1[[#This Row],[SR-Nr]])>0,TRUE,FALSE))","v":""}]
[null,{"$f":"IF(ISBLANK($A19),\"\",_xlfn.XLOOKUP($A19,'SR-DB'!$C:$C,'SR-DB'!A:A,\"NA\",0))","v":""},{"$f":"IF(ISBLANK($A19),\"\",_xlfn.XLOOKUP($A19,'SR-DB'!$C:$C,'SR-DB'!B:B,\"NA\",0))","v":""},{"$f":"IF(ISBLANK(Tabelle1[[#This Row],[SR-Nr]]),\"\",IF(COUNTIF(Aufgebot!$A$7:$A$1000,Tabelle1[[#This Row],[SR-Nr]])>0,TRUE,FALSE))","v":""}]
[null,{"$f":"IF(ISBLANK($A20),\"\",_xlfn.XLOOKUP($A20,'SR-DB'!$C:$C,'SR-DB'!A:A,\"NA\",0))","v":""},{"$f":"IF(ISBLANK($A20),\"\",_xlfn.XLOOKUP($A20,'SR-DB'!$C:$C,'SR-DB'!B:B,\"NA\",0))","v":""},{"$f":"IF(ISBLANK(Tabelle1[[#This Row],[SR-Nr]]),\"\",IF(COUNTIF(Aufgebot!$A$7:$A$1000,Tabelle1[[#This Row],[SR-Nr]])>0,TRUE,FALSE))","v":""}]
[null,{"$f":"IF(ISBLANK($A21),\"\",_xlfn.XLOOKUP($A21,'SR-DB'!$C:$C,'SR-DB'!A:A,\"NA\",0))","v":""},{"$f":"IF(ISBLANK($A21),\"\",_xlfn.XLOOKUP($A21,'SR-DB'!$C:$C,'SR-DB'!B:B,\"NA\",0))","v":""},{"$f":"IF(ISBLANK(Tabelle1[[#This Row],[SR-Nr]]),\"\",IF(COUNTIF(Aufgebot!$A$7:$A$1000,Tabelle1[[#This Row],[SR-Nr]])>0,TRUE,FALSE))","v":""}]
[null,{"$f":"IF(ISBLANK($A22),\"\",_xlfn.XLOOKUP($A22,'SR-DB'!$C:$C,'SR-DB'!A:A,\"NA\",0))","v":""},{"$f":"IF(ISBLANK($A22),\"\",_xlfn.XLOOKUP($A22,'SR-DB'!$C:$C,'SR-DB'!B:B,\"NA\",0))","v":""},{"$f":"IF(ISBLANK(Tabelle1[[#This Row],[SR-Nr]]),\"\",IF(COUNTIF(Aufgebot!$A$7:$A$1000,Tabelle1[[#This Row],[SR-Nr]])>0,TRUE,FALSE))","v":""}]
[null,{"$f":"IF(ISBLANK($A23),\"\",_xlfn.XLOOKUP($A23,'SR-DB'!$C:$C,'SR-DB'!A:A,\"NA\",0))","v":""},{"$f":"IF(ISBLANK($A23),\"\",_xlfn.XLOOKUP($A23,'SR-DB'!$C:$C,'SR-DB'!B:B,\"NA\",0))","v":""},{"$f":"IF(ISBLANK(Tabelle1[[#This Row],[SR-Nr]]),\"\",IF(COUNTIF(Aufgebot!$A$7:$A$1000,Tabelle1[[#This Row],[SR-Nr]])>0,TRUE,FALSE))","v":""}]
[null,{"$f":"IF(ISBLANK($A24),\"\",_xlfn.XLOOKUP($A24,'SR-DB'!$C:$C,'SR-DB'!A:A,\"NA\",0))","v":""},{"$f":"IF(ISBLANK($A24),\"\",_xlfn.XLOOKUP($A24,'SR-DB'!$C:$C,'SR-DB'!B:B,\"NA\",0))","v":""},{"$f":"IF(ISBLANK(Tabelle1[[#This Row],[SR-Nr]]),\"\",IF(COUNTIF(Aufgebot!$A$7:$A$1000,Tabelle1[[#This Row],[SR-Nr]])>0,TRUE,FALSE))","v":""}]
[null,{"$f":"IF(ISBLANK($A25),\"\",_xlfn.XLOOKUP($A25,'SR-DB'!$C:$C,'SR-DB'!A:A,\"NA\",0))","v":""},{"$f":"IF(ISBLANK($A25),\"\",_xlfn.XLOOKUP($A25,'SR-DB'!$C:$C,'SR-DB'!B:B,\"NA\",0))","v":""},{"$f":"IF(ISBLANK(Tabelle1[[#This Row],[SR-Nr]]),\"\",IF(COUNTIF(Aufgebot!$A$7:$A$1000,Tabelle1[[#This Row],[SR-Nr]])>0,TRUE,FALSE))","v":""}]
[null,{"$f":"IF(ISBLANK($A26),\"\",_xlfn.XLOOKUP($A26,'SR-DB'!$C:$C,'SR-DB'!A:A,\"NA\",0))","v":""},{"$f":"IF(ISBLANK($A26),\"\",_xlfn.XLOOKUP($A26,'SR-DB'!$C:$C,'SR-DB'!B:B,\"NA\",0))","v":""},{"$f":"IF(ISBLANK(Tabelle1[[#This Row],[SR-Nr]]),\"\",IF(COUNTIF(Aufgebot!$A$7:$A$1000,Tabelle1[[#This Row],[SR-Nr]])>0,TRUE,FALSE))","v":""}]
[null,{"$f":"IF(ISBLANK($A27),\"\",_xlfn.XLOOKUP($A27,'SR-DB'!$C:$C,'SR-DB'!A:A,\"NA\",0))","v":""},{"$f":"IF(ISBLANK($A27),\"\",_xlfn.XLOOKUP($A27,'SR-DB'!$C:$C,'SR-DB'!B:B,\"NA\",0))","v":""},{"$f":"IF(ISBLANK(Tabelle1[[#This Row],[SR-Nr]]),\"\",IF(COUNTIF(Aufgebot!$A$7:$A$1000,Tabelle1[[#This Row],[SR-Nr]])>0,TRUE,FALSE))","v":""}]
[null,{"$f":"IF(ISBLANK($A28),\"\",_xlfn.XLOOKUP($A28,'SR-DB'!$C:$C,'SR-DB'!A:A,\"NA\",0))","v":""},{"$f":"IF(ISBLANK($A28),\"\",_xlfn.XLOOKUP($A28,'SR-DB'!$C:$C,'SR-DB'!B:B,\"NA\",0))","v":""},{"$f":"IF(ISBLANK(Tabelle1[[#This Row],[SR-Nr]]),\"\",IF(COUNTIF(Aufgebot!$A$7:$A$1000,Tabelle1[[#This Row],[SR-Nr]])>0,TRUE,FALSE))","v":""}]
[null,{"$f":"IF(ISBLANK($A29),\"\",_xlfn.XLOOKUP($A29,'SR-DB'!$C:$C,'SR-DB'!A:A,\"NA\",0))","v":""},{"$f":"IF(ISBLANK($A29),\"\",_xlfn.XLOOKUP($A29,'SR-DB'!$C:$C,'SR-DB'!B:B,\"NA\",0))","v":""},{"$f":"IF(ISBLANK(Tabelle1[[#This Row],[SR-Nr]]),\"\",IF(COUNTIF(Aufgebot!$A$7:$A$1000,Tabelle1[[#This Row],[SR-Nr]])>0,TRUE,FALSE))","v":""}]
[null,{"$f":"IF(ISBLANK($A30),\"\",_xlfn.XLOOKUP($A30,'SR-DB'!$C:$C,'SR-DB'!A:A,\"NA\",0))","v":""},{"$f":"IF(ISBLANK($A30),\"\",_xlfn.XLOOKUP($A30,'SR-DB'!$C:$C,'SR-DB'!B:B,\"NA\",0))","v":""},{"$f":"IF(ISBLANK(Tabelle1[[#This Row],[SR-Nr]]),\"\",IF(COUNTIF(Aufgebot!$A$7:$A$1000,Tabelle1[[#This Row],[SR-Nr]])>0,TRUE,FALSE))","v":""}]
[null,{"$f":"IF(ISBLANK($A31),\"\",_xlfn.XLOOKUP($A31,'SR-DB'!$C:$C,'SR-DB'!A:A,\"NA\",0))","v":""},{"$f":"IF(ISBLANK($A31),\"\",_xlfn.XLOOKUP($A31,'SR-DB'!$C:$C,'SR-DB'!B:B,\"NA\",0))","v":""},{"$f":"IF(ISBLANK(Tabelle1[[#This Row],[SR-Nr]]),\"\",IF(COUNTIF(Aufgebot!$A$7:$A$1000,Tabelle1[[#This Row],[SR-Nr]])>0,TRUE,FALSE))","v":""}]
[null,{"$f":"IF(ISBLANK($A32),\"\",_xlfn.XLOOKUP($A32,'SR-DB'!$C:$C,'SR-DB'!A:A,\"NA\",0))","v":""},{"$f":"IF(ISBLANK($A32),\"\",_xlfn.XLOOKUP($A32,'SR-DB'!$C:$C,'SR-DB'!B:B,\"NA\",0))","v":""},{"$f":"IF(ISBLANK(Tabelle1[[#This Row],[SR-Nr]]),\"\",IF(COUNTIF(Aufgebot!$A$7:$A$1000,Tabelle1[[#This Row],[SR-Nr]])>0,TRUE,FALSE))","v":""}]
[null,{"$f":"IF(ISBLANK($A33),\"\",_xlfn.XLOOKUP($A33,'SR-DB'!$C:$C,'SR-DB'!A:A,\"NA\",0))","v":""},{"$f":"IF(ISBLANK($A33),\"\",_xlfn.XLOOKUP($A33,'SR-DB'!$C:$C,'SR-DB'!B:B,\"NA\",0))","v":""},{"$f":"IF(ISBLANK(Tabelle1[[#This Row],[SR-Nr]]),\"\",IF(COUNTIF(Aufgebot!$A$7:$A$1000,Tabelle1[[#This Row],[SR-Nr]])>0,TRUE,FALSE))","v":""}]
[null,{"$f":"IF(ISBLANK($A34),\"\",_xlfn.XLOOKUP($A34,'SR-DB'!$C:$C,'SR-DB'!A:A,\"NA\",0))","v":""},{"$f":"IF(ISBLANK($A34),\"\",_xlfn.XLOOKUP($A34,'SR-DB'!$C:$C,'SR-DB'!B:B,\"NA\",0))","v":""},{"$f":"IF(ISBLANK(Tabelle1[[#This Row],[SR-Nr]]),\"\",IF(COUNTIF(Aufgebot!$A$7:$A$1000,Tabelle1[[#This Row],[SR-Nr]])>0,TRUE,FALSE))","v":""}]
[null,{"$f":"IF(ISBLANK($A35),\"\",_xlfn.XLOOKUP($A35,'SR-DB'!$C:$C,'SR-DB'!A:A,\"NA\",0))","v":""},{"$f":"IF(ISBLANK($A35),\"\",_xlfn.XLOOKUP($A35,'SR-DB'!$C:$C,'SR-DB'!B:B,\"NA\",0))","v":""},{"$f":"IF(ISBLANK(Tabelle1[[#This Row],[SR-Nr]]),\"\",IF(COUNTIF(Aufgebot!$A$7:$A$1000,Tabelle1[[#This Row],[SR-Nr]])>0,TRUE,FALSE))","v":""}]
[null,{"$f":"IF(ISBLANK($A36),\"\",_xlfn.XLOOKUP($A36,'SR-DB'!$C:$C,'SR-DB'!A:A,\"NA\",0))","v":""},{"$f":"IF(ISBLANK($A36),\"\",_xlfn.XLOOKUP($A36,'SR-DB'!$C:$C,'SR-DB'!B:B,\"NA\",0))","v":""},{"$f":"IF(ISBLANK(Tabelle1[[#This Row],[SR-Nr]]),\"\",IF(COUNTIF(Aufgebot!$A$7:$A$1000,Tabelle1[[#This Row],[SR-Nr]])>0,TRUE,FALSE))","v":""}]
[null,{"$f":"IF(ISBLANK($A37),\"\",_xlfn.XLOOKUP($A37,'SR-DB'!$C:$C,'SR-DB'!A:A,\"NA\",0))","v":""},{"$f":"IF(ISBLANK($A37),\"\",_xlfn.XLOOKUP($A37,'SR-DB'!$C:$C,'SR-DB'!B:B,\"NA\",0))","v":""},{"$f":"IF(ISBLANK(Tabelle1[[#This Row],[SR-Nr]]),\"\",IF(COUNTIF(Aufgebot!$A$7:$A$1000,Tabelle1[[#This Row],[SR-Nr]])>0,TRUE,FALSE))","v":""}]
[null,{"$f":"IF(ISBLANK($A38),\"\",_xlfn.XLOOKUP($A38,'SR-DB'!$C:$C,'SR-DB'!A:A,\"NA\",0))","v":""},{"$f":"IF(ISBLANK($A38),\"\",_xlfn.XLOOKUP($A38,'SR-DB'!$C:$C,'SR-DB'!B:B,\"NA\",0))","v":""},{"$f":"IF(ISBLANK(Tabelle1[[#This Row],[SR-Nr]]),\"\",IF(COUNTIF(Aufgebot!$A$7:$A$1000,Tabelle1[[#This Row],[SR-Nr]])>0,TRUE,FALSE))","v":""}]
[null,{"$f":"IF(ISBLANK($A39),\"\",_xlfn.XLOOKUP($A39,'SR-DB'!$C:$C,'SR-DB'!A:A,\"NA\",0))","v":""},{"$f":"IF(ISBLANK($A39),\"\",_xlfn.XLOOKUP($A39,'SR-DB'!$C:$C,'SR-DB'!B:B,\"NA\",0))","v":""},{"$f":"IF(ISBLANK(Tabelle1[[#This Row],[SR-Nr]]),\"\",IF(COUNTIF(Aufgebot!$A$7:$A$1000,Tabelle1[[#This Row],[SR-Nr]])>0,TRUE,FALSE))","v":""}]
[null,{"$f":"IF(ISBLANK($A40),\"\",_xlfn.XLOOKUP($A40,'SR-DB'!$C:$C,'SR-DB'!A:A,\"NA\",0))","v":""},{"$f":"IF(ISBLANK($A40),\"\",_xlfn.XLOOKUP($A40,'SR-DB'!$C:$C,'SR-DB'!B:B,\"NA\",0))","v":""},{"$f":"IF(ISBLANK(Tabelle1[[#This Row],[SR-Nr]]),\"\",IF(COUNTIF(Aufgebot!$A$7:$A$1000,Tabelle1[[#This Row],[SR-Nr]])>0,TRUE,FALSE))","v":""}]
[null,{"$f":"IF(ISBLANK($A41),\"\",_xlfn.XLOOKUP($A41,'SR-DB'!$C:$C,'SR-DB'!A:A,\"NA\",0))","v":""},{"$f":"IF(ISBLANK($A41),\"\",_xlfn.XLOOKUP($A41,'SR-DB'!$C:$C,'SR-DB'!B:B,\"NA\",0))","v":""},{"$f":"IF(ISBLANK(Tabelle1[[#This Row],[SR-Nr]]),\"\",IF(COUNTIF(Aufgebot!$A$7:$A$1000,Tabelle1[[#This Row],[SR-Nr]])>0,TRUE,FALSE))","v":""}]
[null,{"$f":"IF(ISBLANK($A42),\"\",_xlfn.XLOOKUP($A42,'SR-DB'!$C:$C,'SR-DB'!A:A,\"NA\",0))","v":""},{"$f":"IF(ISBLANK($A42),\"\",_xlfn.XLOOKUP($A42,'SR-DB'!$C:$C,'SR-DB'!B:B,\"NA\",0))","v":""},{"$f":"IF(ISBLANK(Tabelle1[[#This Row],[SR-Nr]]),\"\",IF(COUNTIF(Aufgebot!$A$7:$A$1000,Tabelle1[[#This Row],[SR-Nr]])>0,TRUE,FALSE))","v":""}]
[null,{"$f":"IF(ISBLANK($A43),\"\",_xlfn.XLOOKUP($A43,'SR-DB'!$C:$C,'SR-DB'!A:A,\"NA\",0))","v":""},{"$f":"IF(ISBLANK($A43),\"\",_xlfn.XLOOKUP($A43,'SR-DB'!$C:$C,'SR-DB'!B:B,\"NA\",0))","v":""},{"$f":"IF(ISBLANK(Tabelle1[[#This Row],[SR-Nr]]),\"\",IF(COUNTIF(Aufgebot!$A$7:$A$1000,Tabelle1[[#This Row],[SR-Nr]])>0,TRUE,FALSE))","v":""}]
[null,{"$f":"IF(ISBLANK($A44),\"\",_xlfn.XLOOKUP($A44,'SR-DB'!$C:$C,'SR-DB'!A:A,\"NA\",0))","v":""},{"$f":"IF(ISBLANK($A44),\"\",_xlfn.XLOOKUP($A44,'SR-DB'!$C:$C,'SR-DB'!B:B,\"NA\",0))","v":""},{"$f":"IF(ISBLANK(Tabelle1[[#This Row],[SR-Nr]]),\"\",IF(COUNTIF(Aufgebot!$A$7:$A$1000,Tabelle1[[#This Row],[SR-Nr]])>0,TRUE,FALSE))","v":""}]
[null,{"$f":"IF(ISBLANK($A45),\"\",_xlfn.XLOOKUP($A45,'SR-DB'!$C:$C,'SR-DB'!A:A,\"NA\",0))","v":""},{"$f":"IF(ISBLANK($A45),\"\",_xlfn.XLOOKUP($A45,'SR-DB'!$C:$C,'SR-DB'!B:B,\"NA\",0))","v":""},{"$f":"IF(ISBLANK(Tabelle1[[#This Row],[SR-Nr]]),\"\",IF(COUNTIF(Aufgebot!$A$7:$A$1000,Tabelle1[[#This Row],[SR-Nr]])>0,TRUE,FALSE))","v":""}]
[null,{"$f":"IF(ISBLANK($A46),\"\",_xlfn.XLOOKUP($A46,'SR-DB'!$C:$C,'SR-DB'!A:A,\"NA\",0))","v":""},{"$f":"IF(ISBLANK($A46),\"\",_xlfn.XLOOKUP($A46,'SR-DB'!$C:$C,'SR-DB'!B:B,\"NA\",0))","v":""},{"$f":"IF(ISBLANK(Tabelle1[[#This Row],[SR-Nr]]),\"\",IF(COUNTIF(Aufgebot!$A$7:$A$1000,Tabelle1[[#This Row],[SR-Nr]])>0,TRUE,FALSE))","v":""}]
[null,{"$f":"IF(ISBLANK($A47),\"\",_xlfn.XLOOKUP($A47,'SR-DB'!$C:$C,'SR-DB'!A:A,\"NA\",0))","v":""},{"$f":"IF(ISBLANK($A47),\"\",_xlfn.XLOOKUP($A47,'SR-DB'!$C:$C,'SR-DB'!B:B,\"NA\",0))","v":""},{"$f":"IF(ISBLANK(Tabelle1[[#This Row],[SR-Nr]]),\"\",IF(COUNTIF(Aufgebot!$A$7:$A$1000,Tabelle1[[#This Row],[SR-Nr]])>0,TRUE,FALSE))","v":""}]
[null,{"$f":"IF(ISBLANK($A48),\"\",_xlfn.XLOOKUP($A48,'SR-DB'!$C:$C,'SR-DB'!A:A,\"NA\",0))","v":""},{"$f":"IF(ISBLANK($A48),\"\",_xlfn.XLOOKUP($A48,'SR-DB'!$C:$C,'SR-DB'!B:B,\"NA\",0))","v":""},{"$f":"IF(ISBLANK(Tabelle1[[#This Row],[SR-Nr]]),\"\",IF(COUNTIF(Aufgebot!$A$7:$A$1000,Tabelle1[[#This Row],[SR-Nr]])>0,TRUE,FALSE))","v":""}]
[null,{"$f":"IF(ISBLANK($A49),\"\",_xlfn.XLOOKUP($A49,'SR-DB'!$C:$C,'SR-DB'!A:A,\"NA\",0))","v":""},{"$f":"IF(ISBLANK($A49),\"\",_xlfn.XLOOKUP($A49,'SR-DB'!$C:$C,'SR-DB'!B:B,\"NA\",0))","v":""},{"$f":"IF(ISBLANK(Tabelle1[[#This Row],[SR-Nr]]),\"\",IF(COUNTIF(Aufgebot!$A$7:$A$1000,Tabelle1[[#This Row],[SR-Nr]])>0,TRUE,FALSE))","v":""}]
[null,{"$f":"IF(ISBLANK($A50),\"\",_xlfn.XLOOKUP($A50,'SR-DB'!$C:$C,'SR-DB'!A:A,\"NA\",0))","v":""},{"$f":"IF(ISBLANK($A50),\"\",_xlfn.XLOOKUP($A50,'SR-DB'!$C:$C,'SR-DB'!B:B,\"NA\",0))","v":""},{"$f":"IF(ISBLANK(Tabelle1[[#This Row],[SR-Nr]]),\"\",IF(COUNTIF(Aufgebot!$A$7:$A$1000,Tabelle1[[#This Row],[SR-Nr]])>0,TRUE,FALSE))","v":""}]
[null,{"$f":"IF(ISBLANK($A51),\"\",_xlfn.XLOOKUP($A51,'SR-DB'!$C:$C,'SR-DB'!A:A,\"NA\",0))","v":""},{"$f":"IF(ISBLANK($A51),\"\",_xlfn.XLOOKUP($A51,'SR-DB'!$C:$C,'SR-DB'!B:B,\"NA\",0))","v":""},{"$f":"IF(ISBLANK(Tabelle1[[#This Row],[SR-Nr]]),\"\",IF(COUNTIF(Aufgebot!$A$7:$A$1000,Tabelle1[[#This Row],[SR-Nr]])>0,TRUE,FALSE))","v":""}]
[null,{"$f":"IF(ISBLANK($A52),\"\",_xlfn.XLOOKUP($A52,'SR-DB'!$C:$C,'SR-DB'!A:A,\"NA\",0))","v":""},{"$f":"IF(ISBLANK($A52),\"\",_xlfn.XLOOKUP($A52,'SR-DB'!$C:$C,'SR-DB'!B:B,\"NA\",0))","v":""},{"$f":"IF(ISBLANK(Tabelle1[[#This Row],[SR-Nr]]),\"\",IF(COUNTIF(Aufgebot!$A$7:$A$1000,Tabelle1[[#This Row],[SR-Nr]])>0,TRUE,FALSE))","v":""}]
[null,{"$f":"IF(ISBLANK($A53),\"\",_xlfn.XLOOKUP($A53,'SR-DB'!$C:$C,'SR-DB'!A:A,\"NA\",0))","v":""},{"$f":"IF(ISBLANK($A53),\"\",_xlfn.XLOOKUP($A53,'SR-DB'!$C:$C,'SR-DB'!B:B,\"NA\",0))","v":""},{"$f":"IF(ISBLANK(Tabelle1[[#This Row],[SR-Nr]]),\"\",IF(COUNTIF(Aufgebot!$A$7:$A$1000,Tabelle1[[#This Row],[SR-Nr]])>0,TRUE,FALSE))","v":""}]
[null,{"$f":"IF(ISBLANK($A54),\"\",_xlfn.XLOOKUP($A54,'SR-DB'!$C:$C,'SR-DB'!A:A,\"NA\",0))","v":""},{"$f":"IF(ISBLANK($A54),\"\",_xlfn.XLOOKUP($A54,'SR-DB'!$C:$C,'SR-DB'!B:B,\"NA\",0))","v":""},{"$f":"IF(ISBLANK(Tabelle1[[#This Row],[SR-Nr]]),\"\",IF(COUNTIF(Aufgebot!$A$7:$A$1000,Tabelle1[[#This Row],[SR-Nr]])>0,TRUE,FALSE))","v":""}]
[null,{"$f":"IF(ISBLANK($A55),\"\",_xlfn.XLOOKUP($A55,'SR-DB'!$C:$C,'SR-DB'!A:A,\"NA\",0))","v":""},{"$f":"IF(ISBLANK($A55),\"\",_xlfn.XLOOKUP($A55,'SR-DB'!$C:$C,'SR-DB'!B:B,\"NA\",0))","v":""},{"$f":"IF(ISBLANK(Tabelle1[[#This Row],[SR-Nr]]),\"\",IF(COUNTIF(Aufgebot!$A$7:$A$1000,Tabelle1[[#This Row],[SR-Nr]])>0,TRUE,FALSE))","v":""}]
[null,{"$f":"IF(ISBLANK($A56),\"\",_xlfn.XLOOKUP($A56,'SR-DB'!$C:$C,'SR-DB'!A:A,\"NA\",0))","v":""},{"$f":"IF(ISBLANK($A56),\"\",_xlfn.XLOOKUP($A56,'SR-DB'!$C:$C,'SR-DB'!B:B,\"NA\",0))","v":""},{"$f":"IF(ISBLANK(Tabelle1[[#This Row],[SR-Nr]]),\"\",IF(COUNTIF(Aufgebot!$A$7:$A$1000,Tabelle1[[#This Row],[SR-Nr]])>0,TRUE,FALSE))","v":""}]
[null,{"$f":"IF(ISBLANK($A57),\"\",_xlfn.XLOOKUP($A57,'SR-DB'!$C:$C,'SR-DB'!A:A,\"NA\",0))","v":""},{"$f":"IF(ISBLANK($A57),\"\",_xlfn.XLOOKUP($A57,'SR-DB'!$C:$C,'SR-DB'!B:B,\"NA\",0))","v":""},{"$f":"IF(ISBLANK(Tabelle1[[#This Row],[SR-Nr]]),\"\",IF(COUNTIF(Aufgebot!$A$7:$A$1000,Tabelle1[[#This Row],[SR-Nr]])>0,TRUE,FALSE))","v":""}]
[null,{"$f":"IF(ISBLANK($A58),\"\",_xlfn.XLOOKUP($A58,'SR-DB'!$C:$C,'SR-DB'!A:A,\"NA\",0))","v":""},{"$f":"IF(ISBLANK($A58),\"\",_xlfn.XLOOKUP($A58,'SR-DB'!$C:$C,'SR-DB'!B:B,\"NA\",0))","v":""},{"$f":"IF(ISBLANK(Tabelle1[[#This Row],[SR-Nr]]),\"\",IF(COUNTIF(Aufgebot!$A$7:$A$1000,Tabelle1[[#This Row],[SR-Nr]])>0,TRUE,FALSE))","v":""}]
[null,{"$f":"IF(ISBLANK($A59),\"\",_xlfn.XLOOKUP($A59,'SR-DB'!$C:$C,'SR-DB'!A:A,\"NA\",0))","v":""},{"$f":"IF(ISBLANK($A59),\"\",_xlfn.XLOOKUP($A59,'SR-DB'!$C:$C,'SR-DB'!B:B,\"NA\",0))","v":""},{"$f":"IF(ISBLANK(Tabelle1[[#This Row],[SR-Nr]]),\"\",IF(COUNTIF(Aufgebot!$A$7:$A$1000,Tabelle1[[#This Row],[SR-Nr]])>0,TRUE,FALSE))","v":""}]
[null,{"$f":"IF(ISBLANK($A60),\"\",_xlfn.XLOOKUP($A60,'SR-DB'!$C:$C,'SR-DB'!A:A,\"NA\",0))","v":""},{"$f":"IF(ISBLANK($A60),\"\",_xlfn.XLOOKUP($A60,'SR-DB'!$C:$C,'SR-DB'!B:B,\"NA\",0))","v":""},{"$f":"IF(ISBLANK(Tabelle1[[#This Row],[SR-Nr]]),\"\",IF(COUNTIF(Aufgebot!$A$7:$A$1000,Tabelle1[[#This Row],[SR-Nr]])>0,TRUE,FALSE))","v":""}]
[null,{"$f":"IF(ISBLANK($A61),\"\",_xlfn.XLOOKUP($A61,'SR-DB'!$C:$C,'SR-DB'!A:A,\"NA\",0))","v":""},{"$f":"IF(ISBLANK($A61),\"\",_xlfn.XLOOKUP($A61,'SR-DB'!$C:$C,'SR-DB'!B:B,\"NA\",0))","v":""},{"$f":"IF(ISBLANK(Tabelle1[[#This Row],[SR-Nr]]),\"\",IF(COUNTIF(Aufgebot!$A$7:$A$1000,Tabelle1[[#This Row],[SR-Nr]])>0,TRUE,FALSE))","v":""}]
[null,{"$f":"IF(ISBLANK($A62),\"\",_xlfn.XLOOKUP($A62,'SR-DB'!$C:$C,'SR-DB'!A:A,\"NA\",0))","v":""},{"$f":"IF(ISBLANK($A62),\"\",_xlfn.XLOOKUP($A62,'SR-DB'!$C:$C,'SR-DB'!B:B,\"NA\",0))","v":""},{"$f":"IF(ISBLANK(Tabelle1[[#This Row],[SR-Nr]]),\"\",IF(COUNTIF(Aufgebot!$A$7:$A$1000,Tabelle1[[#This Row],[SR-Nr]])>0,TRUE,FALSE))","v":""}]
[null,{"$f":"IF(ISBLANK($A63),\"\",_xlfn.XLOOKUP($A63,'SR-DB'!$C:$C,'SR-DB'!A:A,\"NA\",0))","v":""},{"$f":"IF(ISBLANK($A63),\"\",_xlfn.XLOOKUP($A63,'SR-DB'!$C:$C,'SR-DB'!B:B,\"NA\",0))","v":""},{"$f":"IF(ISBLANK(Tabelle1[[#This Row],[SR-Nr]]),\"\",IF(COUNTIF(Aufgebot!$A$7:$A$1000,Tabelle1[[#This Row],[SR-Nr]])>0,TRUE,FALSE))","v":""}]
[null,{"$f":"IF(ISBLANK($A64),\"\",_xlfn.XLOOKUP($A64,'SR-DB'!$C:$C,'SR-DB'!A:A,\"NA\",0))","v":""},{"$f":"IF(ISBLANK($A64),\"\",_xlfn.XLOOKUP($A64,'SR-DB'!$C:$C,'SR-DB'!B:B,\"NA\",0))","v":""},{"$f":"IF(ISBLANK(Tabelle1[[#This Row],[SR-Nr]]),\"\",IF(COUNTIF(Aufgebot!$A$7:$A$1000,Tabelle1[[#This Row],[SR-Nr]])>0,TRUE,FALSE))","v":""}]
[null,{"$f":"IF(ISBLANK($A65),\"\",_xlfn.XLOOKUP($A65,'SR-DB'!$C:$C,'SR-DB'!A:A,\"NA\",0))","v":""},{"$f":"IF(ISBLANK($A65),\"\",_xlfn.XLOOKUP($A65,'SR-DB'!$C:$C,'SR-DB'!B:B,\"NA\",0))","v":""},{"$f":"IF(ISBLANK(Tabelle1[[#This Row],[SR-Nr]]),\"\",IF(COUNTIF(Aufgebot!$A$7:$A$1000,Tabelle1[[#This Row],[SR-Nr]])>0,TRUE,FALSE))","v":""}]
[null,{"$f":"IF(ISBLANK($A66),\"\",_xlfn.XLOOKUP($A66,'SR-DB'!$C:$C,'SR-DB'!A:A,\"NA\",0))","v":""},{"$f":"IF(ISBLANK($A66),\"\",_xlfn.XLOOKUP($A66,'SR-DB'!$C:$C,'SR-DB'!B:B,\"NA\",0))","v":""},{"$f":"IF(ISBLANK(Tabelle1[[#This Row],[SR-Nr]]),\"\",IF(COUNTIF(Aufgebot!$A$7:$A$1000,Tabelle1[[#This Row],[SR-Nr]])>0,TRUE,FALSE))","v":""}]
[null,{"$f":"IF(ISBLANK($A67),\"\",_xlfn.XLOOKUP($A67,'SR-DB'!$C:$C,'SR-DB'!A:A,\"NA\",0))","v":""},{"$f":"IF(ISBLANK($A67),\"\",_xlfn.XLOOKUP($A67,'SR-DB'!$C:$C,'SR-DB'!B:B,\"NA\",0))","v":""},{"$f":"IF(ISBLANK(Tabelle1[[#This Row],[SR-Nr]]),\"\",IF(COUNTIF(Aufgebot!$A$7:$A$1000,Tabelle1[[#This Row],[SR-Nr]])>0,TRUE,FALSE))","v":""}]
[null,{"$f":"IF(ISBLANK($A68),\"\",_xlfn.XLOOKUP($A68,'SR-DB'!$C:$C,'SR-DB'!A:A,\"NA\",0))","v":""},{"$f":"IF(ISBLANK($A68),\"\",_xlfn.XLOOKUP($A68,'SR-DB'!$C:$C,'SR-DB'!B:B,\"NA\",0))","v":""},{"$f":"IF(ISBLANK(Tabelle1[[#This Row],[SR-Nr]]),\"\",IF(COUNTIF(Aufgebot!$A$7:$A$1000,Tabelle1[[#This Row],[SR-Nr]])>0,TRUE,FALSE))","v":""}]
[null,{"$f":"IF(ISBLANK($A69),\"\",_xlfn.XLOOKUP($A69,'SR-DB'!$C:$C,'SR-DB'!A:A,\"NA\",0))","v":""},{"$f":"IF(ISBLANK($A69),\"\",_xlfn.XLOOKUP($A69,'SR-DB'!$C:$C,'SR-DB'!B:B,\"NA\",0))","v":""},{"$f":"IF(ISBLANK(Tabelle1[[#This Row],[SR-Nr]]),\"\",IF(COUNTIF(Aufgebot!$A$7:$A$1000,Tabelle1[[#This Row],[SR-Nr]])>0,TRUE,FALSE))","v":""}]
[null,{"$f":"IF(ISBLANK($A70),\"\",_xlfn.XLOOKUP($A70,'SR-DB'!$C:$C,'SR-DB'!A:A,\"NA\",0))","v":""},{"$f":"IF(ISBLANK($A70),\"\",_xlfn.XLOOKUP($A70,'SR-DB'!$C:$C,'SR-DB'!B:B,\"NA\",0))","v":""},{"$f":"IF(ISBLANK(Tabelle1[[#This Row],[SR-Nr]]),\"\",IF(COUNTIF(Aufgebot!$A$7:$A$1000,Tabelle1[[#This Row],[SR-Nr]])>0,TRUE,FALSE))","v":""}]
[null,{"$f":"IF(ISBLANK($A71),\"\",_xlfn.XLOOKUP($A71,'SR-DB'!$C:$C,'SR-DB'!A:A,\"NA\",0))","v":""},{"$f":"IF(ISBLANK($A71),\"\",_xlfn.XLOOKUP($A71,'SR-DB'!$C:$C,'SR-DB'!B:B,\"NA\",0))","v":""},{"$f":"IF(ISBLANK(Tabelle1[[#This Row],[SR-Nr]]),\"\",IF(COUNTIF(Aufgebot!$A$7:$A$1000,Tabelle1[[#This Row],[SR-Nr]])>0,TRUE,FALSE))","v":""}]
[null,{"$f":"IF(ISBLANK($A72),\"\",_xlfn.XLOOKUP($A72,'SR-DB'!$C:$C,'SR-DB'!A:A,\"NA\",0))","v":""},{"$f":"IF(ISBLANK($A72),\"\",_xlfn.XLOOKUP($A72,'SR-DB'!$C:$C,'SR-DB'!B:B,\"NA\",0))","v":""},{"$f":"IF(ISBLANK(Tabelle1[[#This Row],[SR-Nr]]),\"\",IF(COUNTIF(Aufgebot!$A$7:$A$1000,Tabelle1[[#This Row],[SR-Nr]])>0,TRUE,FALSE))","v":""}]
[null,{"$f":"IF(ISBLANK($A73),\"\",_xlfn.XLOOKUP($A73,'SR-DB'!$C:$C,'SR-DB'!A:A,\"NA\",0))","v":""},{"$f":"IF(ISBLANK($A73),\"\",_xlfn.XLOOKUP($A73,'SR-DB'!$C:$C,'SR-DB'!B:B,\"NA\",0))","v":""},{"$f":"IF(ISBLANK(Tabelle1[[#This Row],[SR-Nr]]),\"\",IF(COUNTIF(Aufgebot!$A$7:$A$1000,Tabelle1[[#This Row],[SR-Nr]])>0,TRUE,FALSE))","v":""}]
[null,{"$f":"IF(ISBLANK($A74),\"\",_xlfn.XLOOKUP($A74,'SR-DB'!$C:$C,'SR-DB'!A:A,\"NA\",0))","v":""},{"$f":"IF(ISBLANK($A74),\"\",_xlfn.XLOOKUP($A74,'SR-DB'!$C:$C,'SR-DB'!B:B,\"NA\",0))","v":""},{"$f":"IF(ISBLANK(Tabelle1[[#This Row],[SR-Nr]]),\"\",IF(COUNTIF(Aufgebot!$A$7:$A$1000,Tabelle1[[#This Row],[SR-Nr]])>0,TRUE,FALSE))","v":""}]
[null,{"$f":"IF(ISBLANK($A75),\"\",_xlfn.XLOOKUP($A75,'SR-DB'!$C:$C,'SR-DB'!A:A,\"NA\",0))","v":""},{"$f":"IF(ISBLANK($A75),\"\",_xlfn.XLOOKUP($A75,'SR-DB'!$C:$C,'SR-DB'!B:B,\"NA\",0))","v":""},{"$f":"IF(ISBLANK(Tabelle1[[#This Row],[SR-Nr]]),\"\",IF(COUNTIF(Aufgebot!$A$7:$A$1000,Tabelle1[[#This Row],[SR-Nr]])>0,TRUE,FALSE))","v":""}]
[null,{"$f":"IF(ISBLANK($A76),\"\",_xlfn.XLOOKUP($A76,'SR-DB'!$C:$C,'SR-DB'!A:A,\"NA\",0))","v":""},{"$f":"IF(ISBLANK($A76),\"\",_xlfn.XLOOKUP($A76,'SR-DB'!$C:$C,'SR-DB'!B:B,\"NA\",0))","v":""},{"$f":"IF(ISBLANK(Tabelle1[[#This Row],[SR-Nr]]),\"\",IF(COUNTIF(Aufgebot!$A$7:$A$1000,Tabelle1[[#This Row],[SR-Nr]])>0,TRUE,FALSE))","v":""}]
[null,{"$f":"IF(ISBLANK($A77),\"\",_xlfn.XLOOKUP($A77,'SR-DB'!$C:$C,'SR-DB'!A:A,\"NA\",0))","v":""},{"$f":"IF(ISBLANK($A77),\"\",_xlfn.XLOOKUP($A77,'SR-DB'!$C:$C,'SR-DB'!B:B,\"NA\",0))","v":""},{"$f":"IF(ISBLANK(Tabelle1[[#This Row],[SR-Nr]]),\"\",IF(COUNTIF(Aufgebot!$A$7:$A$1000,Tabelle1[[#This Row],[SR-Nr]])>0,TRUE,FALSE))","v":""}]
[null,{"$f":"IF(ISBLANK($A78),\"\",_xlfn.XLOOKUP($A78,'SR-DB'!$C:$C,'SR-DB'!A:A,\"NA\",0))","v":""},{"$f":"IF(ISBLANK($A78),\"\",_xlfn.XLOOKUP($A78,'SR-DB'!$C:$C,'SR-DB'!B:B,\"NA\",0))","v":""},{"$f":"IF(ISBLANK(Tabelle1[[#This Row],[SR-Nr]]),\"\",IF(COUNTIF(Aufgebot!$A$7:$A$1000,Tabelle1[[#This Row],[SR-Nr]])>0,TRUE,FALSE))","v":""}]
[null,{"$f":"IF(ISBLANK($A79),\"\",_xlfn.XLOOKUP($A79,'SR-DB'!$C:$C,'SR-DB'!A:A,\"NA\",0))","v":""},{"$f":"IF(ISBLANK($A79),\"\",_xlfn.XLOOKUP($A79,'SR-DB'!$C:$C,'SR-DB'!B:B,\"NA\",0))","v":""},{"$f":"IF(ISBLANK(Tabelle1[[#This Row],[SR-Nr]]),\"\",IF(COUNTIF(Aufgebot!$A$7:$A$1000,Tabelle1[[#This Row],[SR-Nr]])>0,TRUE,FALSE))","v":""}]
[null,{"$f":"IF(ISBLANK($A80),\"\",_xlfn.XLOOKUP($A80,'SR-DB'!$C:$C,'SR-DB'!A:A,\"NA\",0))","v":""},{"$f":"IF(ISBLANK($A80),\"\",_xlfn.XLOOKUP($A80,'SR-DB'!$C:$C,'SR-DB'!B:B,\"NA\",0))","v":""},{"$f":"IF(ISBLANK(Tabelle1[[#This Row],[SR-Nr]]),\"\",IF(COUNTIF(Aufgebot!$A$7:$A$1000,Tabelle1[[#This Row],[SR-Nr]])>0,TRUE,FALSE))","v":""}]
[null,{"$f":"IF(ISBLANK($A81),\"\",_xlfn.XLOOKUP($A81,'SR-DB'!$C:$C,'SR-DB'!A:A,\"NA\",0))","v":""},{"$f":"IF(ISBLANK($A81),\"\",_xlfn.XLOOKUP($A81,'SR-DB'!$C:$C,'SR-DB'!B:B,\"NA\",0))","v":""},{"$f":"IF(ISBLANK(Tabelle1[[#This Row],[SR-Nr]]),\"\",IF(COUNTIF(Aufgebot!$A$7:$A$1000,Tabelle1[[#This Row],[SR-Nr]])>0,TRUE,FALSE))","v":""}]
[null,{"$f":"IF(ISBLANK($A82),\"\",_xlfn.XLOOKUP($A82,'SR-DB'!$C:$C,'SR-DB'!A:A,\"NA\",0))","v":""},{"$f":"IF(ISBLANK($A82),\"\",_xlfn.XLOOKUP($A82,'SR-DB'!$C:$C,'SR-DB'!B:B,\"NA\",0))","v":""},{"$f":"IF(ISBLANK(Tabelle1[[#This Row],[SR-Nr]]),\"\",IF(COUNTIF(Aufgebot!$A$7:$A$1000,Tabelle1[[#This Row],[SR-Nr]])>0,TRUE,FALSE))","v":""}]
[null,{"$f":"IF(ISBLANK($A83),\"\",_xlfn.XLOOKUP($A83,'SR-DB'!$C:$C,'SR-DB'!A:A,\"NA\",0))","v":""},{"$f":"IF(ISBLANK($A83),\"\",_xlfn.XLOOKUP($A83,'SR-DB'!$C:$C,'SR-DB'!B:B,\"NA\",0))","v":""},{"$f":"IF(ISBLANK(Tabelle1[[#This Row],[SR-Nr]]),\"\",IF(COUNTIF(Aufgebot!$A$7:$A$1000,Tabelle1[[#This Row],[SR-Nr]])>0,TRUE,FALSE))","v":""}]
[null,{"$f":"IF(ISBLANK($A84),\"\",_xlfn.XLOOKUP($A84,'SR-DB'!$C:$C,'SR-DB'!A:A,\"NA\",0))","v":""},{"$f":"IF(ISBLANK($A84),\"\",_xlfn.XLOOKUP($A84,'SR-DB'!$C:$C,'SR-DB'!B:B,\"NA\",0))","v":""},{"$f":"IF(ISBLANK(Tabelle1[[#This Row],[SR-Nr]]),\"\",IF(COUNTIF(Aufgebot!$A$7:$A$1000,Tabelle1[[#This Row],[SR-Nr]])>0,TRUE,FALSE))","v":""}]
[null,{"$f":"IF(ISBLANK($A85),\"\",_xlfn.XLOOKUP($A85,'SR-DB'!$C:$C,'SR-DB'!A:A,\"NA\",0))","v":""},{"$f":"IF(ISBLANK($A85),\"\",_xlfn.XLOOKUP($A85,'SR-DB'!$C:$C,'SR-DB'!B:B,\"NA\",0))","v":""},{"$f":"IF(ISBLANK(Tabelle1[[#This Row],[SR-Nr]]),\"\",IF(COUNTIF(Aufgebot!$A$7:$A$1000,Tabelle1[[#This Row],[SR-Nr]])>0,TRUE,FALSE))","v":""}]
[null,{"$f":"IF(ISBLANK($A86),\"\",_xlfn.XLOOKUP($A86,'SR-DB'!$C:$C,'SR-DB'!A:A,\"NA\",0))","v":""},{"$f":"IF(ISBLANK($A86),\"\",_xlfn.XLOOKUP($A86,'SR-DB'!$C:$C,'SR-DB'!B:B,\"NA\",0))","v":""},{"$f":"IF(ISBLANK(Tabelle1[[#This Row],[SR-Nr]]),\"\",IF(COUNTIF(Aufgebot!$A$7:$A$1000,Tabelle1[[#This Row],[SR-Nr]])>0,TRUE,FALSE))","v":""}]
[null,{"$f":"IF(ISBLANK($A87),\"\",_xlfn.XLOOKUP($A87,'SR-DB'!$C:$C,'SR-DB'!A:A,\"NA\",0))","v":""},{"$f":"IF(ISBLANK($A87),\"\",_xlfn.XLOOKUP($A87,'SR-DB'!$C:$C,'SR-DB'!B:B,\"NA\",0))","v":""},{"$f":"IF(ISBLANK(Tabelle1[[#This Row],[SR-Nr]]),\"\",IF(COUNTIF(Aufgebot!$A$7:$A$1000,Tabelle1[[#This Row],[SR-Nr]])>0,TRUE,FALSE))","v":""}]
[null,{"$f":"IF(ISBLANK($A88),\"\",_xlfn.XLOOKUP($A88,'SR-DB'!$C:$C,'SR-DB'!A:A,\"NA\",0))","v":""},{"$f":"IF(ISBLANK($A88),\"\",_xlfn.XLOOKUP($A88,'SR-DB'!$C:$C,'SR-DB'!B:B,\"NA\",0))","v":""},{"$f":"IF(ISBLANK(Tabelle1[[#This Row],[SR-Nr]]),\"\",IF(COUNTIF(Aufgebot!$A$7:$A$1000,Tabelle1[[#This Row],[SR-Nr]])>0,TRUE,FALSE))","v":""}]
[null,{"$f":"IF(ISBLANK($A89),\"\",_xlfn.XLOOKUP($A89,'SR-DB'!$C:$C,'SR-DB'!A:A,\"NA\",0))","v":""},{"$f":"IF(ISBLANK($A89),\"\",_xlfn.XLOOKUP($A89,'SR-DB'!$C:$C,'SR-DB'!B:B,\"NA\",0))","v":""},{"$f":"IF(ISBLANK(Tabelle1[[#This Row],[SR-Nr]]),\"\",IF(COUNTIF(Aufgebot!$A$7:$A$1000,Tabelle1[[#This Row],[SR-Nr]])>0,TRUE,FALSE))","v":""}]
[null,{"$f":"IF(ISBLANK($A90),\"\",_xlfn.XLOOKUP($A90,'SR-DB'!$C:$C,'SR-DB'!A:A,\"NA\",0))","v":""},{"$f":"IF(ISBLANK($A90),\"\",_xlfn.XLOOKUP($A90,'SR-DB'!$C:$C,'SR-DB'!B:B,\"NA\",0))","v":""},{"$f":"IF(ISBLANK(Tabelle1[[#This Row],[SR-Nr]]),\"\",IF(COUNTIF(Aufgebot!$A$7:$A$1000,Tabelle1[[#This Row],[SR-Nr]])>0,TRUE,FALSE))","v":""}]
[null,{"$f":"IF(ISBLANK($A91),\"\",_xlfn.XLOOKUP($A91,'SR-DB'!$C:$C,'SR-DB'!A:A,\"NA\",0))","v":""},{"$f":"IF(ISBLANK($A91),\"\",_xlfn.XLOOKUP($A91,'SR-DB'!$C:$C,'SR-DB'!B:B,\"NA\",0))","v":""},{"$f":"IF(ISBLANK(Tabelle1[[#This Row],[SR-Nr]]),\"\",IF(COUNTIF(Aufgebot!$A$7:$A$1000,Tabelle1[[#This Row],[SR-Nr]])>0,TRUE,FALSE))","v":""}]
[null,{"$f":"IF(ISBLANK($A92),\"\",_xlfn.XLOOKUP($A92,'SR-DB'!$C:$C,'SR-DB'!A:A,\"NA\",0))","v":""},{"$f":"IF(ISBLANK($A92),\"\",_xlfn.XLOOKUP($A92,'SR-DB'!$C:$C,'SR-DB'!B:B,\"NA\",0))","v":""},{"$f":"IF(ISBLANK(Tabelle1[[#This Row],[SR-Nr]]),\"\",IF(COUNTIF(Aufgebot!$A$7:$A$1000,Tabelle1[[#This Row],[SR-Nr]])>0,TRUE,FALSE))","v":""}]
[null,{"$f":"IF(ISBLANK($A93),\"\",_xlfn.XLOOKUP($A93,'SR-DB'!$C:$C,'SR-DB'!A:A,\"NA\",0))","v":""},{"$f":"IF(ISBLANK($A93),\"\",_xlfn.XLOOKUP($A93,'SR-DB'!$C:$C,'SR-DB'!B:B,\"NA\",0))","v":""},{"$f":"IF(ISBLANK(Tabelle1[[#This Row],[SR-Nr]]),\"\",IF(COUNTIF(Aufgebot!$A$7:$A$1000,Tabelle1[[#This Row],[SR-Nr]])>0,TRUE,FALSE))","v":""}]
[null,{"$f":"IF(ISBLANK($A94),\"\",_xlfn.XLOOKUP($A94,'SR-DB'!$C:$C,'SR-DB'!A:A,\"NA\",0))","v":""},{"$f":"IF(ISBLANK($A94),\"\",_xlfn.XLOOKUP($A94,'SR-DB'!$C:$C,'SR-DB'!B:B,\"NA\",0))","v":""},{"$f":"IF(ISBLANK(Tabelle1[[#This Row],[SR-Nr]]),\"\",IF(COUNTIF(Aufgebot!$A$7:$A$1000,Tabelle1[[#This Row],[SR-Nr]])>0,TRUE,FALSE))","v":""}]
[null,{"$f":"IF(ISBLANK($A95),\"\",_xlfn.XLOOKUP($A95,'SR-DB'!$C:$C,'SR-DB'!A:A,\"NA\",0))","v":""},{"$f":"IF(ISBLANK($A95),\"\",_xlfn.XLOOKUP($A95,'SR-DB'!$C:$C,'SR-DB'!B:B,\"NA\",0))","v":""},{"$f":"IF(ISBLANK(Tabelle1[[#This Row],[SR-Nr]]),\"\",IF(COUNTIF(Aufgebot!$A$7:$A$1000,Tabelle1[[#This Row],[SR-Nr]])>0,TRUE,FALSE))","v":""}]
[null,{"$f":"IF(ISBLANK($A96),\"\",_xlfn.XLOOKUP($A96,'SR-DB'!$C:$C,'SR-DB'!A:A,\"NA\",0))","v":""},{"$f":"IF(ISBLANK($A96),\"\",_xlfn.XLOOKUP($A96,'SR-DB'!$C:$C,'SR-DB'!B:B,\"NA\",0))","v":""},{"$f":"IF(ISBLANK(Tabelle1[[#This Row],[SR-Nr]]),\"\",IF(COUNTIF(Aufgebot!$A$7:$A$1000,Tabelle1[[#This Row],[SR-Nr]])>0,TRUE,FALSE))","v":""}]
[null,{"$f":"IF(ISBLANK($A97),\"\",_xlfn.XLOOKUP($A97,'SR-DB'!$C:$C,'SR-DB'!A:A,\"NA\",0))","v":""},{"$f":"IF(ISBLANK($A97),\"\",_xlfn.XLOOKUP($A97,'SR-DB'!$C:$C,'SR-DB'!B:B,\"NA\",0))","v":""},{"$f":"IF(ISBLANK(Tabelle1[[#This Row],[SR-Nr]]),\"\",IF(COUNTIF(Aufgebot!$A$7:$A$1000,Tabelle1[[#This Row],[SR-Nr]])>0,TRUE,FALSE))","v":""}]
[null,{"$f":"IF(ISBLANK($A98),\"\",_xlfn.XLOOKUP($A98,'SR-DB'!$C:$C,'SR-DB'!A:A,\"NA\",0))","v":""},{"$f":"IF(ISBLANK($A98),\"\",_xlfn.XLOOKUP($A98,'SR-DB'!$C:$C,'SR-DB'!B:B,\"NA\",0))","v":""},{"$f":"IF(ISBLANK(Tabelle1[[#This Row],[SR-Nr]]),\"\",IF(COUNTIF(Aufgebot!$A$7:$A$1000,Tabelle1[[#This Row],[SR-Nr]])>0,TRUE,FALSE))","v":""}]
[null,{"$f":"IF(ISBLANK($A99),\"\",_xlfn.XLOOKUP($A99,'SR-DB'!$C:$C,'SR-DB'!A:A,\"NA\",0))","v":""},{"$f":"IF(ISBLANK($A99),\"\",_xlfn.XLOOKUP($A99,'SR-DB'!$C:$C,'SR-DB'!B:B,\"NA\",0))","v":""},{"$f":"IF(ISBLANK(Tabelle1[[#This Row],[SR-Nr]]),\"\",IF(COUNTIF(Aufgebot!$A$7:$A$1000,Tabelle1[[#This Row],[SR-Nr]])>0,TRUE,FALSE))","v":""}]
[null,{"$f":"IF(ISBLANK($A100),\"\",_xlfn.XLOOKUP($A100,'SR-DB'!$C:$C,'SR-DB'!A:A,\"NA\",0))","v":""},{"$f":"IF(ISBLANK($A100),\"\",_xlfn.XLOOKUP($A100,'SR-DB'!$C:$C,'SR-DB'!B:B,\"NA\",0))","v":""},{"$f":"IF(ISBLANK(Tabelle1[[#This Row],[SR-Nr]]),\"\",IF(COUNTIF(Aufgebot!$A$7:$A$1000,Tabelle1[[#This Row],[SR-Nr]])>0,TRUE,FALSE))","v":""}]
[null,{"$f":"IF(ISBLANK($A101),\"\",_xlfn.XLOOKUP($A101,'SR-DB'!$C:$C,'SR-DB'!A:A,\"NA\",0))","v":""},{"$f":"IF(ISBLANK($A101),\"\",_xlfn.XLOOKUP($A101,'SR-DB'!$C:$C,'SR-DB'!B:B,\"NA\",0))","v":""},{"$f":"IF(ISBLANK(Tabelle1[[#This Row],[SR-Nr]]),\"\",IF(COUNTIF(Aufgebot!$A$7:$A$1000,Tabelle1[[#This Row],[SR-Nr]])>0,TRUE,FALSE))","v":""}]
[null,{"$f":"IF(ISBLANK($A102),\"\",_xlfn.XLOOKUP($A102,'SR-DB'!$C:$C,'SR-DB'!A:A,\"NA\",0))","v":""},{"$f":"IF(ISBLANK($A102),\"\",_xlfn.XLOOKUP($A102,'SR-DB'!$C:$C,'SR-DB'!B:B,\"NA\",0))","v":""},{"$f":"IF(ISBLANK(Tabelle1[[#This Row],[SR-Nr]]),\"\",IF(COUNTIF(Aufgebot!$A$7:$A$1000,Tabelle1[[#This Row],[SR-Nr]])>0,TRUE,FALSE))","v":""}]
[null,{"$f":"IF(ISBLANK($A103),\"\",_xlfn.XLOOKUP($A103,'SR-DB'!$C:$C,'SR-DB'!A:A,\"NA\",0))","v":""},{"$f":"IF(ISBLANK($A103),\"\",_xlfn.XLOOKUP($A103,'SR-DB'!$C:$C,'SR-DB'!B:B,\"NA\",0))","v":""},{"$f":"IF(ISBLANK(Tabelle1[[#This Row],[SR-Nr]]),\"\",IF(COUNTIF(Aufgebot!$A$7:$A$1000,Tabelle1[[#This Row],[SR-Nr]])>0,TRUE,FALSE))","v":""}]
[null,{"$f":"IF(ISBLANK($A104),\"\",_xlfn.XLOOKUP($A104,'SR-DB'!$C:$C,'SR-DB'!A:A,\"NA\",0))","v":""},{"$f":"IF(ISBLANK($A104),\"\",_xlfn.XLOOKUP($A104,'SR-DB'!$C:$C,'SR-DB'!B:B,\"NA\",0))","v":""},{"$f":"IF(ISBLANK(Tabelle1[[#This Row],[SR-Nr]]),\"\",IF(COUNTIF(Aufgebot!$A$7:$A$1000,Tabelle1[[#This Row],[SR-Nr]])>0,TRUE,FALSE))","v":""}]
[null,{"$f":"IF(ISBLANK($A105),\"\",_xlfn.XLOOKUP($A105,'SR-DB'!$C:$C,'SR-DB'!A:A,\"NA\",0))","v":""},{"$f":"IF(ISBLANK($A105),\"\",_xlfn.XLOOKUP($A105,'SR-DB'!$C:$C,'SR-DB'!B:B,\"NA\",0))","v":""},{"$f":"IF(ISBLANK(Tabelle1[[#This Row],[SR-Nr]]),\"\",IF(COUNTIF(Aufgebot!$A$7:$A$1000,Tabelle1[[#This Row],[SR-Nr]])>0,TRUE,FALSE))","v":""}]
[null,{"$f":"IF(ISBLANK($A106),\"\",_xlfn.XLOOKUP($A106,'SR-DB'!$C:$C,'SR-DB'!A:A,\"NA\",0))","v":""},{"$f":"IF(ISBLANK($A106),\"\",_xlfn.XLOOKUP($A106,'SR-DB'!$C:$C,'SR-DB'!B:B,\"NA\",0))","v":""},{"$f":"IF(ISBLANK(Tabelle1[[#This Row],[SR-Nr]]),\"\",IF(COUNTIF(Aufgebot!$A$7:$A$1000,Tabelle1[[#This Row],[SR-Nr]])>0,TRUE,FALSE))","v":""}]
[null,{"$f":"IF(ISBLANK($A107),\"\",_xlfn.XLOOKUP($A107,'SR-DB'!$C:$C,'SR-DB'!A:A,\"NA\",0))","v":""},{"$f":"IF(ISBLANK($A107),\"\",_xlfn.XLOOKUP($A107,'SR-DB'!$C:$C,'SR-DB'!B:B,\"NA\",0))","v":""},{"$f":"IF(ISBLANK(Tabelle1[[#This Row],[SR-Nr]]),\"\",IF(COUNTIF(Aufgebot!$A$7:$A$1000,Tabelle1[[#This Row],[SR-Nr]])>0,TRUE,FALSE))","v":""}]
[null,{"$f":"IF(ISBLANK($A108),\"\",_xlfn.XLOOKUP($A108,'SR-DB'!$C:$C,'SR-DB'!A:A,\"NA\",0))","v":""},{"$f":"IF(ISBLANK($A108),\"\",_xlfn.XLOOKUP($A108,'SR-DB'!$C:$C,'SR-DB'!B:B,\"NA\",0))","v":""},{"$f":"IF(ISBLANK(Tabelle1[[#This Row],[SR-Nr]]),\"\",IF(COUNTIF(Aufgebot!$A$7:$A$1000,Tabelle1[[#This Row],[SR-Nr]])>0,TRUE,FALSE))","v":""}]
[null,{"$f":"IF(ISBLANK($A109),\"\",_xlfn.XLOOKUP($A109,'SR-DB'!$C:$C,'SR-DB'!A:A,\"NA\",0))","v":""},{"$f":"IF(ISBLANK($A109),\"\",_xlfn.XLOOKUP($A109,'SR-DB'!$C:$C,'SR-DB'!B:B,\"NA\",0))","v":""},{"$f":"IF(ISBLANK(Tabelle1[[#This Row],[SR-Nr]]),\"\",IF(COUNTIF(Aufgebot!$A$7:$A$1000,Tabelle1[[#This Row],[SR-Nr]])>0,TRUE,FALSE))","v":""}]
[null,{"$f":"IF(ISBLANK($A110),\"\",_xlfn.XLOOKUP($A110,'SR-DB'!$C:$C,'SR-DB'!A:A,\"NA\",0))","v":""},{"$f":"IF(ISBLANK($A110),\"\",_xlfn.XLOOKUP($A110,'SR-DB'!$C:$C,'SR-DB'!B:B,\"NA\",0))","v":""},{"$f":"IF(ISBLANK(Tabelle1[[#This Row],[SR-Nr]]),\"\",IF(COUNTIF(Aufgebot!$A$7:$A$1000,Tabelle1[[#This Row],[SR-Nr]])>0,TRUE,FALSE))","v":""}]
[null,{"$f":"IF(ISBLANK($A111),\"\",_xlfn.XLOOKUP($A111,'SR-DB'!$C:$C,'SR-DB'!A:A,\"NA\",0))","v":""},{"$f":"IF(ISBLANK($A111),\"\",_xlfn.XLOOKUP($A111,'SR-DB'!$C:$C,'SR-DB'!B:B,\"NA\",0))","v":""},{"$f":"IF(ISBLANK(Tabelle1[[#This Row],[SR-Nr]]),\"\",IF(COUNTIF(Aufgebot!$A$7:$A$1000,Tabelle1[[#This Row],[SR-Nr]])>0,TRUE,FALSE))","v":""}]
[null,{"$f":"IF(ISBLANK($A112),\"\",_xlfn.XLOOKUP($A112,'SR-DB'!$C:$C,'SR-DB'!A:A,\"NA\",0))","v":""},{"$f":"IF(ISBLANK($A112),\"\",_xlfn.XLOOKUP($A112,'SR-DB'!$C:$C,'SR-DB'!B:B,\"NA\",0))","v":""},{"$f":"IF(ISBLANK(Tabelle1[[#This Row],[SR-Nr]]),\"\",IF(COUNTIF(Aufgebot!$A$7:$A$1000,Tabelle1[[#This Row],[SR-Nr]])>0,TRUE,FALSE))","v":""}]
[null,{"$f":"IF(ISBLANK($A113),\"\",_xlfn.XLOOKUP($A113,'SR-DB'!$C:$C,'SR-DB'!A:A,\"NA\",0))","v":""},{"$f":"IF(ISBLANK($A113),\"\",_xlfn.XLOOKUP($A113,'SR-DB'!$C:$C,'SR-DB'!B:B,\"NA\",0))","v":""},{"$f":"IF(ISBLANK(Tabelle1[[#This Row],[SR-Nr]]),\"\",IF(COUNTIF(Aufgebot!$A$7:$A$1000,Tabelle1[[#This Row],[SR-Nr]])>0,TRUE,FALSE))","v":""}]
[null,{"$f":"IF(ISBLANK($A114),\"\",_xlfn.XLOOKUP($A114,'SR-DB'!$C:$C,'SR-DB'!A:A,\"NA\",0))","v":""},{"$f":"IF(ISBLANK($A114),\"\",_xlfn.XLOOKUP($A114,'SR-DB'!$C:$C,'SR-DB'!B:B,\"NA\",0))","v":""},{"$f":"IF(ISBLANK(Tabelle1[[#This Row],[SR-Nr]]),\"\",IF(COUNTIF(Aufgebot!$A$7:$A$1000,Tabelle1[[#This Row],[SR-Nr]])>0,TRUE,FALSE))","v":""}]
[null,{"$f":"IF(ISBLANK($A115),\"\",_xlfn.XLOOKUP($A115,'SR-DB'!$C:$C,'SR-DB'!A:A,\"NA\",0))","v":""},{"$f":"IF(ISBLANK($A115),\"\",_xlfn.XLOOKUP($A115,'SR-DB'!$C:$C,'SR-DB'!B:B,\"NA\",0))","v":""},{"$f":"IF(ISBLANK(Tabelle1[[#This Row],[SR-Nr]]),\"\",IF(COUNTIF(Aufgebot!$A$7:$A$1000,Tabelle1[[#This Row],[SR-Nr]])>0,TRUE,FALSE))","v":""}]
[null,{"$f":"IF(ISBLANK($A116),\"\",_xlfn.XLOOKUP($A116,'SR-DB'!$C:$C,'SR-DB'!A:A,\"NA\",0))","v":""},{"$f":"IF(ISBLANK($A116),\"\",_xlfn.XLOOKUP($A116,'SR-DB'!$C:$C,'SR-DB'!B:B,\"NA\",0))","v":""},{"$f":"IF(ISBLANK(Tabelle1[[#This Row],[SR-Nr]]),\"\",IF(COUNTIF(Aufgebot!$A$7:$A$1000,Tabelle1[[#This Row],[SR-Nr]])>0,TRUE,FALSE))","v":""}]
[null,{"$f":"IF(ISBLANK($A117),\"\",_xlfn.XLOOKUP($A117,'SR-DB'!$C:$C,'SR-DB'!A:A,\"NA\",0))","v":""},{"$f":"IF(ISBLANK($A117),\"\",_xlfn.XLOOKUP($A117,'SR-DB'!$C:$C,'SR-DB'!B:B,\"NA\",0))","v":""},{"$f":"IF(ISBLANK(Tabelle1[[#This Row],[SR-Nr]]),\"\",IF(COUNTIF(Aufgebot!$A$7:$A$1000,Tabelle1[[#This Row],[SR-Nr]])>0,TRUE,FALSE))","v":""}]
[null,{"$f":"IF(ISBLANK($A118),\"\",_xlfn.XLOOKUP($A118,'SR-DB'!$C:$C,'SR-DB'!A:A,\"NA\",0))","v":""},{"$f":"IF(ISBLANK($A118),\"\",_xlfn.XLOOKUP($A118,'SR-DB'!$C:$C,'SR-DB'!B:B,\"NA\",0))","v":""},{"$f":"IF(ISBLANK(Tabelle1[[#This Row],[SR-Nr]]),\"\",IF(COUNTIF(Aufgebot!$A$7:$A$1000,Tabelle1[[#This Row],[SR-Nr]])>0,TRUE,FALSE))","v":""}]
[null,{"$f":"IF(ISBLANK($A119),\"\",_xlfn.XLOOKUP($A119,'SR-DB'!$C:$C,'SR-DB'!A:A,\"NA\",0))","v":""},{"$f":"IF(ISBLANK($A119),\"\",_xlfn.XLOOKUP($A119,'SR-DB'!$C:$C,'SR-DB'!B:B,\"NA\",0))","v":""},{"$f":"IF(ISBLANK(Tabelle1[[#This Row],[SR-Nr]]),\"\",IF(COUNTIF(Aufgebot!$A$7:$A$1000,Tabelle1[[#This Row],[SR-Nr]])>0,TRUE,FALSE))","v":""}]
[null,{"$f":"IF(ISBLANK($A120),\"\",_xlfn.XLOOKUP($A120,'SR-DB'!$C:$C,'SR-DB'!A:A,\"NA\",0))","v":""},{"$f":"IF(ISBLANK($A120),\"\",_xlfn.XLOOKUP($A120,'SR-DB'!$C:$C,'SR-DB'!B:B,\"NA\",0))","v":""},{"$f":"IF(ISBLANK(Tabelle1[[#This Row],[SR-Nr]]),\"\",IF(COUNTIF(Aufgebot!$A$7:$A$1000,Tabelle1[[#This Row],[SR-Nr]])>0,TRUE,FALSE))","v":""}]
[null,{"$f":"IF(ISBLANK($A121),\"\",_xlfn.XLOOKUP($A121,'SR-DB'!$C:$C,'SR-DB'!A:A,\"NA\",0))","v":""},{"$f":"IF(ISBLANK($A121),\"\",_xlfn.XLOOKUP($A121,'SR-DB'!$C:$C,'SR-DB'!B:B,\"NA\",0))","v":""},{"$f":"IF(ISBLANK(Tabelle1[[#This Row],[SR-Nr]]),\"\",IF(COUNTIF(Aufgebot!$A$7:$A$1000,Tabelle1[[#This Row],[SR-Nr]])>0,TRUE,FALSE))","v":""}]
[null,{"$f":"IF(ISBLANK($A122),\"\",_xlfn.XLOOKUP($A122,'SR-DB'!$C:$C,'SR-DB'!A:A,\"NA\",0))","v":""},{"$f":"IF(ISBLANK($A122),\"\",_xlfn.XLOOKUP($A122,'SR-DB'!$C:$C,'SR-DB'!B:B,\"NA\",0))","v":""},{"$f":"IF(ISBLANK(Tabelle1[[#This Row],[SR-Nr]]),\"\",IF(COUNTIF(Aufgebot!$A$7:$A$1000,Tabelle1[[#This Row],[SR-Nr]])>0,TRUE,FALSE))","v":""}]
[null,{"$f":"IF(ISBLANK($A123),\"\",_xlfn.XLOOKUP($A123,'SR-DB'!$C:$C,'SR-DB'!A:A,\"NA\",0))","v":""},{"$f":"IF(ISBLANK($A123),\"\",_xlfn.XLOOKUP($A123,'SR-DB'!$C:$C,'SR-DB'!B:B,\"NA\",0))","v":""},{"$f":"IF(ISBLANK(Tabelle1[[#This Row],[SR-Nr]]),\"\",IF(COUNTIF(Aufgebot!$A$7:$A$1000,Tabelle1[[#This Row],[SR-Nr]])>0,TRUE,FALSE))","v":""}]
[null,{"$f":"IF(ISBLANK($A124),\"\",_xlfn.XLOOKUP($A124,'SR-DB'!$C:$C,'SR-DB'!A:A,\"NA\",0))","v":""},{"$f":"IF(ISBLANK($A124),\"\",_xlfn.XLOOKUP($A124,'SR-DB'!$C:$C,'SR-DB'!B:B,\"NA\",0))","v":""},{"$f":"IF(ISBLANK(Tabelle1[[#This Row],[SR-Nr]]),\"\",IF(COUNTIF(Aufgebot!$A$7:$A$1000,Tabelle1[[#This Row],[SR-Nr]])>0,TRUE,FALSE))","v":""}]
[null,{"$f":"IF(ISBLANK($A125),\"\",_xlfn.XLOOKUP($A125,'SR-DB'!$C:$C,'SR-DB'!A:A,\"NA\",0))","v":""},{"$f":"IF(ISBLANK($A125),\"\",_xlfn.XLOOKUP($A125,'SR-DB'!$C:$C,'SR-DB'!B:B,\"NA\",0))","v":""},{"$f":"IF(ISBLANK(Tabelle1[[#This Row],[SR-Nr]]),\"\",IF(COUNTIF(Aufgebot!$A$7:$A$1000,Tabelle1[[#This Row],[SR-Nr]])>0,TRUE,FALSE))","v":""}]
[null,{"$f":"IF(ISBLANK($A126),\"\",_xlfn.XLOOKUP($A126,'SR-DB'!$C:$C,'SR-DB'!A:A,\"NA\",0))","v":""},{"$f":"IF(ISBLANK($A126),\"\",_xlfn.XLOOKUP($A126,'SR-DB'!$C:$C,'SR-DB'!B:B,\"NA\",0))","v":""},{"$f":"IF(ISBLANK(Tabelle1[[#This Row],[SR-Nr]]),\"\",IF(COUNTIF(Aufgebot!$A$7:$A$1000,Tabelle1[[#This Row],[SR-Nr]])>0,TRUE,FALSE))","v":""}]
[null,{"$f":"IF(ISBLANK($A127),\"\",_xlfn.XLOOKUP($A127,'SR-DB'!$C:$C,'SR-DB'!A:A,\"NA\",0))","v":""},{"$f":"IF(ISBLANK($A127),\"\",_xlfn.XLOOKUP($A127,'SR-DB'!$C:$C,'SR-DB'!B:B,\"NA\",0))","v":""},{"$f":"IF(ISBLANK(Tabelle1[[#This Row],[SR-Nr]]),\"\",IF(COUNTIF(Aufgebot!$A$7:$A$1000,Tabelle1[[#This Row],[SR-Nr]])>0,TRUE,FALSE))","v":""}]
[null,{"$f":"IF(ISBLANK($A128),\"\",_xlfn.XLOOKUP($A128,'SR-DB'!$C:$C,'SR-DB'!A:A,\"NA\",0))","v":""},{"$f":"IF(ISBLANK($A128),\"\",_xlfn.XLOOKUP($A128,'SR-DB'!$C:$C,'SR-DB'!B:B,\"NA\",0))","v":""},{"$f":"IF(ISBLANK(Tabelle1[[#This Row],[SR-Nr]]),\"\",IF(COUNTIF(Aufgebot!$A$7:$A$1000,Tabelle1[[#This Row],[SR-Nr]])>0,TRUE,FALSE))","v":""}]
[null,{"$f":"IF(ISBLANK($A129),\"\",_xlfn.XLOOKUP($A129,'SR-DB'!$C:$C,'SR-DB'!A:A,\"NA\",0))","v":""},{"$f":"IF(ISBLANK($A129),\"\",_xlfn.XLOOKUP($A129,'SR-DB'!$C:$C,'SR-DB'!B:B,\"NA\",0))","v":""},{"$f":"IF(ISBLANK(Tabelle1[[#This Row],[SR-Nr]]),\"\",IF(COUNTIF(Aufgebot!$A$7:$A$1000,Tabelle1[[#This Row],[SR-Nr]])>0,TRUE,FALSE))","v":""}]
[null,{"$f":"IF(ISBLANK($A130),\"\",_xlfn.XLOOKUP($A130,'SR-DB'!$C:$C,'SR-DB'!A:A,\"NA\",0))","v":""},{"$f":"IF(ISBLANK($A130),\"\",_xlfn.XLOOKUP($A130,'SR-DB'!$C:$C,'SR-DB'!B:B,\"NA\",0))","v":""},{"$f":"IF(ISBLANK(Tabelle1[[#This Row],[SR-Nr]]),\"\",IF(COUNTIF(Aufgebot!$A$7:$A$1000,Tabelle1[[#This Row],[SR-Nr]])>0,TRUE,FALSE))","v":""}]
[null,{"$f":"IF(ISBLANK($A131),\"\",_xlfn.XLOOKUP($A131,'SR-DB'!$C:$C,'SR-DB'!A:A,\"NA\",0))","v":""},{"$f":"IF(ISBLANK($A131),\"\",_xlfn.XLOOKUP($A131,'SR-DB'!$C:$C,'SR-DB'!B:B,\"NA\",0))","v":""},{"$f":"IF(ISBLANK(Tabelle1[[#This Row],[SR-Nr]]),\"\",IF(COUNTIF(Aufgebot!$A$7:$A$1000,Tabelle1[[#This Row],[SR-Nr]])>0,TRUE,FALSE))","v":""}]
[null,{"$f":"IF(ISBLANK($A132),\"\",_xlfn.XLOOKUP($A132,'SR-DB'!$C:$C,'SR-DB'!A:A,\"NA\",0))","v":""},{"$f":"IF(ISBLANK($A132),\"\",_xlfn.XLOOKUP($A132,'SR-DB'!$C:$C,'SR-DB'!B:B,\"NA\",0))","v":""},{"$f":"IF(ISBLANK(Tabelle1[[#This Row],[SR-Nr]]),\"\",IF(COUNTIF(Aufgebot!$A$7:$A$1000,Tabelle1[[#This Row],[SR-Nr]])>0,TRUE,FALSE))","v":""}]
[null,{"$f":"IF(ISBLANK($A133),\"\",_xlfn.XLOOKUP($A133,'SR-DB'!$C:$C,'SR-DB'!A:A,\"NA\",0))","v":""},{"$f":"IF(ISBLANK($A133),\"\",_xlfn.XLOOKUP($A133,'SR-DB'!$C:$C,'SR-DB'!B:B,\"NA\",0))","v":""},{"$f":"IF(ISBLANK(Tabelle1[[#This Row],[SR-Nr]]),\"\",IF(COUNTIF(Aufgebot!$A$7:$A$1000,Tabelle1[[#This Row],[SR-Nr]])>0,TRUE,FALSE))","v":""}]
[null,{"$f":"IF(ISBLANK($A134),\"\",_xlfn.XLOOKUP($A134,'SR-DB'!$C:$C,'SR-DB'!A:A,\"NA\",0))","v":""},{"$f":"IF(ISBLANK($A134),\"\",_xlfn.XLOOKUP($A134,'SR-DB'!$C:$C,'SR-DB'!B:B,\"NA\",0))","v":""},{"$f":"IF(ISBLANK(Tabelle1[[#This Row],[SR-Nr]]),\"\",IF(COUNTIF(Aufgebot!$A$7:$A$1000,Tabelle1[[#This Row],[SR-Nr]])>0,TRUE,FALSE))","v":""}]
[null,{"$f":"IF(ISBLANK($A135),\"\",_xlfn.XLOOKUP($A135,'SR-DB'!$C:$C,'SR-DB'!A:A,\"NA\",0))","v":""},{"$f":"IF(ISBLANK($A135),\"\",_xlfn.XLOOKUP($A135,'SR-DB'!$C:$C,'SR-DB'!B:B,\"NA\",0))","v":""},{"$f":"IF(ISBLANK(Tabelle1[[#This Row],[SR-Nr]]),\"\",IF(COUNTIF(Aufgebot!$A$7:$A$1000,Tabelle1[[#This Row],[SR-Nr]])>0,TRUE,FALSE))","v":""}]
[null,{"$f":"IF(ISBLANK($A136),\"\",_xlfn.XLOOKUP($A136,'SR-DB'!$C:$C,'SR-DB'!A:A,\"NA\",0))","v":""},{"$f":"IF(ISBLANK($A136),\"\",_xlfn.XLOOKUP($A136,'SR-DB'!$C:$C,'SR-DB'!B:B,\"NA\",0))","v":""},{"$f":"IF(ISBLANK(Tabelle1[[#This Row],[SR-Nr]]),\"\",IF(COUNTIF(Aufgebot!$A$7:$A$1000,Tabelle1[[#This Row],[SR-Nr]])>0,TRUE,FALSE))","v":""}]
[null,{"$f":"IF(ISBLANK($A137),\"\",_xlfn.XLOOKUP($A137,'SR-DB'!$C:$C,'SR-DB'!A:A,\"NA\",0))","v":""},{"$f":"IF(ISBLANK($A137),\"\",_xlfn.XLOOKUP($A137,'SR-DB'!$C:$C,'SR-DB'!B:B,\"NA\",0))","v":""},{"$f":"IF(ISBLANK(Tabelle1[[#This Row],[SR-Nr]]),\"\",IF(COUNTIF(Aufgebot!$A$7:$A$1000,Tabelle1[[#This Row],[SR-Nr]])>0,TRUE,FALSE))","v":""}]
[null,{"$f":"IF(ISBLANK($A138),\"\",_xlfn.XLOOKUP($A138,'SR-DB'!$C:$C,'SR-DB'!A:A,\"NA\",0))","v":""},{"$f":"IF(ISBLANK($A138),\"\",_xlfn.XLOOKUP($A138,'SR-DB'!$C:$C,'SR-DB'!B:B,\"NA\",0))","v":""},{"$f":"IF(ISBLANK(Tabelle1[[#This Row],[SR-Nr]]),\"\",IF(COUNTIF(Aufgebot!$A$7:$A$1000,Tabelle1[[#This Row],[SR-Nr]])>0,TRUE,FALSE))","v":""}]
[null,{"$f":"IF(ISBLANK($A139),\"\",_xlfn.XLOOKUP($A139,'SR-DB'!$C:$C,'SR-DB'!A:A,\"NA\",0))","v":""},{"$f":"IF(ISBLANK($A139),\"\",_xlfn.XLOOKUP($A139,'SR-DB'!$C:$C,'SR-DB'!B:B,\"NA\",0))","v":""},{"$f":"IF(ISBLANK(Tabelle1[[#This Row],[SR-Nr]]),\"\",IF(COUNTIF(Aufgebot!$A$7:$A$1000,Tabelle1[[#This Row],[SR-Nr]])>0,TRUE,FALSE))","v":""}]
[null,{"$f":"IF(ISBLANK($A140),\"\",_xlfn.XLOOKUP($A140,'SR-DB'!$C:$C,'SR-DB'!A:A,\"NA\",0))","v":""},{"$f":"IF(ISBLANK($A140),\"\",_xlfn.XLOOKUP($A140,'SR-DB'!$C:$C,'SR-DB'!B:B,\"NA\",0))","v":""},{"$f":"IF(ISBLANK(Tabelle1[[#This Row],[SR-Nr]]),\"\",IF(COUNTIF(Aufgebot!$A$7:$A$1000,Tabelle1[[#This Row],[SR-Nr]])>0,TRUE,FALSE))","v":""}]
[null,{"$f":"IF(ISBLANK($A141),\"\",_xlfn.XLOOKUP($A141,'SR-DB'!$C:$C,'SR-DB'!A:A,\"NA\",0))","v":""},{"$f":"IF(ISBLANK($A141),\"\",_xlfn.XLOOKUP($A141,'SR-DB'!$C:$C,'SR-DB'!B:B,\"NA\",0))","v":""},{"$f":"IF(ISBLANK(Tabelle1[[#This Row],[SR-Nr]]),\"\",IF(COUNTIF(Aufgebot!$A$7:$A$1000,Tabelle1[[#This Row],[SR-Nr]])>0,TRUE,FALSE))","v":""}]
[null,{"$f":"IF(ISBLANK($A142),\"\",_xlfn.XLOOKUP($A142,'SR-DB'!$C:$C,'SR-DB'!A:A,\"NA\",0))","v":""},{"$f":"IF(ISBLANK($A142),\"\",_xlfn.XLOOKUP($A142,'SR-DB'!$C:$C,'SR-DB'!B:B,\"NA\",0))","v":""},{"$f":"IF(ISBLANK(Tabelle1[[#This Row],[SR-Nr]]),\"\",IF(COUNTIF(Aufgebot!$A$7:$A$1000,Tabelle1[[#This Row],[SR-Nr]])>0,TRUE,FALSE))","v":""}]
[null,{"$f":"IF(ISBLANK($A143),\"\",_xlfn.XLOOKUP($A143,'SR-DB'!$C:$C,'SR-DB'!A:A,\"NA\",0))","v":""},{"$f":"IF(ISBLANK($A143),\"\",_xlfn.XLOOKUP($A143,'SR-DB'!$C:$C,'SR-DB'!B:B,\"NA\",0))","v":""},{"$f":"IF(ISBLANK(Tabelle1[[#This Row],[SR-Nr]]),\"\",IF(COUNTIF(Aufgebot!$A$7:$A$1000,Tabelle1[[#This Row],[SR-Nr]])>0,TRUE,FALSE))","v":""}]
[null,{"$f":"IF(ISBLANK($A144),\"\",_xlfn.XLOOKUP($A144,'SR-DB'!$C:$C,'SR-DB'!A:A,\"NA\",0))","v":""},{"$f":"IF(ISBLANK($A144),\"\",_xlfn.XLOOKUP($A144,'SR-DB'!$C:$C,'SR-DB'!B:B,\"NA\",0))","v":""},{"$f":"IF(ISBLANK(Tabelle1[[#This Row],[SR-Nr]]),\"\",IF(COUNTIF(Aufgebot!$A$7:$A$1000,Tabelle1[[#This Row],[SR-Nr]])>0,TRUE,FALSE))","v":""}]
[null,{"$f":"IF(ISBLANK($A145),\"\",_xlfn.XLOOKUP($A145,'SR-DB'!$C:$C,'SR-DB'!A:A,\"NA\",0))","v":""},{"$f":"IF(ISBLANK($A145),\"\",_xlfn.XLOOKUP($A145,'SR-DB'!$C:$C,'SR-DB'!B:B,\"NA\",0))","v":""},{"$f":"IF(ISBLANK(Tabelle1[[#This Row],[SR-Nr]]),\"\",IF(COUNTIF(Aufgebot!$A$7:$A$1000,Tabelle1[[#This Row],[SR-Nr]])>0,TRUE,FALSE))","v":""}]
[null,{"$f":"IF(ISBLANK($A146),\"\",_xlfn.XLOOKUP($A146,'SR-DB'!$C:$C,'SR-DB'!A:A,\"NA\",0))","v":""},{"$f":"IF(ISBLANK($A146),\"\",_xlfn.XLOOKUP($A146,'SR-DB'!$C:$C,'SR-DB'!B:B,\"NA\",0))","v":""},{"$f":"IF(ISBLANK(Tabelle1[[#This Row],[SR-Nr]]),\"\",IF(COUNTIF(Aufgebot!$A$7:$A$1000,Tabelle1[[#This Row],[SR-Nr]])>0,TRUE,FALSE))","v":""}]
[null,{"$f":"IF(ISBLANK($A147),\"\",_xlfn.XLOOKUP($A147,'SR-DB'!$C:$C,'SR-DB'!A:A,\"NA\",0))","v":""},{"$f":"IF(ISBLANK($A147),\"\",_xlfn.XLOOKUP($A147,'SR-DB'!$C:$C,'SR-DB'!B:B,\"NA\",0))","v":""},{"$f":"IF(ISBLANK(Tabelle1[[#This Row],[SR-Nr]]),\"\",IF(COUNTIF(Aufgebot!$A$7:$A$1000,Tabelle1[[#This Row],[SR-Nr]])>0,TRUE,FALSE))","v":""}]
[null,{"$f":"IF(ISBLANK($A148),\"\",_xlfn.XLOOKUP($A148,'SR-DB'!$C:$C,'SR-DB'!A:A,\"NA\",0))","v":""},{"$f":"IF(ISBLANK($A148),\"\",_xlfn.XLOOKUP($A148,'SR-DB'!$C:$C,'SR-DB'!B:B,\"NA\",0))","v":""},{"$f":"IF(ISBLANK(Tabelle1[[#This Row],[SR-Nr]]),\"\",IF(COUNTIF(Aufgebot!$A$7:$A$1000,Tabelle1[[#This Row],[SR-Nr]])>0,TRUE,FALSE))","v":""}]
[null,{"$f":"IF(ISBLANK($A149),\"\",_xlfn.XLOOKUP($A149,'SR-DB'!$C:$C,'SR-DB'!A:A,\"NA\",0))","v":""},{"$f":"IF(ISBLANK($A149),\"\",_xlfn.XLOOKUP($A149,'SR-DB'!$C:$C,'SR-DB'!B:B,\"NA\",0))","v":""},{"$f":"IF(ISBLANK(Tabelle1[[#This Row],[SR-Nr]]),\"\",IF(COUNTIF(Aufgebot!$A$7:$A$1000,Tabelle1[[#This Row],[SR-Nr]])>0,TRUE,FALSE))","v":""}]
[null,{"$f":"IF(ISBLANK($A150),\"\",_xlfn.XLOOKUP($A150,'SR-DB'!$C:$C,'SR-DB'!A:A,\"NA\",0))","v":""},{"$f":"IF(ISBLANK($A150),\"\",_xlfn.XLOOKUP($A150,'SR-DB'!$C:$C,'SR-DB'!B:B,\"NA\",0))","v":""},{"$f":"IF(ISBLANK(Tabelle1[[#This Row],[SR-Nr]]),\"\",IF(COUNTIF(Aufgebot!$A$7:$A$1000,Tabelle1[[#This Row],[SR-Nr]])>0,TRUE,FALSE))","v":""}]
[null,{"$f":"IF(ISBLANK($A151),\"\",_xlfn.XLOOKUP($A151,'SR-DB'!$C:$C,'SR-DB'!A:A,\"NA\",0))","v":""},{"$f":"IF(ISBLANK($A151),\"\",_xlfn.XLOOKUP($A151,'SR-DB'!$C:$C,'SR-DB'!B:B,\"NA\",0))","v":""},{"$f":"IF(ISBLANK(Tabelle1[[#This Row],[SR-Nr]]),\"\",IF(COUNTIF(Aufgebot!$A$7:$A$1000,Tabelle1[[#This Row],[SR-Nr]])>0,TRUE,FALSE))","v":""}]
[null,{"$f":"IF(ISBLANK($A152),\"\",_xlfn.XLOOKUP($A152,'SR-DB'!$C:$C,'SR-DB'!A:A,\"NA\",0))","v":""},{"$f":"IF(ISBLANK($A152),\"\",_xlfn.XLOOKUP($A152,'SR-DB'!$C:$C,'SR-DB'!B:B,\"NA\",0))","v":""},{"$f":"IF(ISBLANK(Tabelle1[[#This Row],[SR-Nr]]),\"\",IF(COUNTIF(Aufgebot!$A$7:$A$1000,Tabelle1[[#This Row],[SR-Nr]])>0,TRUE,FALSE))","v":""}]
[null,{"$f":"IF(ISBLANK($A153),\"\",_xlfn.XLOOKUP($A153,'SR-DB'!$C:$C,'SR-DB'!A:A,\"NA\",0))","v":""},{"$f":"IF(ISBLANK($A153),\"\",_xlfn.XLOOKUP($A153,'SR-DB'!$C:$C,'SR-DB'!B:B,\"NA\",0))","v":""},{"$f":"IF(ISBLANK(Tabelle1[[#This Row],[SR-Nr]]),\"\",IF(COUNTIF(Aufgebot!$A$7:$A$1000,Tabelle1[[#This Row],[SR-Nr]])>0,TRUE,FALSE))","v":""}]
[null,{"$f":"IF(ISBLANK($A154),\"\",_xlfn.XLOOKUP($A154,'SR-DB'!$C:$C,'SR-DB'!A:A,\"NA\",0))","v":""},{"$f":"IF(ISBLANK($A154),\"\",_xlfn.XLOOKUP($A154,'SR-DB'!$C:$C,'SR-DB'!B:B,\"NA\",0))","v":""},{"$f":"IF(ISBLANK(Tabelle1[[#This Row],[SR-Nr]]),\"\",IF(COUNTIF(Aufgebot!$A$7:$A$1000,Tabelle1[[#This Row],[SR-Nr]])>0,TRUE,FALSE))","v":""}]
[null,{"$f":"IF(ISBLANK($A155),\"\",_xlfn.XLOOKUP($A155,'SR-DB'!$C:$C,'SR-DB'!A:A,\"NA\",0))","v":""},{"$f":"IF(ISBLANK($A155),\"\",_xlfn.XLOOKUP($A155,'SR-DB'!$C:$C,'SR-DB'!B:B,\"NA\",0))","v":""},{"$f":"IF(ISBLANK(Tabelle1[[#This Row],[SR-Nr]]),\"\",IF(COUNTIF(Aufgebot!$A$7:$A$1000,Tabelle1[[#This Row],[SR-Nr]])>0,TRUE,FALSE))","v":""}]
[null,{"$f":"IF(ISBLANK($A156),\"\",_xlfn.XLOOKUP($A156,'SR-DB'!$C:$C,'SR-DB'!A:A,\"NA\",0))","v":""},{"$f":"IF(ISBLANK($A156),\"\",_xlfn.XLOOKUP($A156,'SR-DB'!$C:$C,'SR-DB'!B:B,\"NA\",0))","v":""},{"$f":"IF(ISBLANK(Tabelle1[[#This Row],[SR-Nr]]),\"\",IF(COUNTIF(Aufgebot!$A$7:$A$1000,Tabelle1[[#This Row],[SR-Nr]])>0,TRUE,FALSE))","v":""}]
[null,{"$f":"IF(ISBLANK($A157),\"\",_xlfn.XLOOKUP($A157,'SR-DB'!$C:$C,'SR-DB'!A:A,\"NA\",0))","v":""},{"$f":"IF(ISBLANK($A157),\"\",_xlfn.XLOOKUP($A157,'SR-DB'!$C:$C,'SR-DB'!B:B,\"NA\",0))","v":""},{"$f":"IF(ISBLANK(Tabelle1[[#This Row],[SR-Nr]]),\"\",IF(COUNTIF(Aufgebot!$A$7:$A$1000,Tabelle1[[#This Row],[SR-Nr]])>0,TRUE,FALSE))","v":""}]
[null,{"$f":"IF(ISBLANK($A158),\"\",_xlfn.XLOOKUP($A158,'SR-DB'!$C:$C,'SR-DB'!A:A,\"NA\",0))","v":""},{"$f":"IF(ISBLANK($A158),\"\",_xlfn.XLOOKUP($A158,'SR-DB'!$C:$C,'SR-DB'!B:B,\"NA\",0))","v":""},{"$f":"IF(ISBLANK(Tabelle1[[#This Row],[SR-Nr]]),\"\",IF(COUNTIF(Aufgebot!$A$7:$A$1000,Tabelle1[[#This Row],[SR-Nr]])>0,TRUE,FALSE))","v":""}]
[null,{"$f":"IF(ISBLANK($A159),\"\",_xlfn.XLOOKUP($A159,'SR-DB'!$C:$C,'SR-DB'!A:A,\"NA\",0))","v":""},{"$f":"IF(ISBLANK($A159),\"\",_xlfn.XLOOKUP($A159,'SR-DB'!$C:$C,'SR-DB'!B:B,\"NA\",0))","v":""},{"$f":"IF(ISBLANK(Tabelle1[[#This Row],[SR-Nr]]),\"\",IF(COUNTIF(Aufgebot!$A$7:$A$1000,Tabelle1[[#This Row],[SR-Nr]])>0,TRUE,FALSE))","v":""}]
[null,{"$f":"IF(ISBLANK($A160),\"\",_xlfn.XLOOKUP($A160,'SR-DB'!$C:$C,'SR-DB'!A:A,\"NA\",0))","v":""},{"$f":"IF(ISBLANK($A160),\"\",_xlfn.XLOOKUP($A160,'SR-DB'!$C:$C,'SR-DB'!B:B,\"NA\",0))","v":""},{"$f":"IF(ISBLANK(Tabelle1[[#This Row],[SR-Nr]]),\"\",IF(COUNTIF(Aufgebot!$A$7:$A$1000,Tabelle1[[#This Row],[SR-Nr]])>0,TRUE,FALSE))","v":""}]
[null,{"$f":"IF(ISBLANK($A161),\"\",_xlfn.XLOOKUP($A161,'SR-DB'!$C:$C,'SR-DB'!A:A,\"NA\",0))","v":""},{"$f":"IF(ISBLANK($A161),\"\",_xlfn.XLOOKUP($A161,'SR-DB'!$C:$C,'SR-DB'!B:B,\"NA\",0))","v":""},{"$f":"IF(ISBLANK(Tabelle1[[#This Row],[SR-Nr]]),\"\",IF(COUNTIF(Aufgebot!$A$7:$A$1000,Tabelle1[[#This Row],[SR-Nr]])>0,TRUE,FALSE))","v":""}]
[null,{"$f":"IF(ISBLANK($A162),\"\",_xlfn.XLOOKUP($A162,'SR-DB'!$C:$C,'SR-DB'!A:A,\"NA\",0))","v":""},{"$f":"IF(ISBLANK($A162),\"\",_xlfn.XLOOKUP($A162,'SR-DB'!$C:$C,'SR-DB'!B:B,\"NA\",0))","v":""},{"$f":"IF(ISBLANK(Tabelle1[[#This Row],[SR-Nr]]),\"\",IF(COUNTIF(Aufgebot!$A$7:$A$1000,Tabelle1[[#This Row],[SR-Nr]])>0,TRUE,FALSE))","v":""}]
[null,{"$f":"IF(ISBLANK($A163),\"\",_xlfn.XLOOKUP($A163,'SR-DB'!$C:$C,'SR-DB'!A:A,\"NA\",0))","v":""},{"$f":"IF(ISBLANK($A163),\"\",_xlfn.XLOOKUP($A163,'SR-DB'!$C:$C,'SR-DB'!B:B,\"NA\",0))","v":""},{"$f":"IF(ISBLANK(Tabelle1[[#This Row],[SR-Nr]]),\"\",IF(COUNTIF(Aufgebot!$A$7:$A$1000,Tabelle1[[#This Row],[SR-Nr]])>0,TRUE,FALSE))","v":""}]
[null,{"$f":"IF(ISBLANK($A164),\"\",_xlfn.XLOOKUP($A164,'SR-DB'!$C:$C,'SR-DB'!A:A,\"NA\",0))","v":""},{"$f":"IF(ISBLANK($A164),\"\",_xlfn.XLOOKUP($A164,'SR-DB'!$C:$C,'SR-DB'!B:B,\"NA\",0))","v":""},{"$f":"IF(ISBLANK(Tabelle1[[#This Row],[SR-Nr]]),\"\",IF(COUNTIF(Aufgebot!$A$7:$A$1000,Tabelle1[[#This Row],[SR-Nr]])>0,TRUE,FALSE))","v":""}]
[null,{"$f":"IF(ISBLANK($A165),\"\",_xlfn.XLOOKUP($A165,'SR-DB'!$C:$C,'SR-DB'!A:A,\"NA\",0))","v":""},{"$f":"IF(ISBLANK($A165),\"\",_xlfn.XLOOKUP($A165,'SR-DB'!$C:$C,'SR-DB'!B:B,\"NA\",0))","v":""},{"$f":"IF(ISBLANK(Tabelle1[[#This Row],[SR-Nr]]),\"\",IF(COUNTIF(Aufgebot!$A$7:$A$1000,Tabelle1[[#This Row],[SR-Nr]])>0,TRUE,FALSE))","v":""}]
[null,{"$f":"IF(ISBLANK($A166),\"\",_xlfn.XLOOKUP($A166,'SR-DB'!$C:$C,'SR-DB'!A:A,\"NA\",0))","v":""},{"$f":"IF(ISBLANK($A166),\"\",_xlfn.XLOOKUP($A166,'SR-DB'!$C:$C,'SR-DB'!B:B,\"NA\",0))","v":""},{"$f":"IF(ISBLANK(Tabelle1[[#This Row],[SR-Nr]]),\"\",IF(COUNTIF(Aufgebot!$A$7:$A$1000,Tabelle1[[#This Row],[SR-Nr]])>0,TRUE,FALSE))","v":""}]
[null,{"$f":"IF(ISBLANK($A167),\"\",_xlfn.XLOOKUP($A167,'SR-DB'!$C:$C,'SR-DB'!A:A,\"NA\",0))","v":""},{"$f":"IF(ISBLANK($A167),\"\",_xlfn.XLOOKUP($A167,'SR-DB'!$C:$C,'SR-DB'!B:B,\"NA\",0))","v":""},{"$f":"IF(ISBLANK(Tabelle1[[#This Row],[SR-Nr]]),\"\",IF(COUNTIF(Aufgebot!$A$7:$A$1000,Tabelle1[[#This Row],[SR-Nr]])>0,TRUE,FALSE))","v":""}]
[null,{"$f":"IF(ISBLANK($A168),\"\",_xlfn.XLOOKUP($A168,'SR-DB'!$C:$C,'SR-DB'!A:A,\"NA\",0))","v":""},{"$f":"IF(ISBLANK($A168),\"\",_xlfn.XLOOKUP($A168,'SR-DB'!$C:$C,'SR-DB'!B:B,\"NA\",0))","v":""},{"$f":"IF(ISBLANK(Tabelle1[[#This Row],[SR-Nr]]),\"\",IF(COUNTIF(Aufgebot!$A$7:$A$1000,Tabelle1[[#This Row],[SR-Nr]])>0,TRUE,FALSE))","v":""}]
[null,{"$f":"IF(ISBLANK($A169),\"\",_xlfn.XLOOKUP($A169,'SR-DB'!$C:$C,'SR-DB'!A:A,\"NA\",0))","v":""},{"$f":"IF(ISBLANK($A169),\"\",_xlfn.XLOOKUP($A169,'SR-DB'!$C:$C,'SR-DB'!B:B,\"NA\",0))","v":""},{"$f":"IF(ISBLANK(Tabelle1[[#This Row],[SR-Nr]]),\"\",IF(COUNTIF(Aufgebot!$A$7:$A$1000,Tabelle1[[#This Row],[SR-Nr]])>0,TRUE,FALSE))","v":""}]
[null,{"$f":"IF(ISBLANK($A170),\"\",_xlfn.XLOOKUP($A170,'SR-DB'!$C:$C,'SR-DB'!A:A,\"NA\",0))","v":""},{"$f":"IF(ISBLANK($A170),\"\",_xlfn.XLOOKUP($A170,'SR-DB'!$C:$C,'SR-DB'!B:B,\"NA\",0))","v":""},{"$f":"IF(ISBLANK(Tabelle1[[#This Row],[SR-Nr]]),\"\",IF(COUNTIF(Aufgebot!$A$7:$A$1000,Tabelle1[[#This Row],[SR-Nr]])>0,TRUE,FALSE))","v":""}]
[null,{"$f":"IF(ISBLANK($A171),\"\",_xlfn.XLOOKUP($A171,'SR-DB'!$C:$C,'SR-DB'!A:A,\"NA\",0))","v":""},{"$f":"IF(ISBLANK($A171),\"\",_xlfn.XLOOKUP($A171,'SR-DB'!$C:$C,'SR-DB'!B:B,\"NA\",0))","v":""},{"$f":"IF(ISBLANK(Tabelle1[[#This Row],[SR-Nr]]),\"\",IF(COUNTIF(Aufgebot!$A$7:$A$1000,Tabelle1[[#This Row],[SR-Nr]])>0,TRUE,FALSE))","v":""}]
[null,{"$f":"IF(ISBLANK($A172),\"\",_xlfn.XLOOKUP($A172,'SR-DB'!$C:$C,'SR-DB'!A:A,\"NA\",0))","v":""},{"$f":"IF(ISBLANK($A172),\"\",_xlfn.XLOOKUP($A172,'SR-DB'!$C:$C,'SR-DB'!B:B,\"NA\",0))","v":""},{"$f":"IF(ISBLANK(Tabelle1[[#This Row],[SR-Nr]]),\"\",IF(COUNTIF(Aufgebot!$A$7:$A$1000,Tabelle1[[#This Row],[SR-Nr]])>0,TRUE,FALSE))","v":""}]
[null,{"$f":"IF(ISBLANK($A173),\"\",_xlfn.XLOOKUP($A173,'SR-DB'!$C:$C,'SR-DB'!A:A,\"NA\",0))","v":""},{"$f":"IF(ISBLANK($A173),\"\",_xlfn.XLOOKUP($A173,'SR-DB'!$C:$C,'SR-DB'!B:B,\"NA\",0))","v":""},{"$f":"IF(ISBLANK(Tabelle1[[#This Row],[SR-Nr]]),\"\",IF(COUNTIF(Aufgebot!$A$7:$A$1000,Tabelle1[[#This Row],[SR-Nr]])>0,TRUE,FALSE))","v":""}]
[null,{"$f":"IF(ISBLANK($A174),\"\",_xlfn.XLOOKUP($A174,'SR-DB'!$C:$C,'SR-DB'!A:A,\"NA\",0))","v":""},{"$f":"IF(ISBLANK($A174),\"\",_xlfn.XLOOKUP($A174,'SR-DB'!$C:$C,'SR-DB'!B:B,\"NA\",0))","v":""},{"$f":"IF(ISBLANK(Tabelle1[[#This Row],[SR-Nr]]),\"\",IF(COUNTIF(Aufgebot!$A$7:$A$1000,Tabelle1[[#This Row],[SR-Nr]])>0,TRUE,FALSE))","v":""}]
[null,{"$f":"IF(ISBLANK($A175),\"\",_xlfn.XLOOKUP($A175,'SR-DB'!$C:$C,'SR-DB'!A:A,\"NA\",0))","v":""},{"$f":"IF(ISBLANK($A175),\"\",_xlfn.XLOOKUP($A175,'SR-DB'!$C:$C,'SR-DB'!B:B,\"NA\",0))","v":""},{"$f":"IF(ISBLANK(Tabelle1[[#This Row],[SR-Nr]]),\"\",IF(COUNTIF(Aufgebot!$A$7:$A$1000,Tabelle1[[#This Row],[SR-Nr]])>0,TRUE,FALSE))","v":""}]
[null,{"$f":"IF(ISBLANK($A176),\"\",_xlfn.XLOOKUP($A176,'SR-DB'!$C:$C,'SR-DB'!A:A,\"NA\",0))","v":""},{"$f":"IF(ISBLANK($A176),\"\",_xlfn.XLOOKUP($A176,'SR-DB'!$C:$C,'SR-DB'!B:B,\"NA\",0))","v":""},{"$f":"IF(ISBLANK(Tabelle1[[#This Row],[SR-Nr]]),\"\",IF(COUNTIF(Aufgebot!$A$7:$A$1000,Tabelle1[[#This Row],[SR-Nr]])>0,TRUE,FALSE))","v":""}]
[null,{"$f":"IF(ISBLANK($A177),\"\",_xlfn.XLOOKUP($A177,'SR-DB'!$C:$C,'SR-DB'!A:A,\"NA\",0))","v":""},{"$f":"IF(ISBLANK($A177),\"\",_xlfn.XLOOKUP($A177,'SR-DB'!$C:$C,'SR-DB'!B:B,\"NA\",0))","v":""},{"$f":"IF(ISBLANK(Tabelle1[[#This Row],[SR-Nr]]),\"\",IF(COUNTIF(Aufgebot!$A$7:$A$1000,Tabelle1[[#This Row],[SR-Nr]])>0,TRUE,FALSE))","v":""}]
[null,{"$f":"IF(ISBLANK($A178),\"\",_xlfn.XLOOKUP($A178,'SR-DB'!$C:$C,'SR-DB'!A:A,\"NA\",0))","v":""},{"$f":"IF(ISBLANK($A178),\"\",_xlfn.XLOOKUP($A178,'SR-DB'!$C:$C,'SR-DB'!B:B,\"NA\",0))","v":""},{"$f":"IF(ISBLANK(Tabelle1[[#This Row],[SR-Nr]]),\"\",IF(COUNTIF(Aufgebot!$A$7:$A$1000,Tabelle1[[#This Row],[SR-Nr]])>0,TRUE,FALSE))","v":""}]
[null,{"$f":"IF(ISBLANK($A179),\"\",_xlfn.XLOOKUP($A179,'SR-DB'!$C:$C,'SR-DB'!A:A,\"NA\",0))","v":""},{"$f":"IF(ISBLANK($A179),\"\",_xlfn.XLOOKUP($A179,'SR-DB'!$C:$C,'SR-DB'!B:B,\"NA\",0))","v":""},{"$f":"IF(ISBLANK(Tabelle1[[#This Row],[SR-Nr]]),\"\",IF(COUNTIF(Aufgebot!$A$7:$A$1000,Tabelle1[[#This Row],[SR-Nr]])>0,TRUE,FALSE))","v":""}]
[null,{"$f":"IF(ISBLANK($A180),\"\",_xlfn.XLOOKUP($A180,'SR-DB'!$C:$C,'SR-DB'!A:A,\"NA\",0))","v":""},{"$f":"IF(ISBLANK($A180),\"\",_xlfn.XLOOKUP($A180,'SR-DB'!$C:$C,'SR-DB'!B:B,\"NA\",0))","v":""},{"$f":"IF(ISBLANK(Tabelle1[[#This Row],[SR-Nr]]),\"\",IF(COUNTIF(Aufgebot!$A$7:$A$1000,Tabelle1[[#This Row],[SR-Nr]])>0,TRUE,FALSE))","v":""}]
[null,{"$f":"IF(ISBLANK($A181),\"\",_xlfn.XLOOKUP($A181,'SR-DB'!$C:$C,'SR-DB'!A:A,\"NA\",0))","v":""},{"$f":"IF(ISBLANK($A181),\"\",_xlfn.XLOOKUP($A181,'SR-DB'!$C:$C,'SR-DB'!B:B,\"NA\",0))","v":""},{"$f":"IF(ISBLANK(Tabelle1[[#This Row],[SR-Nr]]),\"\",IF(COUNTIF(Aufgebot!$A$7:$A$1000,Tabelle1[[#This Row],[SR-Nr]])>0,TRUE,FALSE))","v":""}]
[null,{"$f":"IF(ISBLANK($A182),\"\",_xlfn.XLOOKUP($A182,'SR-DB'!$C:$C,'SR-DB'!A:A,\"NA\",0))","v":""},{"$f":"IF(ISBLANK($A182),\"\",_xlfn.XLOOKUP($A182,'SR-DB'!$C:$C,'SR-DB'!B:B,\"NA\",0))","v":""},{"$f":"IF(ISBLANK(Tabelle1[[#This Row],[SR-Nr]]),\"\",IF(COUNTIF(Aufgebot!$A$7:$A$1000,Tabelle1[[#This Row],[SR-Nr]])>0,TRUE,FALSE))","v":""}]
[null,{"$f":"IF(ISBLANK($A183),\"\",_xlfn.XLOOKUP($A183,'SR-DB'!$C:$C,'SR-DB'!A:A,\"NA\",0))","v":""},{"$f":"IF(ISBLANK($A183),\"\",_xlfn.XLOOKUP($A183,'SR-DB'!$C:$C,'SR-DB'!B:B,\"NA\",0))","v":""},{"$f":"IF(ISBLANK(Tabelle1[[#This Row],[SR-Nr]]),\"\",IF(COUNTIF(Aufgebot!$A$7:$A$1000,Tabelle1[[#This Row],[SR-Nr]])>0,TRUE,FALSE))","v":""}]
[null,{"$f":"IF(ISBLANK($A184),\"\",_xlfn.XLOOKUP($A184,'SR-DB'!$C:$C,'SR-DB'!A:A,\"NA\",0))","v":""},{"$f":"IF(ISBLANK($A184),\"\",_xlfn.XLOOKUP($A184,'SR-DB'!$C:$C,'SR-DB'!B:B,\"NA\",0))","v":""},{"$f":"IF(ISBLANK(Tabelle1[[#This Row],[SR-Nr]]),\"\",IF(COUNTIF(Aufgebot!$A$7:$A$1000,Tabelle1[[#This Row],[SR-Nr]])>0,TRUE,FALSE))","v":""}]
[null,{"$f":"IF(ISBLANK($A185),\"\",_xlfn.XLOOKUP($A185,'SR-DB'!$C:$C,'SR-DB'!A:A,\"NA\",0))","v":""},{"$f":"IF(ISBLANK($A185),\"\",_xlfn.XLOOKUP($A185,'SR-DB'!$C:$C,'SR-DB'!B:B,\"NA\",0))","v":""},{"$f":"IF(ISBLANK(Tabelle1[[#This Row],[SR-Nr]]),\"\",IF(COUNTIF(Aufgebot!$A$7:$A$1000,Tabelle1[[#This Row],[SR-Nr]])>0,TRUE,FALSE))","v":""}]
[null,{"$f":"IF(ISBLANK($A186),\"\",_xlfn.XLOOKUP($A186,'SR-DB'!$C:$C,'SR-DB'!A:A,\"NA\",0))","v":""},{"$f":"IF(ISBLANK($A186),\"\",_xlfn.XLOOKUP($A186,'SR-DB'!$C:$C,'SR-DB'!B:B,\"NA\",0))","v":""},{"$f":"IF(ISBLANK(Tabelle1[[#This Row],[SR-Nr]]),\"\",IF(COUNTIF(Aufgebot!$A$7:$A$1000,Tabelle1[[#This Row],[SR-Nr]])>0,TRUE,FALSE))","v":""}]
[null,{"$f":"IF(ISBLANK($A187),\"\",_xlfn.XLOOKUP($A187,'SR-DB'!$C:$C,'SR-DB'!A:A,\"NA\",0))","v":""},{"$f":"IF(ISBLANK($A187),\"\",_xlfn.XLOOKUP($A187,'SR-DB'!$C:$C,'SR-DB'!B:B,\"NA\",0))","v":""},{"$f":"IF(ISBLANK(Tabelle1[[#This Row],[SR-Nr]]),\"\",IF(COUNTIF(Aufgebot!$A$7:$A$1000,Tabelle1[[#This Row],[SR-Nr]])>0,TRUE,FALSE))","v":""}]
[null,{"$f":"IF(ISBLANK($A188),\"\",_xlfn.XLOOKUP($A188,'SR-DB'!$C:$C,'SR-DB'!A:A,\"NA\",0))","v":""},{"$f":"IF(ISBLANK($A188),\"\",_xlfn.XLOOKUP($A188,'SR-DB'!$C:$C,'SR-DB'!B:B,\"NA\",0))","v":""},{"$f":"IF(ISBLANK(Tabelle1[[#This Row],[SR-Nr]]),\"\",IF(COUNTIF(Aufgebot!$A$7:$A$1000,Tabelle1[[#This Row],[SR-Nr]])>0,TRUE,FALSE))","v":""}]
[null,{"$f":"IF(ISBLANK($A189),\"\",_xlfn.XLOOKUP($A189,'SR-DB'!$C:$C,'SR-DB'!A:A,\"NA\",0))","v":""},{"$f":"IF(ISBLANK($A189),\"\",_xlfn.XLOOKUP($A189,'SR-DB'!$C:$C,'SR-DB'!B:B,\"NA\",0))","v":""},{"$f":"IF(ISBLANK(Tabelle1[[#This Row],[SR-Nr]]),\"\",IF(COUNTIF(Aufgebot!$A$7:$A$1000,Tabelle1[[#This Row],[SR-Nr]])>0,TRUE,FALSE))","v":""}]
[null,{"$f":"IF(ISBLANK($A190),\"\",_xlfn.XLOOKUP($A190,'SR-DB'!$C:$C,'SR-DB'!A:A,\"NA\",0))","v":""},{"$f":"IF(ISBLANK($A190),\"\",_xlfn.XLOOKUP($A190,'SR-DB'!$C:$C,'SR-DB'!B:B,\"NA\",0))","v":""},{"$f":"IF(ISBLANK(Tabelle1[[#This Row],[SR-Nr]]),\"\",IF(COUNTIF(Aufgebot!$A$7:$A$1000,Tabelle1[[#This Row],[SR-Nr]])>0,TRUE,FALSE))","v":""}]
[null,{"$f":"IF(ISBLANK($A191),\"\",_xlfn.XLOOKUP($A191,'SR-DB'!$C:$C,'SR-DB'!A:A,\"NA\",0))","v":""},{"$f":"IF(ISBLANK($A191),\"\",_xlfn.XLOOKUP($A191,'SR-DB'!$C:$C,'SR-DB'!B:B,\"NA\",0))","v":""},{"$f":"IF(ISBLANK(Tabelle1[[#This Row],[SR-Nr]]),\"\",IF(COUNTIF(Aufgebot!$A$7:$A$1000,Tabelle1[[#This Row],[SR-Nr]])>0,TRUE,FALSE))","v":""}]
[null,{"$f":"IF(ISBLANK($A192),\"\",_xlfn.XLOOKUP($A192,'SR-DB'!$C:$C,'SR-DB'!A:A,\"NA\",0))","v":""},{"$f":"IF(ISBLANK($A192),\"\",_xlfn.XLOOKUP($A192,'SR-DB'!$C:$C,'SR-DB'!B:B,\"NA\",0))","v":""},{"$f":"IF(ISBLANK(Tabelle1[[#This Row],[SR-Nr]]),\"\",IF(COUNTIF(Aufgebot!$A$7:$A$1000,Tabelle1[[#This Row],[SR-Nr]])>0,TRUE,FALSE))","v":""}]
[null,{"$f":"IF(ISBLANK($A193),\"\",_xlfn.XLOOKUP($A193,'SR-DB'!$C:$C,'SR-DB'!A:A,\"NA\",0))","v":""},{"$f":"IF(ISBLANK($A193),\"\",_xlfn.XLOOKUP($A193,'SR-DB'!$C:$C,'SR-DB'!B:B,\"NA\",0))","v":""},{"$f":"IF(ISBLANK(Tabelle1[[#This Row],[SR-Nr]]),\"\",IF(COUNTIF(Aufgebot!$A$7:$A$1000,Tabelle1[[#This Row],[SR-Nr]])>0,TRUE,FALSE))","v":""}]
[null,{"$f":"IF(ISBLANK($A194),\"\",_xlfn.XLOOKUP($A194,'SR-DB'!$C:$C,'SR-DB'!A:A,\"NA\",0))","v":""},{"$f":"IF(ISBLANK($A194),\"\",_xlfn.XLOOKUP($A194,'SR-DB'!$C:$C,'SR-DB'!B:B,\"NA\",0))","v":""},{"$f":"IF(ISBLANK(Tabelle1[[#This Row],[SR-Nr]]),\"\",IF(COUNTIF(Aufgebot!$A$7:$A$1000,Tabelle1[[#This Row],[SR-Nr]])>0,TRUE,FALSE))","v":""}]
[null,{"$f":"IF(ISBLANK($A195),\"\",_xlfn.XLOOKUP($A195,'SR-DB'!$C:$C,'SR-DB'!A:A,\"NA\",0))","v":""},{"$f":"IF(ISBLANK($A195),\"\",_xlfn.XLOOKUP($A195,'SR-DB'!$C:$C,'SR-DB'!B:B,\"NA\",0))","v":""},{"$f":"IF(ISBLANK(Tabelle1[[#This Row],[SR-Nr]]),\"\",IF(COUNTIF(Aufgebot!$A$7:$A$1000,Tabelle1[[#This Row],[SR-Nr]])>0,TRUE,FALSE))","v":""}]
[null,{"$f":"IF(ISBLANK($A196),\"\",_xlfn.XLOOKUP($A196,'SR-DB'!$C:$C,'SR-DB'!A:A,\"NA\",0))","v":""},{"$f":"IF(ISBLANK($A196),\"\",_xlfn.XLOOKUP($A196,'SR-DB'!$C:$C,'SR-DB'!B:B,\"NA\",0))","v":""},{"$f":"IF(ISBLANK(Tabelle1[[#This Row],[SR-Nr]]),\"\",IF(COUNTIF(Aufgebot!$A$7:$A$1000,Tabelle1[[#This Row],[SR-Nr]])>0,TRUE,FALSE))","v":""}]
[null,{"$f":"IF(ISBLANK($A197),\"\",_xlfn.XLOOKUP($A197,'SR-DB'!$C:$C,'SR-DB'!A:A,\"NA\",0))","v":""},{"$f":"IF(ISBLANK($A197),\"\",_xlfn.XLOOKUP($A197,'SR-DB'!$C:$C,'SR-DB'!B:B,\"NA\",0))","v":""},{"$f":"IF(ISBLANK(Tabelle1[[#This Row],[SR-Nr]]),\"\",IF(COUNTIF(Aufgebot!$A$7:$A$1000,Tabelle1[[#This Row],[SR-Nr]])>0,TRUE,FALSE))","v":""}]
[null,{"$f":"IF(ISBLANK($A198),\"\",_xlfn.XLOOKUP($A198,'SR-DB'!$C:$C,'SR-DB'!A:A,\"NA\",0))","v":""},{"$f":"IF(ISBLANK($A198),\"\",_xlfn.XLOOKUP($A198,'SR-DB'!$C:$C,'SR-DB'!B:B,\"NA\",0))","v":""},{"$f":"IF(ISBLANK(Tabelle1[[#This Row],[SR-Nr]]),\"\",IF(COUNTIF(Aufgebot!$A$7:$A$1000,Tabelle1[[#This Row],[SR-Nr]])>0,TRUE,FALSE))","v":""}]
[null,{"$f":"IF(ISBLANK($A199),\"\",_xlfn.XLOOKUP($A199,'SR-DB'!$C:$C,'SR-DB'!A:A,\"NA\",0))","v":""},{"$f":"IF(ISBLANK($A199),\"\",_xlfn.XLOOKUP($A199,'SR-DB'!$C:$C,'SR-DB'!B:B,\"NA\",0))","v":""},{"$f":"IF(ISBLANK(Tabelle1[[#This Row],[SR-Nr]]),\"\",IF(COUNTIF(Aufgebot!$A$7:$A$1000,Tabelle1[[#This Row],[SR-Nr]])>0,TRUE,FALSE))","v":""}]
[null,{"$f":"IF(ISBLANK($A200),\"\",_xlfn.XLOOKUP($A200,'SR-DB'!$C:$C,'SR-DB'!A:A,\"NA\",0))","v":""},{"$f":"IF(ISBLANK($A200),\"\",_xlfn.XLOOKUP($A200,'SR-DB'!$C:$C,'SR-DB'!B:B,\"NA\",0))","v":""},{"$f":"IF(ISBLANK(Tabelle1[[#This Row],[SR-Nr]]),\"\",IF(COUNTIF(Aufgebot!$A$7:$A$1000,Tabelle1[[#This Row],[SR-Nr]])>0,TRUE,FALSE))","v":""}]
[null,{"$f":"IF(ISBLANK($A201),\"\",_xlfn.XLOOKUP($A201,'SR-DB'!$C:$C,'SR-DB'!A:A,\"NA\",0))","v":""},{"$f":"IF(ISBLANK($A201),\"\",_xlfn.XLOOKUP($A201,'SR-DB'!$C:$C,'SR-DB'!B:B,\"NA\",0))","v":""},{"$f":"IF(ISBLANK(Tabelle1[[#This Row],[SR-Nr]]),\"\",IF(COUNTIF(Aufgebot!$A$7:$A$1000,Tabelle1[[#This Row],[SR-Nr]])>0,TRUE,FALSE))","v":""}]
[null,{"$f":"IF(ISBLANK($A202),\"\",_xlfn.XLOOKUP($A202,'SR-DB'!$C:$C,'SR-DB'!A:A,\"NA\",0))","v":""},{"$f":"IF(ISBLANK($A202),\"\",_xlfn.XLOOKUP($A202,'SR-DB'!$C:$C,'SR-DB'!B:B,\"NA\",0))","v":""},{"$f":"IF(ISBLANK(Tabelle1[[#This Row],[SR-Nr]]),\"\",IF(COUNTIF(Aufgebot!$A$7:$A$1000,Tabelle1[[#This Row],[SR-Nr]])>0,TRUE,FALSE))","v":""}]
[null,{"$f":"IF(ISBLANK($A203),\"\",_xlfn.XLOOKUP($A203,'SR-DB'!$C:$C,'SR-DB'!A:A,\"NA\",0))","v":""},{"$f":"IF(ISBLANK($A203),\"\",_xlfn.XLOOKUP($A203,'SR-DB'!$C:$C,'SR-DB'!B:B,\"NA\",0))","v":""},{"$f":"IF(ISBLANK(Tabelle1[[#This Row],[SR-Nr]]),\"\",IF(COUNTIF(Aufgebot!$A$7:$A$1000,Tabelle1[[#This Row],[SR-Nr]])>0,TRUE,FALSE))","v":""}]
[null,{"$f":"IF(ISBLANK($A204),\"\",_xlfn.XLOOKUP($A204,'SR-DB'!$C:$C,'SR-DB'!A:A,\"NA\",0))","v":""},{"$f":"IF(ISBLANK($A204),\"\",_xlfn.XLOOKUP($A204,'SR-DB'!$C:$C,'SR-DB'!B:B,\"NA\",0))","v":""},{"$f":"IF(ISBLANK(Tabelle1[[#This Row],[SR-Nr]]),\"\",IF(COUNTIF(Aufgebot!$A$7:$A$1000,Tabelle1[[#This Row],[SR-Nr]])>0,TRUE,FALSE))","v":""}]
["Ende der Liste"]

{"sheet":"Aufgebot","index":1,"n_rows":1003,"n_cols":4,"rows_kept":1003,"cut":false,"hidden":false,"merged":[[0,0,0,1],[1002,0,1002,3]]}
["Aufgebot"]
["Stand:","2025-03-15"]
["Aufgebotene:",{"$f":"COUNT(A7:A1002)","v":0}]
["Anwesende*:",{"$f":"COUNTIF(D7:D1000,TRUE)","v":0}]
["Abwesende:",{"$f":"B3-B4","v":0},null,"*gem. Aufgebot"]
["SR-Nr","Vorname","Nachname","Anwesend"]
[null,{"$f":"IF(ISBLANK(SRDB4[[#This Row],[SR-Nr]]),\"\",_xlfn.XLOOKUP(SRDB4[[#This Row],[SR-Nr]],SRDB[SR-Nr.],SRDB[Vorname],\"NA\",0))","v":""},{"$f":"IF(ISBLANK(SRDB4[[#This Row],[SR-Nr]]),\"\",_xlfn.XLOOKUP(SRDB4[[#This Row],[SR-Nr]],SRDB[SR-Nr.],SRDB[Name],\"NA\",0))","v":""},{"$f":"IF(ISBLANK(SRDB4[[#This Row],[SR-Nr]]),\"\",IF(COUNTIF(Registration!$A$7:$A$204,SRDB4[[#This Row],[SR-Nr]])=1,TRUE,FALSE))","v":""}]
[null,{"$f":"IF(ISBLANK(SRDB4[[#This Row],[SR-Nr]]),\"\",_xlfn.XLOOKUP(SRDB4[[#This Row],[SR-Nr]],SRDB[SR-Nr.],SRDB[Vorname],\"NA\",0))","v":""},{"$f":"IF(ISBLANK(SRDB4[[#This Row],[SR-Nr]]),\"\",_xlfn.XLOOKUP(SRDB4[[#This Row],[SR-Nr]],SRDB[SR-Nr.],SRDB[Name],\"NA\",0))","v":""},{"$f":"IF(ISBLANK(SRDB4[[#This Row],[SR-Nr]]),\"\",IF(COUNTIF(Registration!$A$7:$A$204,SRDB4[[#This Row],[SR-Nr]])=1,TRUE,FALSE))","v":""}]
[null,{"$f":"IF(ISBLANK(SRDB4[[#This Row],[SR-Nr]]),\"\",_xlfn.XLOOKUP(SRDB4[[#This Row],[SR-Nr]],SRDB[SR-Nr.],SRDB[Vorname],\"NA\",0))","v":""},{"$f":"IF(ISBLANK(SRDB4[[#This Row],[SR-Nr]]),\"\",_xlfn.XLOOKUP(SRDB4[[#This Row],[SR-Nr]],SRDB[SR-Nr.],SRDB[Name],\"NA\",0))","v":""},{"$f":"IF(ISBLANK(SRDB4[[#This Row],[SR-Nr]]),\"\",IF(COUNTIF(Registration!$A$7:$A$204,SRDB4[[#This Row],[SR-Nr]])=1,TRUE,FALSE))","v":""}]
[null,{"$f":"IF(ISBLANK(SRDB4[[#This Row],[SR-Nr]]),\"\",_xlfn.XLOOKUP(SRDB4[[#This Row],[SR-Nr]],SRDB[SR-Nr.],SRDB[Vorname],\"NA\",0))","v":""},{"$f":"IF(ISBLANK(SRDB4[[#This Row],[SR-Nr]]),\"\",_xlfn.XLOOKUP(SRDB4[[#This Row],[SR-Nr]],SRDB[SR-Nr.],SRDB[Name],\"NA\",0))","v":""},{"$f":"IF(ISBLANK(SRDB4[[#This Row],[SR-Nr]]),\"\",IF(COUNTIF(Registration!$A$7:$A$204,SRDB4[[#This Row],[SR-Nr]])=1,TRUE,FALSE))","v":""}]
[null,{"$f":"IF(ISBLANK(SRDB4[[#This Row],[SR-Nr]]),\"\",_xlfn.XLOOKUP(SRDB4[[#This Row],[SR-Nr]],SRDB[SR-Nr.],SRDB[Vorname],\"NA\",0))","v":""},{"$f":"IF(ISBLANK(SRDB4[[#This Row],[SR-Nr]]),\"\",_xlfn.XLOOKUP(SRDB4[[#This Row],[SR-Nr]],SRDB[SR-Nr.],SRDB[Name],\"NA\",0))","v":""},{"$f":"IF(ISBLANK(SRDB4[[#This Row],[SR-Nr]]),\"\",IF(COUNTIF(Registration!$A$7:$A$204,SRDB4[[#This Row],[SR-Nr]])=1,TRUE,FALSE))","v":""}]
[null,{"$f":"IF(ISBLANK(SRDB4[[#This Row],[SR-Nr]]),\"\",_xlfn.XLOOKUP(SRDB4[[#This Row],[SR-Nr]],SRDB[SR-Nr.],SRDB[Vorname],\"NA\",0))","v":""},{"$f":"IF(ISBLANK(SRDB4[[#This Row],[SR-Nr]]),\"\",_xlfn.XLOOKUP(SRDB4[[#This Row],[SR-Nr]],SRDB[SR-Nr.],SRDB[Name],\"NA\",0))","v":""},{"$f":"IF(ISBLANK(SRDB4[[#This Row],[SR-Nr]]),\"\",IF(COUNTIF(Registration!$A$7:$A$204,SRDB4[[#This Row],[SR-Nr]])=1,TRUE,FALSE))","v":""}]
[null,{"$f":"IF(ISBLANK(SRDB4[[#This Row],[SR-Nr]]),\"\",_xlfn.XLOOKUP(SRDB4[[#This Row],[SR-Nr]],SRDB[SR-Nr.],SRDB[Vorname],\"NA\",0))","v":""},{"$f":"IF(ISBLANK(SRDB4[[#This Row],[SR-Nr]]),\"\",_xlfn.XLOOKUP(SRDB4[[#This Row],[SR-Nr]],SRDB[SR-Nr.],SRDB[Name],\"NA\",0))","v":""},{"$f":"IF(ISBLANK(SRDB4[[#This Row],[SR-Nr]]),\"\",IF(COUNTIF(Registration!$A$7:$A$204,SRDB4[[#This Row],[SR-Nr]])=1,TRUE,FALSE))","v":""}]
[null,{"$f":"IF(ISBLANK(SRDB4[[#This Row],[SR-Nr]]),\"\",_xlfn.XLOOKUP(SRDB4[[#This Row],[SR-Nr]],SRDB[SR-Nr.],SRDB[Vorname],\"NA\",0))","v":""},{"$f":"IF(ISBLANK(SRDB4[[#This Row],[SR-Nr]]),\"\",_xlfn.XLOOKUP(SRDB4[[#This Row],[SR-Nr]],SRDB[SR-Nr.],SRDB[Name],\"NA\",0))","v":""},{"$f":"IF(ISBLANK(SRDB4[[#This Row],[SR-Nr]]),\"\",IF(COUNTIF(Registration!$A$7:$A$204,SRDB4[[#This Row],[SR-Nr]])=1,TRUE,FALSE))","v":""}]
[null,{"$f":"IF(ISBLANK(SRDB4[[#This Row],[SR-Nr]]),\"\",_xlfn.XLOOKUP(SRDB4[[#This Row],[SR-Nr]],SRDB[SR-Nr.],SRDB[Vorname],\"NA\",0))","v":""},{"$f":"IF(ISBLANK(SRDB4[[#This Row],[SR-Nr]]),\"\",_xlfn.XLOOKUP(SRDB4[[#This Row],[SR-Nr]],SRDB[SR-Nr.],SRDB[Name],\"NA\",0))","v":""},{"$f":"IF(ISBLANK(SRDB4[[#This Row],[SR-Nr]]),\"\",IF(COUNTIF(Registration!$A$7:$A$204,SRDB4[[#This Row],[SR-Nr]])=1,TRUE,FALSE))","v":""}]
[null,{"$f":"IF(ISBLANK(SRDB4[[#This Row],[SR-Nr]]),\"\",_xlfn.XLOOKUP(SRDB4[[#This Row],[SR-Nr]],SRDB[SR-Nr.],SRDB[Vorname],\"NA\",0))","v":""},{"$f":"IF(ISBLANK(SRDB4[[#This Row],[SR-Nr]]),\"\",_xlfn.XLOOKUP(SRDB4[[#This Row],[SR-Nr]],SRDB[SR-Nr.],SRDB[Name],\"NA\",0))","v":""},{"$f":"IF(ISBLANK(SRDB4[[#This Row],[SR-Nr]]),\"\",IF(COUNTIF(Registration!$A$7:$A$204,SRDB4[[#This Row],[SR-Nr]])=1,TRUE,FALSE))","v":""}]
[null,{"$f":"IF(ISBLANK(SRDB4[[#This Row],[SR-Nr]]),\"\",_xlfn.XLOOKUP(SRDB4[[#This Row],[SR-Nr]],SRDB[SR-Nr.],SRDB[Vorname],\"NA\",0))","v":""},{"$f":"IF(ISBLANK(SRDB4[[#This Row],[SR-Nr]]),\"\",_xlfn.XLOOKUP(SRDB4[[#This Row],[SR-Nr]],SRDB[SR-Nr.],SRDB[Name],\"NA\",0))","v":""},{"$f":"IF(ISBLANK(SRDB4[[#This Row],[SR-Nr]]),\"\",IF(COUNTIF(Registration!$A$7:$A$204,SRDB4[[#This Row],[SR-Nr]])=1,TRUE,FALSE))","v":""}]
[null,{"$f":"IF(ISBLANK(SRDB4[[#This Row],[SR-Nr]]),\"\",_xlfn.XLOOKUP(SRDB4[[#This Row],[SR-Nr]],SRDB[SR-Nr.],SRDB[Vorname],\"NA\",0))","v":""},{"$f":"IF(ISBLANK(SRDB4[[#This Row],[SR-Nr]]),\"\",_xlfn.XLOOKUP(SRDB4[[#This Row],[SR-Nr]],SRDB[SR-Nr.],SRDB[Name],\"NA\",0))","v":""},{"$f":"IF(ISBLANK(SRDB4[[#This Row],[SR-Nr]]),\"\",IF(COUNTIF(Registration!$A$7:$A$204,SRDB4[[#This Row],[SR-Nr]])=1,TRUE,FALSE))","v":""}]
[null,{"$f":"IF(ISBLANK(SRDB4[[#This Row],[SR-Nr]]),\"\",_xlfn.XLOOKUP(SRDB4[[#This Row],[SR-Nr]],SRDB[SR-Nr.],SRDB[Vorname],\"NA\",0))","v":""},{"$f":"IF(ISBLANK(SRDB4[[#This Row],[SR-Nr]]),\"\",_xlfn.XLOOKUP(SRDB4[[#This Row],[SR-Nr]],SRDB[SR-Nr.],SRDB[Name],\"NA\",0))","v":""},{"$f":"IF(ISBLANK(SRDB4[[#This Row],[SR-Nr]]),\"\",IF(COUNTIF(Registration!$A$7:$A$204,SRDB4[[#This Row],[SR-Nr]])=1,TRUE,FALSE))","v":""}]
[null,{"$f":"IF(ISBLANK(SRDB4[[#This Row],[SR-Nr]]),\"\",_xlfn.XLOOKUP(SRDB4[[#This Row],[SR-Nr]],SRDB[SR-Nr.],SRDB[Vorname],\"NA\",0))","v":""},{"$f":"IF(ISBLANK(SRDB4[[#This Row],[SR-Nr]]),\"\",_xlfn.XLOOKUP(SRDB4[[#This Row],[SR-Nr]],SRDB[SR-Nr.],SRDB[Name],\"NA\",0))","v":""},{"$f":"IF(ISBLANK(SRDB4[[#This Row],[SR-Nr]]),\"\",IF(COUNTIF(Registration!$A$7:$A$204,SRDB4[[#This Row],[SR-Nr]])=1,TRUE,FALSE))","v":""}]
[null,{"$f":"IF(ISBLANK(SRDB4[[#This Row],[SR-Nr]]),\"\",_xlfn.XLOOKUP(SRDB4[[#This Row],[SR-Nr]],SRDB[SR-Nr.],SRDB[Vorname],\"NA\",0))","v":""},{"$f":"IF(ISBLANK(SRDB4[[#This Row],[SR-Nr]]),\"\",_xlfn.XLOOKUP(SRDB4[[#This Row],[SR-Nr]],SRDB[SR-Nr.],SRDB[Name],\"NA\",0))","v":""},{"$f":"IF(ISBLANK(SRDB4[[#This Row],[SR-Nr]]),\"\",IF(COUNTIF(Registration!$A$7:$A$204,SRDB4[[#This Row],[SR-Nr]])=1,TRUE,FALSE))","v":""}]
[null,{"$f":"IF(ISBLANK(SRDB4[[#This Row],[SR-Nr]]),\"\",_xlfn.XLOOKUP(SRDB4[[#This Row],[SR-Nr]],SRDB[SR-Nr.],SRDB[Vorname],\"NA\",0))","v":""},{"$f":"IF(ISBLANK(SRDB4[[#This Row],[SR-Nr]]),\"\",_xlfn.XLOOKUP(SRDB4[[#This Row],[SR-Nr]],SRDB[SR-Nr.],SRDB[Name],\"NA\",0))","v":""},{"$f":"IF(ISBLANK(SRDB4[[#This Row],[SR-Nr]]),\"\",IF(COUNTIF(Registration!$A$7:$A$204,SRDB4[[#This Row],[SR-Nr]])=1,TRUE,FALSE))","v":""}]
[null,{"$f":"IF(ISBLANK(SRDB4[[#This Row],[SR-Nr]]),\"\",_xlfn.XLOOKUP(SRDB4[[#This Row],[SR-Nr]],SRDB[SR-Nr.],SRDB[Vorname],\"NA\",0))","v":""},{"$f":"IF(ISBLANK(SRDB4[[#This Row],[SR-Nr]]),\"\",_xlfn.XLOOKUP(SRDB4[[#This Row],[SR-Nr]],SRDB[SR-Nr.],SRDB[Name],\"NA\",0))","v":""},{"$f":"IF(ISBLANK(SRDB4[[#This Row],[SR-Nr]]),\"\",IF(COUNTIF(Registration!$A$7:$A$204,SRDB4[[#This Row],[SR-Nr]])=1,TRUE,FALSE))","v":""}]
[null,{"$f":"IF(ISBLANK(SRDB4[[#This Row],[SR-Nr]]),\"\",_xlfn.XLOOKUP(SRDB4[[#This Row],[SR-Nr]],SRDB[SR-Nr.],SRDB[Vorname],\"NA\",0))","v":""},{"$f":"IF(ISBLANK(SRDB4[[#This Row],[SR-Nr]]),\"\",_xlfn.XLOOKUP(SRDB4[[#This Row],[SR-Nr]],SRDB[SR-Nr.],SRDB[Name],\"NA\",0))","v":""},{"$f":"IF(ISBLANK(SRDB4[[#This Row],[SR-Nr]]),\"\",IF(COUNTIF(Registration!$A$7:$A$204,SRDB4[[#This Row],[SR-Nr]])=1,TRUE,FALSE))","v":""}]
[null,{"$f":"IF(ISBLANK(SRDB4[[#This Row],[SR-Nr]]),\"\",_xlfn.XLOOKUP(SRDB4[[#This Row],[SR-Nr]],SRDB[SR-Nr.],SRDB[Vorname],\"NA\",0))","v":""},{"$f":"IF(ISBLANK(SRDB4[[#This Row],[SR-Nr]]),\"\",_xlfn.XLOOKUP(SRDB4[[#This Row],[SR-Nr]],SRDB[SR-Nr.],SRDB[Name],\"NA\",0))","v":""},{"$f":"IF(ISBLANK(SRDB4[[#This Row],[SR-Nr]]),\"\",IF(COUNTIF(Registration!$A$7:$A$204,SRDB4[[#This Row],[SR-Nr]])=1,TRUE,FALSE))","v":""}]
[null,{"$f":"IF(ISBLANK(SRDB4[[#This Row],[SR-Nr]]),\"\",_xlfn.XLOOKUP(SRDB4[[#This Row],[SR-Nr]],SRDB[SR-Nr.],SRDB[Vorname],\"NA\",0))","v":""},{"$f":"IF(ISBLANK(SRDB4[[#This Row],[SR-Nr]]),\"\",_xlfn.XLOOKUP(SRDB4[[#This Row],[SR-Nr]],SRDB[SR-Nr.],SRDB[Name],\"NA\",0))","v":""},{"$f":"IF(ISBLANK(SRDB4[[#This Row],[SR-Nr]]),\"\",IF(COUNTIF(Registration!$A$7:$A$204,SRDB4[[#This Row],[SR-Nr]])=1,TRUE,FALSE))","v":""}]
[null,{"$f":"IF(ISBLANK(SRDB4[[#This Row],[SR-Nr]]),\"\",_xlfn.XLOOKUP(SRDB4[[#This Row],[SR-Nr]],SRDB[SR-Nr.],SRDB[Vorname],\"NA\",0))","v":""},{"$f":"IF(ISBLANK(SRDB4[[#This Row],[SR-Nr]]),\"\",_xlfn.XLOOKUP(SRDB4[[#This Row],[SR-Nr]],SRDB[SR-Nr.],SRDB[Name],\"NA\",0))","v":""},{"$f":"IF(ISBLANK(SRDB4[[#This Row],[SR-Nr]]),\"\",IF(COUNTIF(Registration!$A$7:$A$204,SRDB4[[#This Row],[SR-Nr]])=1,TRUE,FALSE))","v":""}]
[null,{"$f":"IF(ISBLANK(SRDB4[[#This Row],[SR-Nr]]),\"\",_xlfn.XLOOKUP(SRDB4[[#This Row],[SR-Nr]],SRDB[SR-Nr.],SRDB[Vorname],\"NA\",0))","v":""},{"$f":"IF(ISBLANK(SRDB4[[#This Row],[SR-Nr]]),\"\",_xlfn.XLOOKUP(SRDB4[[#This Row],[SR-Nr]],SRDB[SR-Nr.],SRDB[Name],\"NA\",0))","v":""},{"$f":"IF(ISBLANK(SRDB4[[#This Row],[SR-Nr]]),\"\",IF(COUNTIF(Registration!$A$7:$A$204,SRDB4[[#This Row],[SR-Nr]])=1,TRUE,FALSE))","v":""}]
[null,{"$f":"IF(ISBLANK(SRDB4[[#This Row],[SR-Nr]]),\"\",_xlfn.XLOOKUP(SRDB4[[#This Row],[SR-Nr]],SRDB[SR-Nr.],SRDB[Vorname],\"NA\",0))","v":""},{"$f":"IF(ISBLANK(SRDB4[[#This Row],[SR-Nr]]),\"\",_xlfn.XLOOKUP(SRDB4[[#This Row],[SR-Nr]],SRDB[SR-Nr.],SRDB[Name],\"NA\",0))","v":""},{"$f":"IF(ISBLANK(SRDB4[[#This Row],[SR-Nr]]),\"\",IF(COUNTIF(Registration!$A$7:$A$204,SRDB4[[#This Row],[SR-Nr]])=1,TRUE,FALSE))","v":""}]
[null,{"$f":"IF(ISBLANK(SRDB4[[#This Row],[SR-Nr]]),\"\",_xlfn.XLOOKUP(SRDB4[[#This Row],[SR-Nr]],SRDB[SR-Nr.],SRDB[Vorname],\"NA\",0))","v":""},{"$f":"IF(ISBLANK(SRDB4[[#This Row],[SR-Nr]]),\"\",_xlfn.XLOOKUP(SRDB4[[#This Row],[SR-Nr]],SRDB[SR-Nr.],SRDB[Name],\"NA\",0))","v":""},{"$f":"IF(ISBLANK(SRDB4[[#This Row],[SR-Nr]]),\"\",IF(COUNTIF(Registration!$A$7:$A$204,SRDB4[[#This Row],[SR-Nr]])=1,TRUE,FALSE))","v":""}]
[null,{"$f":"IF(ISBLANK(SRDB4[[#This Row],[SR-Nr]]),\"\",_xlfn.XLOOKUP(SRDB4[[#This Row],[SR-Nr]],SRDB[SR-Nr.],SRDB[Vorname],\"NA\",0))","v":""},{"$f":"IF(ISBLANK(SRDB4[[#This Row],[SR-Nr]]),\"\",_xlfn.XLOOKUP(SRDB4[[#This Row],[SR-Nr]],SRDB[SR-Nr.],SRDB[Name],\"NA\",0))","v":""},{"$f":"IF(ISBLANK(SRDB4[[#This Row],[SR-Nr]]),\"\",IF(COUNTIF(Registration!$A$7:$A$204,SRDB4[[#This Row],[SR-Nr]])=1,TRUE,FALSE))","v":""}]
[null,{"$f":"IF(ISBLANK(SRDB4[[#This Row],[SR-Nr]]),\"\",_xlfn.XLOOKUP(SRDB4[[#This Row],[SR-Nr]],SRDB[SR-Nr.],SRDB[Vorname],\"NA\",0))","v":""},{"$f":"IF(ISBLANK(SRDB4[[#This Row],[SR-Nr]]),\"\",_xlfn.XLOOKUP(SRDB4[[#This Row],[SR-Nr]],SRDB[SR-Nr.],SRDB[Name],\"NA\",0))","v":""},{"$f":"IF(ISBLANK(SRDB4[[#This Row],[SR-Nr]]),\"\",IF(COUNTIF(Registration!$A$7:$A$204,SRDB4[[#This Row],[SR-Nr]])=1,TRUE,FALSE))","v":""}]
[null,{"$f":"IF(ISBLANK(SRDB4[[#This Row],[SR-Nr]]),\"\",_xlfn.XLOOKUP(SRDB4[[#This Row],[SR-Nr]],SRDB[SR-Nr.],SRDB[Vorname],\"NA\",0))","v":""},{"$f":"IF(ISBLANK(SRDB4[[#This Row],[SR-Nr]]),\"\",_xlfn.XLOOKUP(SRDB4[[#This Row],[SR-Nr]],SRDB[SR-Nr.],SRDB[Name],\"NA\",0))","v":""},{"$f":"IF(ISBLANK(SRDB4[[#This Row],[SR-Nr]]),\"\",IF(COUNTIF(Registration!$A$7:$A$204,SRDB4[[#This Row],[SR-Nr]])=1,TRUE,FALSE))","v":""}]
[null,{"$f":"IF(ISBLANK(SRDB4[[#This Row],[SR-Nr]]),\"\",_xlfn.XLOOKUP(SRDB4[[#This Row],[SR-Nr]],SRDB[SR-Nr.],SRDB[Vorname],\"NA\",0))","v":""},{"$f":"IF(ISBLANK(SRDB4[[#This Row],[SR-Nr]]),\"\",_xlfn.XLOOKUP(SRDB4[[#This Row],[SR-Nr]],SRDB[SR-Nr.],SRDB[Name],\"NA\",0))","v":""},{"$f":"IF(ISBLANK(SRDB4[[#This Row],[SR-Nr]]),\"\",IF(COUNTIF(Registration!$A$7:$A$204,SRDB4[[#This Row],[SR-Nr]])=1,TRUE,FALSE))","v":""}]
[null,{"$f":"IF(ISBLANK(SRDB4[[#This Row],[SR-Nr]]),\"\",_xlfn.XLOOKUP(SRDB4[[#This Row],[SR-Nr]],SRDB[SR-Nr.],SRDB[Vorname],\"NA\",0))","v":""},{"$f":"IF(ISBLANK(SRDB4[[#This Row],[SR-Nr]]),\"\",_xlfn.XLOOKUP(SRDB4[[#This Row],[SR-Nr]],SRDB[SR-Nr.],SRDB[Name],\"NA\",0))","v":""},{"$f":"IF(ISBLANK(SRDB4[[#This Row],[SR-Nr]]),\"\",IF(COUNTIF(Registration!$A$7:$A$204,SRDB4[[#This Row],[SR-Nr]])=1,TRUE,FALSE))","v":""}]
[null,{"$f":"IF(ISBLANK(SRDB4[[#This Row],[SR-Nr]]),\"\",_xlfn.XLOOKUP(SRDB4[[#This Row],[SR-Nr]],SRDB[SR-Nr.],SRDB[Vorname],\"NA\",0))","v":""},{"$f":"IF(ISBLANK(SRDB4[[#This Row],[SR-Nr]]),\"\",_xlfn.XLOOKUP(SRDB4[[#This Row],[SR-Nr]],SRDB[SR-Nr.],SRDB[Name],\"NA\",0))","v":""},{"$f":"IF(ISBLANK(SRDB4[[#This Row],[SR-Nr]]),\"\",IF(COUNTIF(Registration!$A$7:$A$204,SRDB4[[#This Row],[SR-Nr]])=1,TRUE,FALSE))","v":""}]
[null,{"$f":"IF(ISBLANK(SRDB4[[#This Row],[SR-Nr]]),\"\",_xlfn.XLOOKUP(SRDB4[[#This Row],[SR-Nr]],SRDB[SR-Nr.],SRDB[Vorname],\"NA\",0))","v":""},{"$f":"IF(ISBLANK(SRDB4[[#This Row],[SR-Nr]]),\"\",_xlfn.XLOOKUP(SRDB4[[#This Row],[SR-Nr]],SRDB[SR-Nr.],SRDB[Name],\"NA\",0))","v":""},{"$f":"IF(ISBLANK(SRDB4[[#This Row],[SR-Nr]]),\"\",IF(COUNTIF(Registration!$A$7:$A$204,SRDB4[[#This Row],[SR-Nr]])=1,TRUE,FALSE))","v":""}]
[null,{"$f":"IF(ISBLANK(SRDB4[[#This Row],[SR-Nr]]),\"\",_xlfn.XLOOKUP(SRDB4[[#This Row],[SR-Nr]],SRDB[SR-Nr.],SRDB[Vorname],\"NA\",0))","v":""},{"$f":"IF(ISBLANK(SRDB4[[#This Row],[SR-Nr]]),\"\",_xlfn.XLOOKUP(SRDB4[[#This Row],[SR-Nr]],SRDB[SR-Nr.],SRDB[Name],\"NA\",0))","v":""},{"$f":"IF(ISBLANK(SRDB4[[#This Row],[SR-Nr]]),\"\",IF(COUNTIF(Registration!$A$7:$A$204,SRDB4[[#This Row],[SR-Nr]])=1,TRUE,FALSE))","v":""}]
[null,{"$f":"IF(ISBLANK(SRDB4[[#This Row],[SR-Nr]]),\"\",_xlfn.XLOOKUP(SRDB4[[#This Row],[SR-Nr]],SRDB[SR-Nr.],SRDB[Vorname],\"NA\",0))","v":""},{"$f":"IF(ISBLANK(SRDB4[[#This Row],[SR-Nr]]),\"\",_xlfn.XLOOKUP(SRDB4[[#This Row],[SR-Nr]],SRDB[SR-Nr.],SRDB[Name],\"NA\",0))","v":""},{"$f":"IF(ISBLANK(SRDB4[[#This Row],[SR-Nr]]),\"\",IF(COUNTIF(Registration!$A$7:$A$204,SRDB4[[#This Row],[SR-Nr]])=1,TRUE,FALSE))","v":""}]
[null,{"$f":"IF(ISBLANK(SRDB4[[#This Row],[SR-Nr]]),\"\",_xlfn.XLOOKUP(SRDB4[[#This Row],[SR-Nr]],SRDB[SR-Nr.],SRDB[Vorname],\"NA\",0))","v":""},{"$f":"IF(ISBLANK(SRDB4[[#This Row],[SR-Nr]]),\"\",_xlfn.XLOOKUP(SRDB4[[#This Row],[SR-Nr]],SRDB[SR-Nr.],SRDB[Name],\"NA\",0))","v":""},{"$f":"IF(ISBLANK(SRDB4[[#This Row],[SR-Nr]]),\"\",IF(COUNTIF(Registration!$A$7:$A$204,SRDB4[[#This Row],[SR-Nr]])=1,TRUE,FALSE))","v":""}]
[null,{"$f":"IF(ISBLANK(SRDB4[[#This Row],[SR-Nr]]),\"\",_xlfn.XLOOKUP(SRDB4[[#This Row],[SR-Nr]],SRDB[SR-Nr.],SRDB[Vorname],\"NA\",0))","v":""},{"$f":"IF(ISBLANK(SRDB4[[#This Row],[SR-Nr]]),\"\",_xlfn.XLOOKUP(SRDB4[[#This Row],[SR-Nr]],SRDB[SR-Nr.],SRDB[Name],\"NA\",0))","v":""},{"$f":"IF(ISBLANK(SRDB4[[#This Row],[SR-Nr]]),\"\",IF(COUNTIF(Registration!$A$7:$A$204,SRDB4[[#This Row],[SR-Nr]])=1,TRUE,FALSE))","v":""}]
[null,{"$f":"IF(ISBLANK(SRDB4[[#This Row],[SR-Nr]]),\"\",_xlfn.XLOOKUP(SRDB4[[#This Row],[SR-Nr]],SRDB[SR-Nr.],SRDB[Vorname],\"NA\",0))","v":""},{"$f":"IF(ISBLANK(SRDB4[[#This Row],[SR-Nr]]),\"\",_xlfn.XLOOKUP(SRDB4[[#This Row],[SR-Nr]],SRDB[SR-Nr.],SRDB[Name],\"NA\",0))","v":""},{"$f":"IF(ISBLANK(SRDB4[[#This Row],[SR-Nr]]),\"\",IF(COUNTIF(Registration!$A$7:$A$204,SRDB4[[#This Row],[SR-Nr]])=1,TRUE,FALSE))","v":""}]
[null,{"$f":"IF(ISBLANK(SRDB4[[#This Row],[SR-Nr]]),\"\",_xlfn.XLOOKUP(SRDB4[[#This Row],[SR-Nr]],SRDB[SR-Nr.],SRDB[Vorname],\"NA\",0))","v":""},{"$f":"IF(ISBLANK(SRDB4[[#This Row],[SR-Nr]]),\"\",_xlfn.XLOOKUP(SRDB4[[#This Row],[SR-Nr]],SRDB[SR-Nr.],SRDB[Name],\"NA\",0))","v":""},{"$f":"IF(ISBLANK(SRDB4[[#This Row],[SR-Nr]]),\"\",IF(COUNTIF(Registration!$A$7:$A$204,SRDB4[[#This Row],[SR-Nr]])=1,TRUE,FALSE))","v":""}]
[null,{"$f":"IF(ISBLANK(SRDB4[[#This Row],[SR-Nr]]),\"\",_xlfn.XLOOKUP(SRDB4[[#This Row],[SR-Nr]],SRDB[SR-Nr.],SRDB[Vorname],\"NA\",0))","v":""},{"$f":"IF(ISBLANK(SRDB4[[#This Row],[SR-Nr]]),\"\",_xlfn.XLOOKUP(SRDB4[[#This Row],[SR-Nr]],SRDB[SR-Nr.],SRDB[Name],\"NA\",0))","v":""},{"$f":"IF(ISBLANK(SRDB4[[#This Row],[SR-Nr]]),\"\",IF(COUNTIF(Registration!$A$7:$A$204,SRDB4[[#This Row],[SR-Nr]])=1,TRUE,FALSE))","v":""}]
[null,{"$f":"IF(ISBLANK(SRDB4[[#This Row],[SR-Nr]]),\"\",_xlfn.XLOOKUP(SRDB4[[#This Row],[SR-Nr]],SRDB[SR-Nr.],SRDB[Vorname],\"NA\",0))","v":""},{"$f":"IF(ISBLANK(SRDB4[[#This Row],[SR-Nr]]),\"\",_xlfn.XLOOKUP(SRDB4[[#This Row],[SR-Nr]],SRDB[SR-Nr.],SRDB[Name],\"NA\",0))","v":""},{"$f":"IF(ISBLANK(SRDB4[[#This Row],[SR-Nr]]),\"\",IF(COUNTIF(Registration!$A$7:$A$204,SRDB4[[#This Row],[SR-Nr]])=1,TRUE,FALSE))","v":""}]
[null,{"$f":"IF(ISBLANK(SRDB4[[#This Row],[SR-Nr]]),\"\",_xlfn.XLOOKUP(SRDB4[[#This Row],[SR-Nr]],SRDB[SR-Nr.],SRDB[Vorname],\"NA\",0))","v":""},{"$f":"IF(ISBLANK(SRDB4[[#This Row],[SR-Nr]]),\"\",_xlfn.XLOOKUP(SRDB4[[#This Row],[SR-Nr]],SRDB[SR-Nr.],SRDB[Name],\"NA\",0))","v":""},{"$f":"IF(ISBLANK(SRDB4[[#This Row],[SR-Nr]]),\"\",IF(COUNTIF(Registration!$A$7:$A$204,SRDB4[[#This Row],[SR-Nr]])=1,TRUE,FALSE))","v":""}]
[null,{"$f":"IF(ISBLANK(SRDB4[[#This Row],[SR-Nr]]),\"\",_xlfn.XLOOKUP(SRDB4[[#This Row],[SR-Nr]],SRDB[SR-Nr.],SRDB[Vorname],\"NA\",0))","v":""},{"$f":"IF(ISBLANK(SRDB4[[#This Row],[SR-Nr]]),\"\",_xlfn.XLOOKUP(SRDB4[[#This Row],[SR-Nr]],SRDB[SR-Nr.],SRDB[Name],\"NA\",0))","v":""},{"$f":"IF(ISBLANK(SRDB4[[#This Row],[SR-Nr]]),\"\",IF(COUNTIF(Registration!$A$7:$A$204,SRDB4[[#This Row],[SR-Nr]])=1,TRUE,FALSE))","v":""}]
[null,{"$f":"IF(ISBLANK(SRDB4[[#This Row],[SR-Nr]]),\"\",_xlfn.XLOOKUP(SRDB4[[#This Row],[SR-Nr]],SRDB[SR-Nr.],SRDB[Vorname],\"NA\",0))","v":""},{"$f":"IF(ISBLANK(SRDB4[[#This Row],[SR-Nr]]),\"\",_xlfn.XLOOKUP(SRDB4[[#This Row],[SR-Nr]],SRDB[SR-Nr.],SRDB[Name],\"NA\",0))","v":""},{"$f":"IF(ISBLANK(SRDB4[[#This Row],[SR-Nr]]),\"\",IF(COUNTIF(Registration!$A$7:$A$204,SRDB4[[#This Row],[SR-Nr]])=1,TRUE,FALSE))","v":""}]
[null,{"$f":"IF(ISBLANK(SRDB4[[#This Row],[SR-Nr]]),\"\",_xlfn.XLOOKUP(SRDB4[[#This Row],[SR-Nr]],SRDB[SR-Nr.],SRDB[Vorname],\"NA\",0))","v":""},{"$f":"IF(ISBLANK(SRDB4[[#This Row],[SR-Nr]]),\"\",_xlfn.XLOOKUP(SRDB4[[#This Row],[SR-Nr]],SRDB[SR-Nr.],SRDB[Name],\"NA\",0))","v":""},{"$f":"IF(ISBLANK(SRDB4[[#This Row],[SR-Nr]]),\"\",IF(COUNTIF(Registration!$A$7:$A$204,SRDB4[[#This Row],[SR-Nr]])=1,TRUE,FALSE))","v":""}]
[null,{"$f":"IF(ISBLANK(SRDB4[[#This Row],[SR-Nr]]),\"\",_xlfn.XLOOKUP(SRDB4[[#This Row],[SR-Nr]],SRDB[SR-Nr.],SRDB[Vorname],\"NA\",0))","v":""},{"$f":"IF(ISBLANK(SRDB4[[#This Row],[SR-Nr]]),\"\",_xlfn.XLOOKUP(SRDB4[[#This Row],[SR-Nr]],SRDB[SR-Nr.],SRDB[Name],\"NA\",0))","v":""},{"$f":"IF(ISBLANK(SRDB4[[#This Row],[SR-Nr]]),\"\",IF(COUNTIF(Registration!$A$7:$A$204,SRDB4[[#This Row],[SR-Nr]])=1,TRUE,FALSE))","v":""}]
[null,{"$f":"IF(ISBLANK(SRDB4[[#This Row],[SR-Nr]]),\"\",_xlfn.XLOOKUP(SRDB4[[#This Row],[SR-Nr]],SRDB[SR-Nr.],SRDB[Vorname],\"NA\",0))","v":""},{"$f":"IF(ISBLANK(SRDB4[[#This Row],[SR-Nr]]),\"\",_xlfn.XLOOKUP(SRDB4[[#This Row],[SR-Nr]],SRDB[SR-Nr.],SRDB[Name],\"NA\",0))","v":""},{"$f":"IF(ISBLANK(SRDB4[[#This Row],[SR-Nr]]),\"\",IF(COUNTIF(Registration!$A$7:$A$204,SRDB4[[#This Row],[SR-Nr]])=1,TRUE,FALSE))","v":""}]
[null,{"$f":"IF(ISBLANK(SRDB4[[#This Row],[SR-Nr]]),\"\",_xlfn.XLOOKUP(SRDB4[[#This Row],[SR-Nr]],SRDB[SR-Nr.],SRDB[Vorname],\"NA\",0))","v":""},{"$f":"IF(ISBLANK(SRDB4[[#This Row],[SR-Nr]]),\"\",_xlfn.XLOOKUP(SRDB4[[#This Row],[SR-Nr]],SRDB[SR-Nr.],SRDB[Name],\"NA\",0))","v":""},{"$f":"IF(ISBLANK(SRDB4[[#This Row],[SR-Nr]]),\"\",IF(COUNTIF(Registration!$A$7:$A$204,SRDB4[[#This Row],[SR-Nr]])=1,TRUE,FALSE))","v":""}]
[null,{"$f":"IF(ISBLANK(SRDB4[[#This Row],[SR-Nr]]),\"\",_xlfn.XLOOKUP(SRDB4[[#This Row],[SR-Nr]],SRDB[SR-Nr.],SRDB[Vorname],\"NA\",0))","v":""},{"$f":"IF(ISBLANK(SRDB4[[#This Row],[SR-Nr]]),\"\",_xlfn.XLOOKUP(SRDB4[[#This Row],[SR-Nr]],SRDB[SR-Nr.],SRDB[Name],\"NA\",0))","v":""},{"$f":"IF(ISBLANK(SRDB4[[#This Row],[SR-Nr]]),\"\",IF(COUNTIF(Registration!$A$7:$A$204,SRDB4[[#This Row],[SR-Nr]])=1,TRUE,FALSE))","v":""}]
[null,{"$f":"IF(ISBLANK(SRDB4[[#This Row],[SR-Nr]]),\"\",_xlfn.XLOOKUP(SRDB4[[#This Row],[SR-Nr]],SRDB[SR-Nr.],SRDB[Vorname],\"NA\",0))","v":""},{"$f":"IF(ISBLANK(SRDB4[[#This Row],[SR-Nr]]),\"\",_xlfn.XLOOKUP(SRDB4[[#This Row],[SR-Nr]],SRDB[SR-Nr.],SRDB[Name],\"NA\",0))","v":""},{"$f":"IF(ISBLANK(SRDB4[[#This Row],[SR-Nr]]),\"\",IF(COUNTIF(Registration!$A$7:$A$204,SRDB4[[#This Row],[SR-Nr]])=1,TRUE,FALSE))","v":""}]
[null,{"$f":"IF(ISBLANK(SRDB4[[#This Row],[SR-Nr]]),\"\",_xlfn.XLOOKUP(SRDB4[[#This Row],[SR-Nr]],SRDB[SR-Nr.],SRDB[Vorname],\"NA\",0))","v":""},{"$f":"IF(ISBLANK(SRDB4[[#This Row],[SR-Nr]]),\"\",_xlfn.XLOOKUP(SRDB4[[#This Row],[SR-Nr]],SRDB[SR-Nr.],SRDB[Name],\"NA\",0))","v":""},{"$f":"IF(ISBLANK(SRDB4[[#This Row],[SR-Nr]]),\"\",IF(COUNTIF(Registration!$A$7:$A$204,SRDB4[[#This Row],[SR-Nr]])=1,TRUE,FALSE))","v":""}]
[null,{"$f":"IF(ISBLANK(SRDB4[[#This Row],[SR-Nr]]),\"\",_xlfn.XLOOKUP(SRDB4[[#This Row],[SR-Nr]],SRDB[SR-Nr.],SRDB[Vorname],\"NA\",0))","v":""},{"$f":"IF(ISBLANK(SRDB4[[#This Row],[SR-Nr]]),\"\",_xlfn.XLOOKUP(SRDB4[[#This Row],[SR-Nr]],SRDB[SR-Nr.],SRDB[Name],\"NA\",0))","v":""},{"$f":"IF(ISBLANK(SRDB4[[#This Row],[SR-Nr]]),\"\",IF(COUNTIF(Registration!$A$7:$A$204,SRDB4[[#This Row],[SR-Nr]])=1,TRUE,FALSE))","v":""}]
[null,{"$f":"IF(ISBLANK(SRDB4[[#This Row],[SR-Nr]]),\"\",_xlfn.XLOOKUP(SRDB4[[#This Row],[SR-Nr]],SRDB[SR-Nr.],SRDB[Vorname],\"NA\",0))","v":""},{"$f":"IF(ISBLANK(SRDB4[[#This Row],[SR-Nr]]),\"\",_xlfn.XLOOKUP(SRDB4[[#This Row],[SR-Nr]],SRDB[SR-Nr.],SRDB[Name],\"NA\",0))","v":""},{"$f":"IF(ISBLANK(SRDB4[[#This Row],[SR-Nr]]),\"\",IF(COUNTIF(Registration!$A$7:$A$204,SRDB4[[#This Row],[SR-Nr]])=1,TRUE,FALSE))","v":""}]
[null,{"$f":"IF(ISBLANK(SRDB4[[#This Row],[SR-Nr]]),\"\",_xlfn.XLOOKUP(SRDB4[[#This Row],[SR-Nr]],SRDB[SR-Nr.],SRDB[Vorname],\"NA\",0))","v":""},{"$f":"IF(ISBLANK(SRDB4[[#This Row],[SR-Nr]]),\"\",_xlfn.XLOOKUP(SRDB4[[#This Row],[SR-Nr]],SRDB[SR-Nr.],SRDB[Name],\"NA\",0))","v":""},{"$f":"IF(ISBLANK(SRDB4[[#This Row],[SR-Nr]]),\"\",IF(COUNTIF(Registration!$A$7:$A$204,SRDB4[[#This Row],[SR-Nr]])=1,TRUE,FALSE))","v":""}]
[null,{"$f":"IF(ISBLANK(SRDB4[[#This Row],[SR-Nr]]),\"\",_xlfn.XLOOKUP(SRDB4[[#This Row],[SR-Nr]],SRDB[SR-Nr.],SRDB[Vorname],\"NA\",0))","v":""},{"$f":"IF(ISBLANK(SRDB4[[#This Row],[SR-Nr]]),\"\",_xlfn.XLOOKUP(SRDB4[[#This Row],[SR-Nr]],SRDB[SR-Nr.],SRDB[Name],\"NA\",0))","v":""},{"$f":"IF(ISBLANK(SRDB4[[#This Row],[SR-Nr]]),\"\",IF(COUNTIF(Registration!$A$7:$A$204,SRDB4[[#This Row],[SR-Nr]])=1,TRUE,FALSE))","v":""}]
[null,{"$f":"IF(ISBLANK(SRDB4[[#This Row],[SR-Nr]]),\"\",_xlfn.XLOOKUP(SRDB4[[#This Row],[SR-Nr]],SRDB[SR-Nr.],SRDB[Vorname],\"NA\",0))","v":""},{"$f":"IF(ISBLANK(SRDB4[[#This Row],[SR-Nr]]),\"\",_xlfn.XLOOKUP(SRDB4[[#This Row],[SR-Nr]],SRDB[SR-Nr.],SRDB[Name],\"NA\",0))","v":""},{"$f":"IF(ISBLANK(SRDB4[[#This Row],[SR-Nr]]),\"\",IF(COUNTIF(Registration!$A$7:$A$204,SRDB4[[#This Row],[SR-Nr]])=1,TRUE,FALSE))","v":""}]
[null,{"$f":"IF(ISBLANK(SRDB4[[#This Row],[SR-Nr]]),\"\",_xlfn.XLOOKUP(SRDB4[[#This Row],[SR-Nr]],SRDB[SR-Nr.],SRDB[Vorname],\"NA\",0))","v":""},{"$f":"IF(ISBLANK(SRDB4[[#This Row],[SR-Nr]]),\"\",_xlfn.XLOOKUP(SRDB4[[#This Row],[SR-Nr]],SRDB[SR-Nr.],SRDB[Name],\"NA\",0))","v":""},{"$f":"IF(ISBLANK(SRDB4[[#This Row],[SR-Nr]]),\"\",IF(COUNTIF(Registration!$A$7:$A$204,SRDB4[[#This Row],[SR-Nr]])=1,TRUE,FALSE))","v":""}]
[null,{"$f":"IF(ISBLANK(SRDB4[[#This Row],[SR-Nr]]),\"\",_xlfn.XLOOKUP(SRDB4[[#This Row],[SR-Nr]],SRDB[SR-Nr.],SRDB[Vorname],\"NA\",0))","v":""},{"$f":"IF(ISBLANK(SRDB4[[#This Row],[SR-Nr]]),\"\",_xlfn.XLOOKUP(SRDB4[[#This Row],[SR-Nr]],SRDB[SR-Nr.],SRDB[Name],\"NA\",0))","v":""},{"$f":"IF(ISBLANK(SRDB4[[#This Row],[SR-Nr]]),\"\",IF(COUNTIF(Registration!$A$7:$A$204,SRDB4[[#This Row],[SR-Nr]])=1,TRUE,FALSE))","v":""}]
[null,{"$f":"IF(ISBLANK(SRDB4[[#This Row],[SR-Nr]]),\"\",_xlfn.XLOOKUP(SRDB4[[#This Row],[SR-Nr]],SRDB[SR-Nr.],SRDB[Vorname],\"NA\",0))","v":""},{"$f":"IF(ISBLANK(SRDB4[[#This Row],[SR-Nr]]),\"\",_xlfn.XLOOKUP(SRDB4[[#This Row],[SR-Nr]],SRDB[SR-Nr.],SRDB[Name],\"NA\",0))","v":""},{"$f":"IF(ISBLANK(SRDB4[[#This Row],[SR-Nr]]),\"\",IF(COUNTIF(Registration!$A$7:$A$204,SRDB4[[#This Row],[SR-Nr]])=1,TRUE,FALSE))","v":""}]
[null,{"$f":"IF(ISBLANK(SRDB4[[#This Row],[SR-Nr]]),\"\",_xlfn.XLOOKUP(SRDB4[[#This Row],[SR-Nr]],SRDB[SR-Nr.],SRDB[Vorname],\"NA\",0))","v":""},{"$f":"IF(ISBLANK(SRDB4[[#This Row],[SR-Nr]]),\"\",_xlfn.XLOOKUP(SRDB4[[#This Row],[SR-Nr]],SRDB[SR-Nr.],SRDB[Name],\"NA\",0))","v":""},{"$f":"IF(ISBLANK(SRDB4[[#This Row],[SR-Nr]]),\"\",IF(COUNTIF(Registration!$A$7:$A$204,SRDB4[[#This Row],[SR-Nr]])=1,TRUE,FALSE))","v":""}]
[null,{"$f":"IF(ISBLANK(SRDB4[[#This Row],[SR-Nr]]),\"\",_xlfn.XLOOKUP(SRDB4[[#This Row],[SR-Nr]],SRDB[SR-Nr.],SRDB[Vorname],\"NA\",0))","v":""},{"$f":"IF(ISBLANK(SRDB4[[#This Row],[SR-Nr]]),\"\",_xlfn.XLOOKUP(SRDB4[[#This Row],[SR-Nr]],SRDB[SR-Nr.],SRDB[Name],\"NA\",0))","v":""},{"$f":"IF(ISBLANK(SRDB4[[#This Row],[SR-Nr]]),\"\",IF(COUNTIF(Registration!$A$7:$A$204,SRDB4[[#This Row],[SR-Nr]])=1,TRUE,FALSE))","v":""}]
[null,{"$f":"IF(ISBLANK(SRDB4[[#This Row],[SR-Nr]]),\"\",_xlfn.XLOOKUP(SRDB4[[#This Row],[SR-Nr]],SRDB[SR-Nr.],SRDB[Vorname],\"NA\",0))","v":""},{"$f":"IF(ISBLANK(SRDB4[[#This Row],[SR-Nr]]),\"\",_xlfn.XLOOKUP(SRDB4[[#This Row],[SR-Nr]],SRDB[SR-Nr.],SRDB[Name],\"NA\",0))","v":""},{"$f":"IF(ISBLANK(SRDB4[[#This Row],[SR-Nr]]),\"\",IF(COUNTIF(Registration!$A$7:$A$204,SRDB4[[#This Row],[SR-Nr]])=1,TRUE,FALSE))","v":""}]
[null,{"$f":"IF(ISBLANK(SRDB4[[#This Row],[SR-Nr]]),\"\",_xlfn.XLOOKUP(SRDB4[[#This Row],[SR-Nr]],SRDB[SR-Nr.],SRDB[Vorname],\"NA\",0))","v":""},{"$f":"IF(ISBLANK(SRDB4[[#This Row],[SR-Nr]]),\"\",_xlfn.XLOOKUP(SRDB4[[#This Row],[SR-Nr]],SRDB[SR-Nr.],SRDB[Name],\"NA\",0))","v":""},{"$f":"IF(ISBLANK(SRDB4[[#This Row],[SR-Nr]]),\"\",IF(COUNTIF(Registration!$A$7:$A$204,SRDB4[[#This Row],[SR-Nr]])=1,TRUE,FALSE))","v":""}]
[null,{"$f":"IF(ISBLANK(SRDB4[[#This Row],[SR-Nr]]),\"\",_xlfn.XLOOKUP(SRDB4[[#This Row],[SR-Nr]],SRDB[SR-Nr.],SRDB[Vorname],\"NA\",0))","v":""},{"$f":"IF(ISBLANK(SRDB4[[#This Row],[SR-Nr]]),\"\",_xlfn.XLOOKUP(SRDB4[[#This Row],[SR-Nr]],SRDB[SR-Nr.],SRDB[Name],\"NA\",0))","v":""},{"$f":"IF(ISBLANK(SRDB4[[#This Row],[SR-Nr]]),\"\",IF(COUNTIF(Registration!$A$7:$A$204,SRDB4[[#This Row],[SR-Nr]])=1,TRUE,FALSE))","v":""}]
[null,{"$f":"IF(ISBLANK(SRDB4[[#This Row],[SR-Nr]]),\"\",_xlfn.XLOOKUP(SRDB4[[#This Row],[SR-Nr]],SRDB[SR-Nr.],SRDB[Vorname],\"NA\",0))","v":""},{"$f":"IF(ISBLANK(SRDB4[[#This Row],[SR-Nr]]),\"\",_xlfn.XLOOKUP(SRDB4[[#This Row],[SR-Nr]],SRDB[SR-Nr.],SRDB[Name],\"NA\",0))","v":""},{"$f":"IF(ISBLANK(SRDB4[[#This Row],[SR-Nr]]),\"\",IF(COUNTIF(Registration!$A$7:$A$204,SRDB4[[#This Row],[SR-Nr]])=1,TRUE,FALSE))","v":""}]
[null,{"$f":"IF(ISBLANK(SRDB4[[#This Row],[SR-Nr]]),\"\",_xlfn.XLOOKUP(SRDB4[[#This Row],[SR-Nr]],SRDB[SR-Nr.],SRDB[Vorname],\"NA\",0))","v":""},{"$f":"IF(ISBLANK(SRDB4[[#This Row],[SR-Nr]]),\"\",_xlfn.XLOOKUP(SRDB4[[#This Row],[SR-Nr]],SRDB[SR-Nr.],SRDB[Name],\"NA\",0))","v":""},{"$f":"IF(ISBLANK(SRDB4[[#This Row],[SR-Nr]]),\"\",IF(COUNTIF(Registration!$A$7:$A$204,SRDB4[[#This Row],[SR-Nr]])=1,TRUE,FALSE))","v":""}]
[null,{"$f":"IF(ISBLANK(SRDB4[[#This Row],[SR-Nr]]),\"\",_xlfn.XLOOKUP(SRDB4[[#This Row],[SR-Nr]],SRDB[SR-Nr.],SRDB[Vorname],\"NA\",0))","v":""},{"$f":"IF(ISBLANK(SRDB4[[#This Row],[SR-Nr]]),\"\",_xlfn.XLOOKUP(SRDB4[[#This Row],[SR-Nr]],SRDB[SR-Nr.],SRDB[Name],\"NA\",0))","v":""},{"$f":"IF(ISBLANK(SRDB4[[#This Row],[SR-Nr]]),\"\",IF(COUNTIF(Registration!$A$7:$A$204,SRDB4[[#This Row],[SR-Nr]])=1,TRUE,FALSE))","v":""}]
[null,{"$f":"IF(ISBLANK(SRDB4[[#This Row],[SR-Nr]]),\"\",_xlfn.XLOOKUP(SRDB4[[#This Row],[SR-Nr]],SRDB[SR-Nr.],SRDB[Vorname],\"NA\",0))","v":""},{"$f":"IF(ISBLANK(SRDB4[[#This Row],[SR-Nr]]),\"\",_xlfn.XLOOKUP(SRDB4[[#This Row],[SR-Nr]],SRDB[SR-Nr.],SRDB[Name],\"NA\",0))","v":""},{"$f":"IF(ISBLANK(SRDB4[[#This Row],[SR-Nr]]),\"\",IF(COUNTIF(Registration!$A$7:$A$204,SRDB4[[#This Row],[SR-Nr]])=1,TRUE,FALSE))","v":""}]
[null,{"$f":"IF(ISBLANK(SRDB4[[#This Row],[SR-Nr]]),\"\",_xlfn.XLOOKUP(SRDB4[[#This Row],[SR-Nr]],SRDB[SR-Nr.],SRDB[Vorname],\"NA\",0))","v":""},{"$f":"IF(ISBLANK(SRDB4[[#This Row],[SR-Nr]]),\"\",_xlfn.XLOOKUP(SRDB4[[#This Row],[SR-Nr]],SRDB[SR-Nr.],SRDB[Name],\"NA\",0))","v":""},{"$f":"IF(ISBLANK(SRDB4[[#This Row],[SR-Nr]]),\"\",IF(COUNTIF(Registration!$A$7:$A$204,SRDB4[[#This Row],[SR-Nr]])=1,TRUE,FALSE))","v":""}]
[null,{"$f":"IF(ISBLANK(SRDB4[[#This Row],[SR-Nr]]),\"\",_xlfn.XLOOKUP(SRDB4[[#This Row],[SR-Nr]],SRDB[SR-Nr.],SRDB[Vorname],\"NA\",0))","v":""},{"$f":"IF(ISBLANK(SRDB4[[#This Row],[SR-Nr]]),\"\",_xlfn.XLOOKUP(SRDB4[[#This Row],[SR-Nr]],SRDB[SR-Nr.],SRDB[Name],\"NA\",0))","v":""},{"$f":"IF(ISBLANK(SRDB4[[#This Row],[SR-Nr]]),\"\",IF(COUNTIF(Registration!$A$7:$A$204,SRDB4[[#This Row],[SR-Nr]])=1,TRUE,FALSE))","v":""}]
[null,{"$f":"IF(ISBLANK(SRDB4[[#This Row],[SR-Nr]]),\"\",_xlfn.XLOOKUP(SRDB4[[#This Row],[SR-Nr]],SRDB[SR-Nr.],SRDB[Vorname],\"NA\",0))","v":""},{"$f":"IF(ISBLANK(SRDB4[[#This Row],[SR-Nr]]),\"\",_xlfn.XLOOKUP(SRDB4[[#This Row],[SR-Nr]],SRDB[SR-Nr.],SRDB[Name],\"NA\",0))","v":""},{"$f":"IF(ISBLANK(SRDB4[[#This Row],[SR-Nr]]),\"\",IF(COUNTIF(Registration!$A$7:$A$204,SRDB4[[#This Row],[SR-Nr]])=1,TRUE,FALSE))","v":""}]
[null,{"$f":"IF(ISBLANK(SRDB4[[#This Row],[SR-Nr]]),\"\",_xlfn.XLOOKUP(SRDB4[[#This Row],[SR-Nr]],SRDB[SR-Nr.],SRDB[Vorname],\"NA\",0))","v":""},{"$f":"IF(ISBLANK(SRDB4[[#This Row],[SR-Nr]]),\"\",_xlfn.XLOOKUP(SRDB4[[#This Row],[SR-Nr]],SRDB[SR-Nr.],SRDB[Name],\"NA\",0))","v":""},{"$f":"IF(ISBLANK(SRDB4[[#This Row],[SR-Nr]]),\"\",IF(COUNTIF(Registration!$A$7:$A$204,SRDB4[[#This Row],[SR-Nr]])=1,TRUE,FALSE))","v":""}]
[null,{"$f":"IF(ISBLANK(SRDB4[[#This Row],[SR-Nr]]),\"\",_xlfn.XLOOKUP(SRDB4[[#This Row],[SR-Nr]],SRDB[SR-Nr.],SRDB[Vorname],\"NA\",0))","v":""},{"$f":"IF(ISBLANK(SRDB4[[#This Row],[SR-Nr]]),\"\",_xlfn.XLOOKUP(SRDB4[[#This Row],[SR-Nr]],SRDB[SR-Nr.],SRDB[Name],\"NA\",0))","v":""},{"$f":"IF(ISBLANK(SRDB4[[#This Row],[SR-Nr]]),\"\",IF(COUNTIF(Registration!$A$7:$A$204,SRDB4[[#This Row],[SR-Nr]])=1,TRUE,FALSE))","v":""}]
[null,{"$f":"IF(ISBLANK(SRDB4[[#This Row],[SR-Nr]]),\"\",_xlfn.XLOOKUP(SRDB4[[#This Row],[SR-Nr]],SRDB[SR-Nr.],SRDB[Vorname],\"NA\",0))","v":""},{"$f":"IF(ISBLANK(SRDB4[[#This Row],[SR-Nr]]),\"\",_xlfn.XLOOKUP(SRDB4[[#This Row],[SR-Nr]],SRDB[SR-Nr.],SRDB[Name],\"NA\",0))","v":""},{"$f":"IF(ISBLANK(SRDB4[[#This Row],[SR-Nr]]),\"\",IF(COUNTIF(Registration!$A$7:$A$204,SRDB4[[#This Row],[SR-Nr]])=1,TRUE,FALSE))","v":""}]
[null,{"$f":"IF(ISBLANK(SRDB4[[#This Row],[SR-Nr]]),\"\",_xlfn.XLOOKUP(SRDB4[[#This Row],[SR-Nr]],SRDB[SR-Nr.],SRDB[Vorname],\"NA\",0))","v":""},{"$f":"IF(ISBLANK(SRDB4[[#This Row],[SR-Nr]]),\"\",_xlfn.XLOOKUP(SRDB4[[#This Row],[SR-Nr]],SRDB[SR-Nr.],SRDB[Name],\"NA\",0))","v":""},{"$f":"IF(ISBLANK(SRDB4[[#This Row],[SR-Nr]]),\"\",IF(COUNTIF(Registration!$A$7:$A$204,SRDB4[[#This Row],[SR-Nr]])=1,TRUE,FALSE))","v":""}]
[null,{"$f":"IF(ISBLANK(SRDB4[[#This Row],[SR-Nr]]),\"\",_xlfn.XLOOKUP(SRDB4[[#This Row],[SR-Nr]],SRDB[SR-Nr.],SRDB[Vorname],\"NA\",0))","v":""},{"$f":"IF(ISBLANK(SRDB4[[#This Row],[SR-Nr]]),\"\",_xlfn.XLOOKUP(SRDB4[[#This Row],[SR-Nr]],SRDB[SR-Nr.],SRDB[Name],\"NA\",0))","v":""},{"$f":"IF(ISBLANK(SRDB4[[#This Row],[SR-Nr]]),\"\",IF(COUNTIF(Registration!$A$7:$A$204,SRDB4[[#This Row],[SR-Nr]])=1,TRUE,FALSE))","v":""}]
[null,{"$f":"IF(ISBLANK(SRDB4[[#This Row],[SR-Nr]]),\"\",_xlfn.XLOOKUP(SRDB4[[#This Row],[SR-Nr]],SRDB[SR-Nr.],SRDB[Vorname],\"NA\",0))","v":""},{"$f":"IF(ISBLANK(SRDB4[[#This Row],[SR-Nr]]),\"\",_xlfn.XLOOKUP(SRDB4[[#This Row],[SR-Nr]],SRDB[SR-Nr.],SRDB[Name],\"NA\",0))","v":""},{"$f":"IF(ISBLANK(SRDB4[[#This Row],[SR-Nr]]),\"\",IF(COUNTIF(Registration!$A$7:$A$204,SRDB4[[#This Row],[SR-Nr]])=1,TRUE,FALSE))","v":""}]
[null,{"$f":"IF(ISBLANK(SRDB4[[#This Row],[SR-Nr]]),\"\",_xlfn.XLOOKUP(SRDB4[[#This Row],[SR-Nr]],SRDB[SR-Nr.],SRDB[Vorname],\"NA\",0))","v":""},{"$f":"IF(ISBLANK(SRDB4[[#This Row],[SR-Nr]]),\"\",_xlfn.XLOOKUP(SRDB4[[#This Row],[SR-Nr]],SRDB[SR-Nr.],SRDB[Name],\"NA\",0))","v":""},{"$f":"IF(ISBLANK(SRDB4[[#This Row],[SR-Nr]]),\"\",IF(COUNTIF(Registration!$A$7:$A$204,SRDB4[[#This Row],[SR-Nr]])=1,TRUE,FALSE))","v":""}]
[null,{"$f":"IF(ISBLANK(SRDB4[[#This Row],[SR-Nr]]),\"\",_xlfn.XLOOKUP(SRDB4[[#This Row],[SR-Nr]],SRDB[SR-Nr.],SRDB[Vorname],\"NA\",0))","v":""},{"$f":"IF(ISBLANK(SRDB4[[#This Row],[SR-Nr]]),\"\",_xlfn.XLOOKUP(SRDB4[[#This Row],[SR-Nr]],SRDB[SR-Nr.],SRDB[Name],\"NA\",0))","v":""},{"$f":"IF(ISBLANK(SRDB4[[#This Row],[SR-Nr]]),\"\",IF(COUNTIF(Registration!$A$7:$A$204,SRDB4[[#This Row],[SR-Nr]])=1,TRUE,FALSE))","v":""}]
[null,{"$f":"IF(ISBLANK(SRDB4[[#This Row],[SR-Nr]]),\"\",_xlfn.XLOOKUP(SRDB4[[#This Row],[SR-Nr]],SRDB[SR-Nr.],SRDB[Vorname],\"NA\",0))","v":""},{"$f":"IF(ISBLANK(SRDB4[[#This Row],[SR-Nr]]),\"\",_xlfn.XLOOKUP(SRDB4[[#This Row],[SR-Nr]],SRDB[SR-Nr.],SRDB[Name],\"NA\",0))","v":""},{"$f":"IF(ISBLANK(SRDB4[[#This Row],[SR-Nr]]),\"\",IF(COUNTIF(Registration!$A$7:$A$204,SRDB4[[#This Row],[SR-Nr]])=1,TRUE,FALSE))","v":""}]
[null,{"$f":"IF(ISBLANK(SRDB4[[#This Row],[SR-Nr]]),\"\",_xlfn.XLOOKUP(SRDB4[[#This Row],[SR-Nr]],SRDB[SR-Nr.],SRDB[Vorname],\"NA\",0))","v":""},{"$f":"IF(ISBLANK(SRDB4[[#This Row],[SR-Nr]]),\"\",_xlfn.XLOOKUP(SRDB4[[#This Row],[SR-Nr]],SRDB[SR-Nr.],SRDB[Name],\"NA\",0))","v":""},{"$f":"IF(ISBLANK(SRDB4[[#This Row],[SR-Nr]]),\"\",IF(COUNTIF(Registration!$A$7:$A$204,SRDB4[[#This Row],[SR-Nr]])=1,TRUE,FALSE))","v":""}]
[null,{"$f":"IF(ISBLANK(SRDB4[[#This Row],[SR-Nr]]),\"\",_xlfn.XLOOKUP(SRDB4[[#This Row],[SR-Nr]],SRDB[SR-Nr.],SRDB[Vorname],\"NA\",0))","v":""},{"$f":"IF(ISBLANK(SRDB4[[#This Row],[SR-Nr]]),\"\",_xlfn.XLOOKUP(SRDB4[[#This Row],[SR-Nr]],SRDB[SR-Nr.],SRDB[Name],\"NA\",0))","v":""},{"$f":"IF(ISBLANK(SRDB4[[#This Row],[SR-Nr]]),\"\",IF(COUNTIF(Registration!$A$7:$A$204,SRDB4[[#This Row],[SR-Nr]])=1,TRUE,FALSE))","v":""}]
[null,{"$f":"IF(ISBLANK(SRDB4[[#This Row],[SR-Nr]]),\"\",_xlfn.XLOOKUP(SRDB4[[#This Row],[SR-Nr]],SRDB[SR-Nr.],SRDB[Vorname],\"NA\",0))","v":""},{"$f":"IF(ISBLANK(SRDB4[[#This Row],[SR-Nr]]),\"\",_xlfn.XLOOKUP(SRDB4[[#This Row],[SR-Nr]],SRDB[SR-Nr.],SRDB[Name],\"NA\",0))","v":""},{"$f":"IF(ISBLANK(SRDB4[[#This Row],[SR-Nr]]),\"\",IF(COUNTIF(Registration!$A$7:$A$204,SRDB4[[#This Row],[SR-Nr]])=1,TRUE,FALSE))","v":""}]
[null,{"$f":"IF(ISBLANK(SRDB4[[#This Row],[SR-Nr]]),\"\",_xlfn.XLOOKUP(SRDB4[[#This Row],[SR-Nr]],SRDB[SR-Nr.],SRDB[Vorname],\"NA\",0))","v":""},{"$f":"IF(ISBLANK(SRDB4[[#This Row],[SR-Nr]]),\"\",_xlfn.XLOOKUP(SRDB4[[#This Row],[SR-Nr]],SRDB[SR-Nr.],SRDB[Name],\"NA\",0))","v":""},{"$f":"IF(ISBLANK(SRDB4[[#This Row],[SR-Nr]]),\"\",IF(COUNTIF(Registration!$A$7:$A$204,SRDB4[[#This Row],[SR-Nr]])=1,TRUE,FALSE))","v":""}]
[null,{"$f":"IF(ISBLANK(SRDB4[[#This Row],[SR-Nr]]),\"\",_xlfn.XLOOKUP(SRDB4[[#This Row],[SR-Nr]],SRDB[SR-Nr.],SRDB[Vorname],\"NA\",0))","v":""},{"$f":"IF(ISBLANK(SRDB4[[#This Row],[SR-Nr]]),\"\",_xlfn.XLOOKUP(SRDB4[[#This Row],[SR-Nr]],SRDB[SR-Nr.],SRDB[Name],\"NA\",0))","v":""},{"$f":"IF(ISBLANK(SRDB4[[#This Row],[SR-Nr]]),\"\",IF(COUNTIF(Registration!$A$7:$A$204,SRDB4[[#This Row],[SR-Nr]])=1,TRUE,FALSE))","v":""}]
[null,{"$f":"IF(ISBLANK(SRDB4[[#This Row],[SR-Nr]]),\"\",_xlfn.XLOOKUP(SRDB4[[#This Row],[SR-Nr]],SRDB[SR-Nr.],SRDB[Vorname],\"NA\",0))","v":""},{"$f":"IF(ISBLANK(SRDB4[[#This Row],[SR-Nr]]),\"\",_xlfn.XLOOKUP(SRDB4[[#This Row],[SR-Nr]],SRDB[SR-Nr.],SRDB[Name],\"NA\",0))","v":""},{"$f":"IF(ISBLANK(SRDB4[[#This Row],[SR-Nr]]),\"\",IF(COUNTIF(Registration!$A$7:$A$204,SRDB4[[#This Row],[SR-Nr]])=1,TRUE,FALSE))","v":""}]
[null,{"$f":"IF(ISBLANK(SRDB4[[#This Row],[SR-Nr]]),\"\",_xlfn.XLOOKUP(SRDB4[[#This Row],[SR-Nr]],SRDB[SR-Nr.],SRDB[Vorname],\"NA\",0))","v":""},{"$f":"IF(ISBLANK(SRDB4[[#This Row],[SR-Nr]]),\"\",_xlfn.XLOOKUP(SRDB4[[#This Row],[SR-Nr]],SRDB[SR-Nr.],SRDB[Name],\"NA\",0))","v":""},{"$f":"IF(ISBLANK(SRDB4[[#This Row],[SR-Nr]]),\"\",IF(COUNTIF(Registration!$A$7:$A$204,SRDB4[[#This Row],[SR-Nr]])=1,TRUE,FALSE))","v":""}]
[null,{"$f":"IF(ISBLANK(SRDB4[[#This Row],[SR-Nr]]),\"\",_xlfn.XLOOKUP(SRDB4[[#This Row],[SR-Nr]],SRDB[SR-Nr.],SRDB[Vorname],\"NA\",0))","v":""},{"$f":"IF(ISBLANK(SRDB4[[#This Row],[SR-Nr]]),\"\",_xlfn.XLOOKUP(SRDB4[[#This Row],[SR-Nr]],SRDB[SR-Nr.],SRDB[Name],\"NA\",0))","v":""},{"$f":"IF(ISBLANK(SRDB4[[#This Row],[SR-Nr]]),\"\",IF(COUNTIF(Registration!$A$7:$A$204,SRDB4[[#This Row],[SR-Nr]])=1,TRUE,FALSE))","v":""}]
[null,{"$f":"IF(ISBLANK(SRDB4[[#This Row],[SR-Nr]]),\"\",_xlfn.XLOOKUP(SRDB4[[#This Row],[SR-Nr]],SRDB[SR-Nr.],SRDB[Vorname],\"NA\",0))","v":""},{"$f":"IF(ISBLANK(SRDB4[[#This Row],[SR-Nr]]),\"\",_xlfn.XLOOKUP(SRDB4[[#This Row],[SR-Nr]],SRDB[SR-Nr.],SRDB[Name],\"NA\",0))","v":""},{"$f":"IF(ISBLANK(SRDB4[[#This Row],[SR-Nr]]),\"\",IF(COUNTIF(Registration!$A$7:$A$204,SRDB4[[#This Row],[SR-Nr]])=1,TRUE,FALSE))","v":""}]
[null,{"$f":"IF(ISBLANK(SRDB4[[#This Row],[SR-Nr]]),\"\",_xlfn.XLOOKUP(SRDB4[[#This Row],[SR-Nr]],SRDB[SR-Nr.],SRDB[Vorname],\"NA\",0))","v":""},{"$f":"IF(ISBLANK(SRDB4[[#This Row],[SR-Nr]]),\"\",_xlfn.XLOOKUP(SRDB4[[#This Row],[SR-Nr]],SRDB[SR-Nr.],SRDB[Name],\"NA\",0))","v":""},{"$f":"IF(ISBLANK(SRDB4[[#This Row],[SR-Nr]]),\"\",IF(COUNTIF(Registration!$A$7:$A$204,SRDB4[[#This Row],[SR-Nr]])=1,TRUE,FALSE))","v":""}]
[null,{"$f":"IF(ISBLANK(SRDB4[[#This Row],[SR-Nr]]),\"\",_xlfn.XLOOKUP(SRDB4[[#This Row],[SR-Nr]],SRDB[SR-Nr.],SRDB[Vorname],\"NA\",0))","v":""},{"$f":"IF(ISBLANK(SRDB4[[#This Row],[SR-Nr]]),\"\",_xlfn.XLOOKUP(SRDB4[[#This Row],[SR-Nr]],SRDB[SR-Nr.],SRDB[Name],\"NA\",0))","v":""},{"$f":"IF(ISBLANK(SRDB4[[#This Row],[SR-Nr]]),\"\",IF(COUNTIF(Registration!$A$7:$A$204,SRDB4[[#This Row],[SR-Nr]])=1,TRUE,FALSE))","v":""}]
[null,{"$f":"IF(ISBLANK(SRDB4[[#This Row],[SR-Nr]]),\"\",_xlfn.XLOOKUP(SRDB4[[#This Row],[SR-Nr]],SRDB[SR-Nr.],SRDB[Vorname],\"NA\",0))","v":""},{"$f":"IF(ISBLANK(SRDB4[[#This Row],[SR-Nr]]),\"\",_xlfn.XLOOKUP(SRDB4[[#This Row],[SR-Nr]],SRDB[SR-Nr.],SRDB[Name],\"NA\",0))","v":""},{"$f":"IF(ISBLANK(SRDB4[[#This Row],[SR-Nr]]),\"\",IF(COUNTIF(Registration!$A$7:$A$204,SRDB4[[#This Row],[SR-Nr]])=1,TRUE,FALSE))","v":""}]
[null,{"$f":"IF(ISBLANK(SRDB4[[#This Row],[SR-Nr]]),\"\",_xlfn.XLOOKUP(SRDB4[[#This Row],[SR-Nr]],SRDB[SR-Nr.],SRDB[Vorname],\"NA\",0))","v":""},{"$f":"IF(ISBLANK(SRDB4[[#This Row],[SR-Nr]]),\"\",_xlfn.XLOOKUP(SRDB4[[#This Row],[SR-Nr]],SRDB[SR-Nr.],SRDB[Name],\"NA\",0))","v":""},{"$f":"IF(ISBLANK(SRDB4[[#This Row],[SR-Nr]]),\"\",IF(COUNTIF(Registration!$A$7:$A$204,SRDB4[[#This Row],[SR-Nr]])=1,TRUE,FALSE))","v":""}]
[null,{"$f":"IF(ISBLANK(SRDB4[[#This Row],[SR-Nr]]),\"\",_xlfn.XLOOKUP(SRDB4[[#This Row],[SR-Nr]],SRDB[SR-Nr.],SRDB[Vorname],\"NA\",0))","v":""},{"$f":"IF(ISBLANK(SRDB4[[#This Row],[SR-Nr]]),\"\",_xlfn.XLOOKUP(SRDB4[[#This Row],[SR-Nr]],SRDB[SR-Nr.],SRDB[Name],\"NA\",0))","v":""},{"$f":"IF(ISBLANK(SRDB4[[#This Row],[SR-Nr]]),\"\",IF(COUNTIF(Registration!$A$7:$A$204,SRDB4[[#This Row],[SR-Nr]])=1,TRUE,FALSE))","v":""}]
[null,{"$f":"IF(ISBLANK(SRDB4[[#This Row],[SR-Nr]]),\"\",_xlfn.XLOOKUP(SRDB4[[#This Row],[SR-Nr]],SRDB[SR-Nr.],SRDB[Vorname],\"NA\",0))","v":""},{"$f":"IF(ISBLANK(SRDB4[[#This Row],[SR-Nr]]),\"\",_xlfn.XLOOKUP(SRDB4[[#This Row],[SR-Nr]],SRDB[SR-Nr.],SRDB[Name],\"NA\",0))","v":""},{"$f":"IF(ISBLANK(SRDB4[[#This Row],[SR-Nr]]),\"\",IF(COUNTIF(Registration!$A$7:$A$204,SRDB4[[#This Row],[SR-Nr]])=1,TRUE,FALSE))","v":""}]
[null,{"$f":"IF(ISBLANK(SRDB4[[#This Row],[SR-Nr]]),\"\",_xlfn.XLOOKUP(SRDB4[[#This Row],[SR-Nr]],SRDB[SR-Nr.],SRDB[Vorname],\"NA\",0))","v":""},{"$f":"IF(ISBLANK(SRDB4[[#This Row],[SR-Nr]]),\"\",_xlfn.XLOOKUP(SRDB4[[#This Row],[SR-Nr]],SRDB[SR-Nr.],SRDB[Name],\"NA\",0))","v":""},{"$f":"IF(ISBLANK(SRDB4[[#This Row],[SR-Nr]]),\"\",IF(COUNTIF(Registration!$A$7:$A$204,SRDB4[[#This Row],[SR-Nr]])=1,TRUE,FALSE))","v":""}]
[null,{"$f":"IF(ISBLANK(SRDB4[[#This Row],[SR-Nr]]),\"\",_xlfn.XLOOKUP(SRDB4[[#This Row],[SR-Nr]],SRDB[SR-Nr.],SRDB[Vorname],\"NA\",0))","v":""},{"$f":"IF(ISBLANK(SRDB4[[#This Row],[SR-Nr]]),\"\",_xlfn.XLOOKUP(SRDB4[[#This Row],[SR-Nr]],SRDB[SR-Nr.],SRDB[Name],\"NA\",0))","v":""},{"$f":"IF(ISBLANK(SRDB4[[#This Row],[SR-Nr]]),\"\",IF(COUNTIF(Registration!$A$7:$A$204,SRDB4[[#This Row],[SR-Nr]])=1,TRUE,FALSE))","v":""}]
[null,{"$f":"IF(ISBLANK(SRDB4[[#This Row],[SR-Nr]]),\"\",_xlfn.XLOOKUP(SRDB4[[#This Row],[SR-Nr]],SRDB[SR-Nr.],SRDB[Vorname],\"NA\",0))","v":""},{"$f":"IF(ISBLANK(SRDB4[[#This Row],[SR-Nr]]),\"\",_xlfn.XLOOKUP(SRDB4[[#This Row],[SR-Nr]],SRDB[SR-Nr.],SRDB[Name],\"NA\",0))","v":""},{"$f":"IF(ISBLANK(SRDB4[[#This Row],[SR-Nr]]),\"\",IF(COUNTIF(Registration!$A$7:$A$204,SRDB4[[#This Row],[SR-Nr]])=1,TRUE,FALSE))","v":""}]
[null,{"$f":"IF(ISBLANK(SRDB4[[#This Row],[SR-Nr]]),\"\",_xlfn.XLOOKUP(SRDB4[[#This Row],[SR-Nr]],SRDB[SR-Nr.],SRDB[Vorname],\"NA\",0))","v":""},{"$f":"IF(ISBLANK(SRDB4[[#This Row],[SR-Nr]]),\"\",_xlfn.XLOOKUP(SRDB4[[#This Row],[SR-Nr]],SRDB[SR-Nr.],SRDB[Name],\"NA\",0))","v":""},{"$f":"IF(ISBLANK(SRDB4[[#This Row],[SR-Nr]]),\"\",IF(COUNTIF(Registration!$A$7:$A$204,SRDB4[[#This Row],[SR-Nr]])=1,TRUE,FALSE))","v":""}]
[null,{"$f":"IF(ISBLANK(SRDB4[[#This Row],[SR-Nr]]),\"\",_xlfn.XLOOKUP(SRDB4[[#This Row],[SR-Nr]],SRDB[SR-Nr.],SRDB[Vorname],\"NA\",0))","v":""},{"$f":"IF(ISBLANK(SRDB4[[#This Row],[SR-Nr]]),\"\",_xlfn.XLOOKUP(SRDB4[[#This Row],[SR-Nr]],SRDB[SR-Nr.],SRDB[Name],\"NA\",0))","v":""},{"$f":"IF(ISBLANK(SRDB4[[#This Row],[SR-Nr]]),\"\",IF(COUNTIF(Registration!$A$7:$A$204,SRDB4[[#This Row],[SR-Nr]])=1,TRUE,FALSE))","v":""}]
[null,{"$f":"IF(ISBLANK(SRDB4[[#This Row],[SR-Nr]]),\"\",_xlfn.XLOOKUP(SRDB4[[#This Row],[SR-Nr]],SRDB[SR-Nr.],SRDB[Vorname],\"NA\",0))","v":""},{"$f":"IF(ISBLANK(SRDB4[[#This Row],[SR-Nr]]),\"\",_xlfn.XLOOKUP(SRDB4[[#This Row],[SR-Nr]],SRDB[SR-Nr.],SRDB[Name],\"NA\",0))","v":""},{"$f":"IF(ISBLANK(SRDB4[[#This Row],[SR-Nr]]),\"\",IF(COUNTIF(Registration!$A$7:$A$204,SRDB4[[#This Row],[SR-Nr]])=1,TRUE,FALSE))","v":""}]
[null,{"$f":"IF(ISBLANK(SRDB4[[#This Row],[SR-Nr]]),\"\",_xlfn.XLOOKUP(SRDB4[[#This Row],[SR-Nr]],SRDB[SR-Nr.],SRDB[Vorname],\"NA\",0))","v":""},{"$f":"IF(ISBLANK(SRDB4[[#This Row],[SR-Nr]]),\"\",_xlfn.XLOOKUP(SRDB4[[#This Row],[SR-Nr]],SRDB[SR-Nr.],SRDB[Name],\"NA\",0))","v":""},{"$f":"IF(ISBLANK(SRDB4[[#This Row],[SR-Nr]]),\"\",IF(COUNTIF(Registration!$A$7:$A$204,SRDB4[[#This Row],[SR-Nr]])=1,TRUE,FALSE))","v":""}]
[null,{"$f":"IF(ISBLANK(SRDB4[[#This Row],[SR-Nr]]),\"\",_xlfn.XLOOKUP(SRDB4[[#This Row],[SR-Nr]],SRDB[SR-Nr.],SRDB[Vorname],\"NA\",0))","v":""},{"$f":"IF(ISBLANK(SRDB4[[#This Row],[SR-Nr]]),\"\",_xlfn.XLOOKUP(SRDB4[[#This Row],[SR-Nr]],SRDB[SR-Nr.],SRDB[Name],\"NA\",0))","v":""},{"$f":"IF(ISBLANK(SRDB4[[#This Row],[SR-Nr]]),\"\",IF(COUNTIF(Registration!$A$7:$A$204,SRDB4[[#This Row],[SR-Nr]])=1,TRUE,FALSE))","v":""}]
[null,{"$f":"IF(ISBLANK(SRDB4[[#This Row],[SR-Nr]]),\"\",_xlfn.XLOOKUP(SRDB4[[#This Row],[SR-Nr]],SRDB[SR-Nr.],SRDB[Vorname],\"NA\",0))","v":""},{"$f":"IF(ISBLANK(SRDB4[[#This Row],[SR-Nr]]),\"\",_xlfn.XLOOKUP(SRDB4[[#This Row],[SR-Nr]],SRDB[SR-Nr.],SRDB[Name],\"NA\",0))","v":""},{"$f":"IF(ISBLANK(SRDB4[[#This Row],[SR-Nr]]),\"\",IF(COUNTIF(Registration!$A$7:$A$204,SRDB4[[#This Row],[SR-Nr]])=1,TRUE,FALSE))","v":""}]
[null,{"$f":"IF(ISBLANK(SRDB4[[#This Row],[SR-Nr]]),\"\",_xlfn.XLOOKUP(SRDB4[[#This Row],[SR-Nr]],SRDB[SR-Nr.],SRDB[Vorname],\"NA\",0))","v":""},{"$f":"IF(ISBLANK(SRDB4[[#This Row],[SR-Nr]]),\"\",_xlfn.XLOOKUP(SRDB4[[#This Row],[SR-Nr]],SRDB[SR-Nr.],SRDB[Name],\"NA\",0))","v":""},{"$f":"IF(ISBLANK(SRDB4[[#This Row],[SR-Nr]]),\"\",IF(COUNTIF(Registration!$A$7:$A$204,SRDB4[[#This Row],[SR-Nr]])=1,TRUE,FALSE))","v":""}]
[null,{"$f":"IF(ISBLANK(SRDB4[[#This Row],[SR-Nr]]),\"\",_xlfn.XLOOKUP(SRDB4[[#This Row],[SR-Nr]],SRDB[SR-Nr.],SRDB[Vorname],\"NA\",0))","v":""},{"$f":"IF(ISBLANK(SRDB4[[#This Row],[SR-Nr]]),\"\",_xlfn.XLOOKUP(SRDB4[[#This Row],[SR-Nr]],SRDB[SR-Nr.],SRDB[Name],\"NA\",0))","v":""},{"$f":"IF(ISBLANK(SRDB4[[#This Row],[SR-Nr]]),\"\",IF(COUNTIF(Registration!$A$7:$A$204,SRDB4[[#This Row],[SR-Nr]])=1,TRUE,FALSE))","v":""}]
[null,{"$f":"IF(ISBLANK(SRDB4[[#This Row],[SR-Nr]]),\"\",_xlfn.XLOOKUP(SRDB4[[#This Row],[SR-Nr]],SRDB[SR-Nr.],SRDB[Vorname],\"NA\",0))","v":""},{"$f":"IF(ISBLANK(SRDB4[[#This Row],[SR-Nr]]),\"\",_xlfn.XLOOKUP(SRDB4[[#This Row],[SR-Nr]],SRDB[SR-Nr.],SRDB[Name],\"NA\",0))","v":""},{"$f":"IF(ISBLANK(SRDB4[[#This Row],[SR-Nr]]),\"\",IF(COUNTIF(Registration!$A$7:$A$204,SRDB4[[#This Row],[SR-Nr]])=1,TRUE,FALSE))","v":""}]
[null,{"$f":"IF(ISBLANK(SRDB4[[#This Row],[SR-Nr]]),\"\",_xlfn.XLOOKUP(SRDB4[[#This Row],[SR-Nr]],SRDB[SR-Nr.],SRDB[Vorname],\"NA\",0))","v":""},{"$f":"IF(ISBLANK(SRDB4[[#This Row],[SR-Nr]]),\"\",_xlfn.XLOOKUP(SRDB4[[#This Row],[SR-Nr]],SRDB[SR-Nr.],SRDB[Name],\"NA\",0))","v":""},{"$f":"IF(ISBLANK(SRDB4[[#This Row],[SR-Nr]]),\"\",IF(COUNTIF(Registration!$A$7:$A$204,SRDB4[[#This Row],[SR-Nr]])=1,TRUE,FALSE))","v":""}]
[null,{"$f":"IF(ISBLANK(SRDB4[[#This Row],[SR-Nr]]),\"\",_xlfn.XLOOKUP(SRDB4[[#This Row],[SR-Nr]],SRDB[SR-Nr.],SRDB[Vorname],\"NA\",0))","v":""},{"$f":"IF(ISBLANK(SRDB4[[#This Row],[SR-Nr]]),\"\",_xlfn.XLOOKUP(SRDB4[[#This Row],[SR-Nr]],SRDB[SR-Nr.],SRDB[Name],\"NA\",0))","v":""},{"$f":"IF(ISBLANK(SRDB4[[#This Row],[SR-Nr]]),\"\",IF(COUNTIF(Registration!$A$7:$A$204,SRDB4[[#This Row],[SR-Nr]])=1,TRUE,FALSE))","v":""}]
[null,{"$f":"IF(ISBLANK(SRDB4[[#This Row],[SR-Nr]]),\"\",_xlfn.XLOOKUP(SRDB4[[#This Row],[SR-Nr]],SRDB[SR-Nr.],SRDB[Vorname],\"NA\",0))","v":""},{"$f":"IF(ISBLANK(SRDB4[[#This Row],[SR-Nr]]),\"\",_xlfn.XLOOKUP(SRDB4[[#This Row],[SR-Nr]],SRDB[SR-Nr.],SRDB[Name],\"NA\",0))","v":""},{"$f":"IF(ISBLANK(SRDB4[[#This Row],[SR-Nr]]),\"\",IF(COUNTIF(Registration!$A$7:$A$204,SRDB4[[#This Row],[SR-Nr]])=1,TRUE,FALSE))","v":""}]
[null,{"$f":"IF(ISBLANK(SRDB4[[#This Row],[SR-Nr]]),\"\",_xlfn.XLOOKUP(SRDB4[[#This Row],[SR-Nr]],SRDB[SR-Nr.],SRDB[Vorname],\"NA\",0))","v":""},{"$f":"IF(ISBLANK(SRDB4[[#This Row],[SR-Nr]]),\"\",_xlfn.XLOOKUP(SRDB4[[#This Row],[SR-Nr]],SRDB[SR-Nr.],SRDB[Name],\"NA\",0))","v":""},{"$f":"IF(ISBLANK(SRDB4[[#This Row],[SR-Nr]]),\"\",IF(COUNTIF(Registration!$A$7:$A$204,SRDB4[[#This Row],[SR-Nr]])=1,TRUE,FALSE))","v":""}]
[null,{"$f":"IF(ISBLANK(SRDB4[[#This Row],[SR-Nr]]),\"\",_xlfn.XLOOKUP(SRDB4[[#This Row],[SR-Nr]],SRDB[SR-Nr.],SRDB[Vorname],\"NA\",0))","v":""},{"$f":"IF(ISBLANK(SRDB4[[#This Row],[SR-Nr]]),\"\",_xlfn.XLOOKUP(SRDB4[[#This Row],[SR-Nr]],SRDB[SR-Nr.],SRDB[Name],\"NA\",0))","v":""},{"$f":"IF(ISBLANK(SRDB4[[#This Row],[SR-Nr]]),\"\",IF(COUNTIF(Registration!$A$7:$A$204,SRDB4[[#This Row],[SR-Nr]])=1,TRUE,FALSE))","v":""}]
[null,{"$f":"IF(ISBLANK(SRDB4[[#This Row],[SR-Nr]]),\"\",_xlfn.XLOOKUP(SRDB4[[#This Row],[SR-Nr]],SRDB[SR-Nr.],SRDB[Vorname],\"NA\",0))","v":""},{"$f":"IF(ISBLANK(SRDB4[[#This Row],[SR-Nr]]),\"\",_xlfn.XLOOKUP(SRDB4[[#This Row],[SR-Nr]],SRDB[SR-Nr.],SRDB[Name],\"NA\",0))","v":""},{"$f":"IF(ISBLANK(SRDB4[[#This Row],[SR-Nr]]),\"\",IF(COUNTIF(Registration!$A$7:$A$204,SRDB4[[#This Row],[SR-Nr]])=1,TRUE,FALSE))","v":""}]
[null,{"$f":"IF(ISBLANK(SRDB4[[#This Row],[SR-Nr]]),\"\",_xlfn.XLOOKUP(SRDB4[[#This Row],[SR-Nr]],SRDB[SR-Nr.],SRDB[Vorname],\"NA\",0))","v":""},{"$f":"IF(ISBLANK(SRDB4[[#This Row],[SR-Nr]]),\"\",_xlfn.XLOOKUP(SRDB4[[#This Row],[SR-Nr]],SRDB[SR-Nr.],SRDB[Name],\"NA\",0))","v":""},{"$f":"IF(ISBLANK(SRDB4[[#This Row],[SR-Nr]]),\"\",IF(COUNTIF(Registration!$A$7:$A$204,SRDB4[[#This Row],[SR-Nr]])=1,TRUE,FALSE))","v":""}]
[null,{"$f":"IF(ISBLANK(SRDB4[[#This Row],[SR-Nr]]),\"\",_xlfn.XLOOKUP(SRDB4[[#This Row],[SR-Nr]],SRDB[SR-Nr.],SRDB[Vorname],\"NA\",0))","v":""},{"$f":"IF(ISBLANK(SRDB4[[#This Row],[SR-Nr]]),\"\",_xlfn.XLOOKUP(SRDB4[[#This Row],[SR-Nr]],SRDB[SR-Nr.],SRDB[Name],\"NA\",0))","v":""},{"$f":"IF(ISBLANK(SRDB4[[#This Row],[SR-Nr]]),\"\",IF(COUNTIF(Registration!$A$7:$A$204,SRDB4[[#This Row],[SR-Nr]])=1,TRUE,FALSE))","v":""}]
[null,{"$f":"IF(ISBLANK(SRDB4[[#This Row],[SR-Nr]]),\"\",_xlfn.XLOOKUP(SRDB4[[#This Row],[SR-Nr]],SRDB[SR-Nr.],SRDB[Vorname],\"NA\",0))","v":""},{"$f":"IF(ISBLANK(SRDB4[[#This Row],[SR-Nr]]),\"\",_xlfn.XLOOKUP(SRDB4[[#This Row],[SR-Nr]],SRDB[SR-Nr.],SRDB[Name],\"NA\",0))","v":""},{"$f":"IF(ISBLANK(SRDB4[[#This Row],[SR-Nr]]),\"\",IF(COUNTIF(Registration!$A$7:$A$204,SRDB4[[#This Row],[SR-Nr]])=1,TRUE,FALSE))","v":""}]
[null,{"$f":"IF(ISBLANK(SRDB4[[#This Row],[SR-Nr]]),\"\",_xlfn.XLOOKUP(SRDB4[[#This Row],[SR-Nr]],SRDB[SR-Nr.],SRDB[Vorname],\"NA\",0))","v":""},{"$f":"IF(ISBLANK(SRDB4[[#This Row],[SR-Nr]]),\"\",_xlfn.XLOOKUP(SRDB4[[#This Row],[SR-Nr]],SRDB[SR-Nr.],SRDB[Name],\"NA\",0))","v":""},{"$f":"IF(ISBLANK(SRDB4[[#This Row],[SR-Nr]]),\"\",IF(COUNTIF(Registration!$A$7:$A$204,SRDB4[[#This Row],[SR-Nr]])=1,TRUE,FALSE))","v":""}]
[null,{"$f":"IF(ISBLANK(SRDB4[[#This Row],[SR-Nr]]),\"\",_xlfn.XLOOKUP(SRDB4[[#This Row],[SR-Nr]],SRDB[SR-Nr.],SRDB[Vorname],\"NA\",0))","v":""},{"$f":"IF(ISBLANK(SRDB4[[#This Row],[SR-Nr]]),\"\",_xlfn.XLOOKUP(SRDB4[[#This Row],[SR-Nr]],SRDB[SR-Nr.],SRDB[Name],\"NA\",0))","v":""},{"$f":"IF(ISBLANK(SRDB4[[#This Row],[SR-Nr]]),\"\",IF(COUNTIF(Registration!$A$7:$A$204,SRDB4[[#This Row],[SR-Nr]])=1,TRUE,FALSE))","v":""}]
[null,{"$f":"IF(ISBLANK(SRDB4[[#This Row],[SR-Nr]]),\"\",_xlfn.XLOOKUP(SRDB4[[#This Row],[SR-Nr]],SRDB[SR-Nr.],SRDB[Vorname],\"NA\",0))","v":""},{"$f":"IF(ISBLANK(SRDB4[[#This Row],[SR-Nr]]),\"\",_xlfn.XLOOKUP(SRDB4[[#This Row],[SR-Nr]],SRDB[SR-Nr.],SRDB[Name],\"NA\",0))","v":""},{"$f":"IF(ISBLANK(SRDB4[[#This Row],[SR-Nr]]),\"\",IF(COUNTIF(Registration!$A$7:$A$204,SRDB4[[#This Row],[SR-Nr]])=1,TRUE,FALSE))","v":""}]
[null,{"$f":"IF(ISBLANK(SRDB4[[#This Row],[SR-Nr]]),\"\",_xlfn.XLOOKUP(SRDB4[[#This Row],[SR-Nr]],SRDB[SR-Nr.],SRDB[Vorname],\"NA\",0))","v":""},{"$f":"IF(ISBLANK(SRDB4[[#This Row],[SR-Nr]]),\"\",_xlfn.XLOOKUP(SRDB4[[#This Row],[SR-Nr]],SRDB[SR-Nr.],SRDB[Name],\"NA\",0))","v":""},{"$f":"IF(ISBLANK(SRDB4[[#This Row],[SR-Nr]]),\"\",IF(COUNTIF(Registration!$A$7:$A$204,SRDB4[[#This Row],[SR-Nr]])=1,TRUE,FALSE))","v":""}]
[null,{"$f":"IF(ISBLANK(SRDB4[[#This Row],[SR-Nr]]),\"\",_xlfn.XLOOKUP(SRDB4[[#This Row],[SR-Nr]],SRDB[SR-Nr.],SRDB[Vorname],\"NA\",0))","v":""},{"$f":"IF(ISBLANK(SRDB4[[#This Row],[SR-Nr]]),\"\",_xlfn.XLOOKUP(SRDB4[[#This Row],[SR-Nr]],SRDB[SR-Nr.],SRDB[Name],\"NA\",0))","v":""},{"$f":"IF(ISBLANK(SRDB4[[#This Row],[SR-Nr]]),\"\",IF(COUNTIF(Registration!$A$7:$A$204,SRDB4[[#This Row],[SR-Nr]])=1,TRUE,FALSE))","v":""}]
[null,{"$f":"IF(ISBLANK(SRDB4[[#This Row],[SR-Nr]]),\"\",_xlfn.XLOOKUP(SRDB4[[#This Row],[SR-Nr]],SRDB[SR-Nr.],SRDB[Vorname],\"NA\",0))","v":""},{"$f":"IF(ISBLANK(SRDB4[[#This Row],[SR-Nr]]),\"\",_xlfn.XLOOKUP(SRDB4[[#This Row],[SR-Nr]],SRDB[SR-Nr.],SRDB[Name],\"NA\",0))","v":""},{"$f":"IF(ISBLANK(SRDB4[[#This Row],[SR-Nr]]),\"\",IF(COUNTIF(Registration!$A$7:$A$204,SRDB4[[#This Row],[SR-Nr]])=1,TRUE,FALSE))","v":""}]
[null,{"$f":"IF(ISBLANK(SRDB4[[#This Row],[SR-Nr]]),\"\",_xlfn.XLOOKUP(SRDB4[[#This Row],[SR-Nr]],SRDB[SR-Nr.],SRDB[Vorname],\"NA\",0))","v":""},{"$f":"IF(ISBLANK(SRDB4[[#This Row],[SR-Nr]]),\"\",_xlfn.XLOOKUP(SRDB4[[#This Row],[SR-Nr]],SRDB[SR-Nr.],SRDB[Name],\"NA\",0))","v":""},{"$f":"IF(ISBLANK(SRDB4[[#This Row],[SR-Nr]]),\"\",IF(COUNTIF(Registration!$A$7:$A$204,SRDB4[[#This Row],[SR-Nr]])=1,TRUE,FALSE))","v":""}]
[null,{"$f":"IF(ISBLANK(SRDB4[[#This Row],[SR-Nr]]),\"\",_xlfn.XLOOKUP(SRDB4[[#This Row],[SR-Nr]],SRDB[SR-Nr.],SRDB[Vorname],\"NA\",0))","v":""},{"$f":"IF(ISBLANK(SRDB4[[#This Row],[SR-Nr]]),\"\",_xlfn.XLOOKUP(SRDB4[[#This Row],[SR-Nr]],SRDB[SR-Nr.],SRDB[Name],\"NA\",0))","v":""},{"$f":"IF(ISBLANK(SRDB4[[#This Row],[SR-Nr]]),\"\",IF(COUNTIF(Registration!$A$7:$A$204,SRDB4[[#This Row],[SR-Nr]])=1,TRUE,FALSE))","v":""}]
[null,{"$f":"IF(ISBLANK(SRDB4[[#This Row],[SR-Nr]]),\"\",_xlfn.XLOOKUP(SRDB4[[#This Row],[SR-Nr]],SRDB[SR-Nr.],SRDB[Vorname],\"NA\",0))","v":""},{"$f":"IF(ISBLANK(SRDB4[[#This Row],[SR-Nr]]),\"\",_xlfn.XLOOKUP(SRDB4[[#This Row],[SR-Nr]],SRDB[SR-Nr.],SRDB[Name],\"NA\",0))","v":""},{"$f":"IF(ISBLANK(SRDB4[[#This Row],[SR-Nr]]),\"\",IF(COUNTIF(Registration!$A$7:$A$204,SRDB4[[#This Row],[SR-Nr]])=1,TRUE,FALSE))","v":""}]
[null,{"$f":"IF(ISBLANK(SRDB4[[#This Row],[SR-Nr]]),\"\",_xlfn.XLOOKUP(SRDB4[[#This Row],[SR-Nr]],SRDB[SR-Nr.],SRDB[Vorname],\"NA\",0))","v":""},{"$f":"IF(ISBLANK(SRDB4[[#This Row],[SR-Nr]]),\"\",_xlfn.XLOOKUP(SRDB4[[#This Row],[SR-Nr]],SRDB[SR-Nr.],SRDB[Name],\"NA\",0))","v":""},{"$f":"IF(ISBLANK(SRDB4[[#This Row],[SR-Nr]]),\"\",IF(COUNTIF(Registration!$A$7:$A$204,SRDB4[[#This Row],[SR-Nr]])=1,TRUE,FALSE))","v":""}]
[null,{"$f":"IF(ISBLANK(SRDB4[[#This Row],[SR-Nr]]),\"\",_xlfn.XLOOKUP(SRDB4[[#This Row],[SR-Nr]],SRDB[SR-Nr.],SRDB[Vorname],\"NA\",0))","v":""},{"$f":"IF(ISBLANK(SRDB4[[#This Row],[SR-Nr]]),\"\",_xlfn.XLOOKUP(SRDB4[[#This Row],[SR-Nr]],SRDB[SR-Nr.],SRDB[Name],\"NA\",0))","v":""},{"$f":"IF(ISBLANK(SRDB4[[#This Row],[SR-Nr]]),\"\",IF(COUNTIF(Registration!$A$7:$A$204,SRDB4[[#This Row],[SR-Nr]])=1,TRUE,FALSE))","v":""}]
[null,{"$f":"IF(ISBLANK(SRDB4[[#This Row],[SR-Nr]]),\"\",_xlfn.XLOOKUP(SRDB4[[#This Row],[SR-Nr]],SRDB[SR-Nr.],SRDB[Vorname],\"NA\",0))","v":""},{"$f":"IF(ISBLANK(SRDB4[[#This Row],[SR-Nr]]),\"\",_xlfn.XLOOKUP(SRDB4[[#This Row],[SR-Nr]],SRDB[SR-Nr.],SRDB[Name],\"NA\",0))","v":""},{"$f":"IF(ISBLANK(SRDB4[[#This Row],[SR-Nr]]),\"\",IF(COUNTIF(Registration!$A$7:$A$204,SRDB4[[#This Row],[SR-Nr]])=1,TRUE,FALSE))","v":""}]
[null,{"$f":"IF(ISBLANK(SRDB4[[#This Row],[SR-Nr]]),\"\",_xlfn.XLOOKUP(SRDB4[[#This Row],[SR-Nr]],SRDB[SR-Nr.],SRDB[Vorname],\"NA\",0))","v":""},{"$f":"IF(ISBLANK(SRDB4[[#This Row],[SR-Nr]]),\"\",_xlfn.XLOOKUP(SRDB4[[#This Row],[SR-Nr]],SRDB[SR-Nr.],SRDB[Name],\"NA\",0))","v":""},{"$f":"IF(ISBLANK(SRDB4[[#This Row],[SR-Nr]]),\"\",IF(COUNTIF(Registration!$A$7:$A$204,SRDB4[[#This Row],[SR-Nr]])=1,TRUE,FALSE))","v":""}]
[null,{"$f":"IF(ISBLANK(SRDB4[[#This Row],[SR-Nr]]),\"\",_xlfn.XLOOKUP(SRDB4[[#This Row],[SR-Nr]],SRDB[SR-Nr.],SRDB[Vorname],\"NA\",0))","v":""},{"$f":"IF(ISBLANK(SRDB4[[#This Row],[SR-Nr]]),\"\",_xlfn.XLOOKUP(SRDB4[[#This Row],[SR-Nr]],SRDB[SR-Nr.],SRDB[Name],\"NA\",0))","v":""},{"$f":"IF(ISBLANK(SRDB4[[#This Row],[SR-Nr]]),\"\",IF(COUNTIF(Registration!$A$7:$A$204,SRDB4[[#This Row],[SR-Nr]])=1,TRUE,FALSE))","v":""}]
[null,{"$f":"IF(ISBLANK(SRDB4[[#This Row],[SR-Nr]]),\"\",_xlfn.XLOOKUP(SRDB4[[#This Row],[SR-Nr]],SRDB[SR-Nr.],SRDB[Vorname],\"NA\",0))","v":""},{"$f":"IF(ISBLANK(SRDB4[[#This Row],[SR-Nr]]),\"\",_xlfn.XLOOKUP(SRDB4[[#This Row],[SR-Nr]],SRDB[SR-Nr.],SRDB[Name],\"NA\",0))","v":""},{"$f":"IF(ISBLANK(SRDB4[[#This Row],[SR-Nr]]),\"\",IF(COUNTIF(Registration!$A$7:$A$204,SRDB4[[#This Row],[SR-Nr]])=1,TRUE,FALSE))","v":""}]
[null,{"$f":"IF(ISBLANK(SRDB4[[#This Row],[SR-Nr]]),\"\",_xlfn.XLOOKUP(SRDB4[[#This Row],[SR-Nr]],SRDB[SR-Nr.],SRDB[Vorname],\"NA\",0))","v":""},{"$f":"IF(ISBLANK(SRDB4[[#This Row],[SR-Nr]]),\"\",_xlfn.XLOOKUP(SRDB4[[#This Row],[SR-Nr]],SRDB[SR-Nr.],SRDB[Name],\"NA\",0))","v":""},{"$f":"IF(ISBLANK(SRDB4[[#This Row],[SR-Nr]]),\"\",IF(COUNTIF(Registration!$A$7:$A$204,SRDB4[[#This Row],[SR-Nr]])=1,TRUE,FALSE))","v":""}]
[null,{"$f":"IF(ISBLANK(SRDB4[[#This Row],[SR-Nr]]),\"\",_xlfn.XLOOKUP(SRDB4[[#This Row],[SR-Nr]],SRDB[SR-Nr.],SRDB[Vorname],\"NA\",0))","v":""},{"$f":"IF(ISBLANK(SRDB4[[#This Row],[SR-Nr]]),\"\",_xlfn.XLOOKUP(SRDB4[[#This Row],[SR-Nr]],SRDB[SR-Nr.],SRDB[Name],\"NA\",0))","v":""},{"$f":"IF(ISBLANK(SRDB4[[#This Row],[SR-Nr]]),\"\",IF(COUNTIF(Registration!$A$7:$A$204,SRDB4[[#This Row],[SR-Nr]])=1,TRUE,FALSE))","v":""}]
[null,{"$f":"IF(ISBLANK(SRDB4[[#This Row],[SR-Nr]]),\"\",_xlfn.XLOOKUP(SRDB4[[#This Row],[SR-Nr]],SRDB[SR-Nr.],SRDB[Vorname],\"NA\",0))","v":""},{"$f":"IF(ISBLANK(SRDB4[[#This Row],[SR-Nr]]),\"\",_xlfn.XLOOKUP(SRDB4[[#This Row],[SR-Nr]],SRDB[SR-Nr.],SRDB[Name],\"NA\",0))","v":""},{"$f":"IF(ISBLANK(SRDB4[[#This Row],[SR-Nr]]),\"\",IF(COUNTIF(Registration!$A$7:$A$204,SRDB4[[#This Row],[SR-Nr]])=1,TRUE,FALSE))","v":""}]
[null,{"$f":"IF(ISBLANK(SRDB4[[#This Row],[SR-Nr]]),\"\",_xlfn.XLOOKUP(SRDB4[[#This Row],[SR-Nr]],SRDB[SR-Nr.],SRDB[Vorname],\"NA\",0))","v":""},{"$f":"IF(ISBLANK(SRDB4[[#This Row],[SR-Nr]]),\"\",_xlfn.XLOOKUP(SRDB4[[#This Row],[SR-Nr]],SRDB[SR-Nr.],SRDB[Name],\"NA\",0))","v":""},{"$f":"IF(ISBLANK(SRDB4[[#This Row],[SR-Nr]]),\"\",IF(COUNTIF(Registration!$A$7:$A$204,SRDB4[[#This Row],[SR-Nr]])=1,TRUE,FALSE))","v":""}]
[null,{"$f":"IF(ISBLANK(SRDB4[[#This Row],[SR-Nr]]),\"\",_xlfn.XLOOKUP(SRDB4[[#This Row],[SR-Nr]],SRDB[SR-Nr.],SRDB[Vorname],\"NA\",0))","v":""},{"$f":"IF(ISBLANK(SRDB4[[#This Row],[SR-Nr]]),\"\",_xlfn.XLOOKUP(SRDB4[[#This Row],[SR-Nr]],SRDB[SR-Nr.],SRDB[Name],\"NA\",0))","v":""},{"$f":"IF(ISBLANK(SRDB4[[#This Row],[SR-Nr]]),\"\",IF(COUNTIF(Registration!$A$7:$A$204,SRDB4[[#This Row],[SR-Nr]])=1,TRUE,FALSE))","v":""}]
[null,{"$f":"IF(ISBLANK(SRDB4[[#This Row],[SR-Nr]]),\"\",_xlfn.XLOOKUP(SRDB4[[#This Row],[SR-Nr]],SRDB[SR-Nr.],SRDB[Vorname],\"NA\",0))","v":""},{"$f":"IF(ISBLANK(SRDB4[[#This Row],[SR-Nr]]),\"\",_xlfn.XLOOKUP(SRDB4[[#This Row],[SR-Nr]],SRDB[SR-Nr.],SRDB[Name],\"NA\",0))","v":""},{"$f":"IF(ISBLANK(SRDB4[[#This Row],[SR-Nr]]),\"\",IF(COUNTIF(Registration!$A$7:$A$204,SRDB4[[#This Row],[SR-Nr]])=1,TRUE,FALSE))","v":""}]
[null,{"$f":"IF(ISBLANK(SRDB4[[#This Row],[SR-Nr]]),\"\",_xlfn.XLOOKUP(SRDB4[[#This Row],[SR-Nr]],SRDB[SR-Nr.],SRDB[Vorname],\"NA\",0))","v":""},{"$f":"IF(ISBLANK(SRDB4[[#This Row],[SR-Nr]]),\"\",_xlfn.XLOOKUP(SRDB4[[#This Row],[SR-Nr]],SRDB[SR-Nr.],SRDB[Name],\"NA\",0))","v":""},{"$f":"IF(ISBLANK(SRDB4[[#This Row],[SR-Nr]]),\"\",IF(COUNTIF(Registration!$A$7:$A$204,SRDB4[[#This Row],[SR-Nr]])=1,TRUE,FALSE))","v":""}]
[null,{"$f":"IF(ISBLANK(SRDB4[[#This Row],[SR-Nr]]),\"\",_xlfn.XLOOKUP(SRDB4[[#This Row],[SR-Nr]],SRDB[SR-Nr.],SRDB[Vorname],\"NA\",0))","v":""},{"$f":"IF(ISBLANK(SRDB4[[#This Row],[SR-Nr]]),\"\",_xlfn.XLOOKUP(SRDB4[[#This Row],[SR-Nr]],SRDB[SR-Nr.],SRDB[Name],\"NA\",0))","v":""},{"$f":"IF(ISBLANK(SRDB4[[#This Row],[SR-Nr]]),\"\",IF(COUNTIF(Registration!$A$7:$A$204,SRDB4[[#This Row],[SR-Nr]])=1,TRUE,FALSE))","v":""}]
[null,{"$f":"IF(ISBLANK(SRDB4[[#This Row],[SR-Nr]]),\"\",_xlfn.XLOOKUP(SRDB4[[#This Row],[SR-Nr]],SRDB[SR-Nr.],SRDB[Vorname],\"NA\",0))","v":""},{"$f":"IF(ISBLANK(SRDB4[[#This Row],[SR-Nr]]),\"\",_xlfn.XLOOKUP(SRDB4[[#This Row],[SR-Nr]],SRDB[SR-Nr.],SRDB[Name],\"NA\",0))","v":""},{"$f":"IF(ISBLANK(SRDB4[[#This Row],[SR-Nr]]),\"\",IF(COUNTIF(Registration!$A$7:$A$204,SRDB4[[#This Row],[SR-Nr]])=1,TRUE,FALSE))","v":""}]
[null,{"$f":"IF(ISBLANK(SRDB4[[#This Row],[SR-Nr]]),\"\",_xlfn.XLOOKUP(SRDB4[[#This Row],[SR-Nr]],SRDB[SR-Nr.],SRDB[Vorname],\"NA\",0))","v":""},{"$f":"IF(ISBLANK(SRDB4[[#This Row],[SR-Nr]]),\"\",_xlfn.XLOOKUP(SRDB4[[#This Row],[SR-Nr]],SRDB[SR-Nr.],SRDB[Name],\"NA\",0))","v":""},{"$f":"IF(ISBLANK(SRDB4[[#This Row],[SR-Nr]]),\"\",IF(COUNTIF(Registration!$A$7:$A$204,SRDB4[[#This Row],[SR-Nr]])=1,TRUE,FALSE))","v":""}]
[null,{"$f":"IF(ISBLANK(SRDB4[[#This Row],[SR-Nr]]),\"\",_xlfn.XLOOKUP(SRDB4[[#This Row],[SR-Nr]],SRDB[SR-Nr.],SRDB[Vorname],\"NA\",0))","v":""},{"$f":"IF(ISBLANK(SRDB4[[#This Row],[SR-Nr]]),\"\",_xlfn.XLOOKUP(SRDB4[[#This Row],[SR-Nr]],SRDB[SR-Nr.],SRDB[Name],\"NA\",0))","v":""},{"$f":"IF(ISBLANK(SRDB4[[#This Row],[SR-Nr]]),\"\",IF(COUNTIF(Registration!$A$7:$A$204,SRDB4[[#This Row],[SR-Nr]])=1,TRUE,FALSE))","v":""}]
[null,{"$f":"IF(ISBLANK(SRDB4[[#This Row],[SR-Nr]]),\"\",_xlfn.XLOOKUP(SRDB4[[#This Row],[SR-Nr]],SRDB[SR-Nr.],SRDB[Vorname],\"NA\",0))","v":""},{"$f":"IF(ISBLANK(SRDB4[[#This Row],[SR-Nr]]),\"\",_xlfn.XLOOKUP(SRDB4[[#This Row],[SR-Nr]],SRDB[SR-Nr.],SRDB[Name],\"NA\",0))","v":""},{"$f":"IF(ISBLANK(SRDB4[[#This Row],[SR-Nr]]),\"\",IF(COUNTIF(Registration!$A$7:$A$204,SRDB4[[#This Row],[SR-Nr]])=1,TRUE,FALSE))","v":""}]
[null,{"$f":"IF(ISBLANK(SRDB4[[#This Row],[SR-Nr]]),\"\",_xlfn.XLOOKUP(SRDB4[[#This Row],[SR-Nr]],SRDB[SR-Nr.],SRDB[Vorname],\"NA\",0))","v":""},{"$f":"IF(ISBLANK(SRDB4[[#This Row],[SR-Nr]]),\"\",_xlfn.XLOOKUP(SRDB4[[#This Row],[SR-Nr]],SRDB[SR-Nr.],SRDB[Name],\"NA\",0))","v":""},{"$f":"IF(ISBLANK(SRDB4[[#This Row],[SR-Nr]]),\"\",IF(COUNTIF(Registration!$A$7:$A$204,SRDB4[[#This Row],[SR-Nr]])=1,TRUE,FALSE))","v":""}]
[null,{"$f":"IF(ISBLANK(SRDB4[[#This Row],[SR-Nr]]),\"\",_xlfn.XLOOKUP(SRDB4[[#This Row],[SR-Nr]],SRDB[SR-Nr.],SRDB[Vorname],\"NA\",0))","v":""},{"$f":"IF(ISBLANK(SRDB4[[#This Row],[SR-Nr]]),\"\",_xlfn.XLOOKUP(SRDB4[[#This Row],[SR-Nr]],SRDB[SR-Nr.],SRDB[Name],\"NA\",0))","v":""},{"$f":"IF(ISBLANK(SRDB4[[#This Row],[SR-Nr]]),\"\",IF(COUNTIF(Registration!$A$7:$A$204,SRDB4[[#This Row],[SR-Nr]])=1,TRUE,FALSE))","v":""}]
[null,{"$f":"IF(ISBLANK(SRDB4[[#This Row],[SR-Nr]]),\"\",_xlfn.XLOOKUP(SRDB4[[#This Row],[SR-Nr]],SRDB[SR-Nr.],SRDB[Vorname],\"NA\",0))","v":""},{"$f":"IF(ISBLANK(SRDB4[[#This Row],[SR-Nr]]),\"\",_xlfn.XLOOKUP(SRDB4[[#This Row],[SR-Nr]],SRDB[SR-Nr.],SRDB[Name],\"NA\",0))","v":""},{"$f":"IF(ISBLANK(SRDB4[[#This Row],[SR-Nr]]),\"\",IF(COUNTIF(Registration!$A$7:$A$204,SRDB4[[#This Row],[SR-Nr]])=1,TRUE,FALSE))","v":""}]
[null,{"$f":"IF(ISBLANK(SRDB4[[#This Row],[SR-Nr]]),\"\",_xlfn.XLOOKUP(SRDB4[[#This Row],[SR-Nr]],SRDB[SR-Nr.],SRDB[Vorname],\"NA\",0))","v":""},{"$f":"IF(ISBLANK(SRDB4[[#This Row],[SR-Nr]]),\"\",_xlfn.XLOOKUP(SRDB4[[#This Row],[SR-Nr]],SRDB[SR-Nr.],SRDB[Name],\"NA\",0))","v":""},{"$f":"IF(ISBLANK(SRDB4[[#This Row],[SR-Nr]]),\"\",IF(COUNTIF(Registration!$A$7:$A$204,SRDB4[[#This Row],[SR-Nr]])=1,TRUE,FALSE))","v":""}]
[null,{"$f":"IF(ISBLANK(SRDB4[[#This Row],[SR-Nr]]),\"\",_xlfn.XLOOKUP(SRDB4[[#This Row],[SR-Nr]],SRDB[SR-Nr.],SRDB[Vorname],\"NA\",0))","v":""},{"$f":"IF(ISBLANK(SRDB4[[#This Row],[SR-Nr]]),\"\",_xlfn.XLOOKUP(SRDB4[[#This Row],[SR-Nr]],SRDB[SR-Nr.],SRDB[Name],\"NA\",0))","v":""},{"$f":"IF(ISBLANK(SRDB4[[#This Row],[SR-Nr]]),\"\",IF(COUNTIF(Registration!$A$7:$A$204,SRDB4[[#This Row],[SR-Nr]])=1,TRUE,FALSE))","v":""}]
[null,{"$f":"IF(ISBLANK(SRDB4[[#This Row],[SR-Nr]]),\"\",_xlfn.XLOOKUP(SRDB4[[#This Row],[SR-Nr]],SRDB[SR-Nr.],SRDB[Vorname],\"NA\",0))","v":""},{"$f":"IF(ISBLANK(SRDB4[[#This Row],[SR-Nr]]),\"\",_xlfn.XLOOKUP(SRDB4[[#This Row],[SR-Nr]],SRDB[SR-Nr.],SRDB[Name],\"NA\",0))","v":""},{"$f":"IF(ISBLANK(SRDB4[[#This Row],[SR-Nr]]),\"\",IF(COUNTIF(Registration!$A$7:$A$204,SRDB4[[#This Row],[SR-Nr]])=1,TRUE,FALSE))","v":""}]
[null,{"$f":"IF(ISBLANK(SRDB4[[#This Row],[SR-Nr]]),\"\",_xlfn.XLOOKUP(SRDB4[[#This Row],[SR-Nr]],SRDB[SR-Nr.],SRDB[Vorname],\"NA\",0))","v":""},{"$f":"IF(ISBLANK(SRDB4[[#This Row],[SR-Nr]]),\"\",_xlfn.XLOOKUP(SRDB4[[#This Row],[SR-Nr]],SRDB[SR-Nr.],SRDB[Name],\"NA\",0))","v":""},{"$f":"IF(ISBLANK(SRDB4[[#This Row],[SR-Nr]]),\"\",IF(COUNTIF(Registration!$A$7:$A$204,SRDB4[[#This Row],[SR-Nr]])=1,TRUE,FALSE))","v":""}]
[null,{"$f":"IF(ISBLANK(SRDB4[[#This Row],[SR-Nr]]),\"\",_xlfn.XLOOKUP(SRDB4[[#This Row],[SR-Nr]],SRDB[SR-Nr.],SRDB[Vorname],\"NA\",0))","v":""},{"$f":"IF(ISBLANK(SRDB4[[#This Row],[SR-Nr]]),\"\",_xlfn.XLOOKUP(SRDB4[[#This Row],[SR-Nr]],SRDB[SR-Nr.],SRDB[Name],\"NA\",0))","v":""},{"$f":"IF(ISBLANK(SRDB4[[#This Row],[SR-Nr]]),\"\",IF(COUNTIF(Registration!$A$7:$A$204,SRDB4[[#This Row],[SR-Nr]])=1,TRUE,FALSE))","v":""}]
[null,{"$f":"IF(ISBLANK(SRDB4[[#This Row],[SR-Nr]]),\"\",_xlfn.XLOOKUP(SRDB4[[#This Row],[SR-Nr]],SRDB[SR-Nr.],SRDB[Vorname],\"NA\",0))","v":""},{"$f":"IF(ISBLANK(SRDB4[[#This Row],[SR-Nr]]),\"\",_xlfn.XLOOKUP(SRDB4[[#This Row],[SR-Nr]],SRDB[SR-Nr.],SRDB[Name],\"NA\",0))","v":""},{"$f":"IF(ISBLANK(SRDB4[[#This Row],[SR-Nr]]),\"\",IF(COUNTIF(Registration!$A$7:$A$204,SRDB4[[#This Row],[SR-Nr]])=1,TRUE,FALSE))","v":""}]
[null,{"$f":"IF(ISBLANK(SRDB4[[#This Row],[SR-Nr]]),\"\",_xlfn.XLOOKUP(SRDB4[[#This Row],[SR-Nr]],SRDB[SR-Nr.],SRDB[Vorname],\"NA\",0))","v":""},{"$f":"IF(ISBLANK(SRDB4[[#This Row],[SR-Nr]]),\"\",_xlfn.XLOOKUP(SRDB4[[#This Row],[SR-Nr]],SRDB[SR-Nr.],SRDB[Name],\"NA\",0))","v":""},{"$f":"IF(ISBLANK(SRDB4[[#This Row],[SR-Nr]]),\"\",IF(COUNTIF(Registration!$A$7:$A$204,SRDB4[[#This Row],[SR-Nr]])=1,TRUE,FALSE))","v":""}]
[null,{"$f":"IF(ISBLANK(SRDB4[[#This Row],[SR-Nr]]),\"\",_xlfn.XLOOKUP(SRDB4[[#This Row],[SR-Nr]],SRDB[SR-Nr.],SRDB[Vorname],\"NA\",0))","v":""},{"$f":"IF(ISBLANK(SRDB4[[#This Row],[SR-Nr]]),\"\",_xlfn.XLOOKUP(SRDB4[[#This Row],[SR-Nr]],SRDB[SR-Nr.],SRDB[Name],\"NA\",0))","v":""},{"$f":"IF(ISBLANK(SRDB4[[#This Row],[SR-Nr]]),\"\",IF(COUNTIF(Registration!$A$7:$A$204,SRDB4[[#This Row],[SR-Nr]])=1,TRUE,FALSE))","v":""}]
[null,{"$f":"IF(ISBLANK(SRDB4[[#This Row],[SR-Nr]]),\"\",_xlfn.XLOOKUP(SRDB4[[#This Row],[SR-Nr]],SRDB[SR-Nr.],SRDB[Vorname],\"NA\",0))","v":""},{"$f":"IF(ISBLANK(SRDB4[[#This Row],[SR-Nr]]),\"\",_xlfn.XLOOKUP(SRDB4[[#This Row],[SR-Nr]],SRDB[SR-Nr.],SRDB[Name],\"NA\",0))","v":""},{"$f":"IF(ISBLANK(SRDB4[[#This Row],[SR-Nr]]),\"\",IF(COUNTIF(Registration!$A$7:$A$204,SRDB4[[#This Row],[SR-Nr]])=1,TRUE,FALSE))","v":""}]
[null,{"$f":"IF(ISBLANK(SRDB4[[#This Row],[SR-Nr]]),\"\",_xlfn.XLOOKUP(SRDB4[[#This Row],[SR-Nr]],SRDB[SR-Nr.],SRDB[Vorname],\"NA\",0))","v":""},{"$f":"IF(ISBLANK(SRDB4[[#This Row],[SR-Nr]]),\"\",_xlfn.XLOOKUP(SRDB4[[#This Row],[SR-Nr]],SRDB[SR-Nr.],SRDB[Name],\"NA\",0))","v":""},{"$f":"IF(ISBLANK(SRDB4[[#This Row],[SR-Nr]]),\"\",IF(COUNTIF(Registration!$A$7:$A$204,SRDB4[[#This Row],[SR-Nr]])=1,TRUE,FALSE))","v":""}]
[null,{"$f":"IF(ISBLANK(SRDB4[[#This Row],[SR-Nr]]),\"\",_xlfn.XLOOKUP(SRDB4[[#This Row],[SR-Nr]],SRDB[SR-Nr.],SRDB[Vorname],\"NA\",0))","v":""},{"$f":"IF(ISBLANK(SRDB4[[#This Row],[SR-Nr]]),\"\",_xlfn.XLOOKUP(SRDB4[[#This Row],[SR-Nr]],SRDB[SR-Nr.],SRDB[Name],\"NA\",0))","v":""},{"$f":"IF(ISBLANK(SRDB4[[#This Row],[SR-Nr]]),\"\",IF(COUNTIF(Registration!$A$7:$A$204,SRDB4[[#This Row],[SR-Nr]])=1,TRUE,FALSE))","v":""}]
[null,{"$f":"IF(ISBLANK(SRDB4[[#This Row],[SR-Nr]]),\"\",_xlfn.XLOOKUP(SRDB4[[#This Row],[SR-Nr]],SRDB[SR-Nr.],SRDB[Vorname],\"NA\",0))","v":""},{"$f":"IF(ISBLANK(SRDB4[[#This Row],[SR-Nr]]),\"\",_xlfn.XLOOKUP(SRDB4[[#This Row],[SR-Nr]],SRDB[SR-Nr.],SRDB[Name],\"NA\",0))","v":""},{"$f":"IF(ISBLANK(SRDB4[[#This Row],[SR-Nr]]),\"\",IF(COUNTIF(Registration!$A$7:$A$204,SRDB4[[#This Row],[SR-Nr]])=1,TRUE,FALSE))","v":""}]
[null,{"$f":"IF(ISBLANK(SRDB4[[#This Row],[SR-Nr]]),\"\",_xlfn.XLOOKUP(SRDB4[[#This Row],[SR-Nr]],SRDB[SR-Nr.],SRDB[Vorname],\"NA\",0))","v":""},{"$f":"IF(ISBLANK(SRDB4[[#This Row],[SR-Nr]]),\"\",_xlfn.XLOOKUP(SRDB4[[#This Row],[SR-Nr]],SRDB[SR-Nr.],SRDB[Name],\"NA\",0))","v":""},{"$f":"IF(ISBLANK(SRDB4[[#This Row],[SR-Nr]]),\"\",IF(COUNTIF(Registration!$A$7:$A$204,SRDB4[[#This Row],[SR-Nr]])=1,TRUE,FALSE))","v":""}]
[null,{"$f":"IF(ISBLANK(SRDB4[[#This Row],[SR-Nr]]),\"\",_xlfn.XLOOKUP(SRDB4[[#This Row],[SR-Nr]],SRDB[SR-Nr.],SRDB[Vorname],\"NA\",0))","v":""},{"$f":"IF(ISBLANK(SRDB4[[#This Row],[SR-Nr]]),\"\",_xlfn.XLOOKUP(SRDB4[[#This Row],[SR-Nr]],SRDB[SR-Nr.],SRDB[Name],\"NA\",0))","v":""},{"$f":"IF(ISBLANK(SRDB4[[#This Row],[SR-Nr]]),\"\",IF(COUNTIF(Registration!$A$7:$A$204,SRDB4[[#This Row],[SR-Nr]])=1,TRUE,FALSE))","v":""}]
[null,{"$f":"IF(ISBLANK(SRDB4[[#This Row],[SR-Nr]]),\"\",_xlfn.XLOOKUP(SRDB4[[#This Row],[SR-Nr]],SRDB[SR-Nr.],SRDB[Vorname],\"NA\",0))","v":""},{"$f":"IF(ISBLANK(SRDB4[[#This Row],[SR-Nr]]),\"\",_xlfn.XLOOKUP(SRDB4[[#This Row],[SR-Nr]],SRDB[SR-Nr.],SRDB[Name],\"NA\",0))","v":""},{"$f":"IF(ISBLANK(SRDB4[[#This Row],[SR-Nr]]),\"\",IF(COUNTIF(Registration!$A$7:$A$204,SRDB4[[#This Row],[SR-Nr]])=1,TRUE,FALSE))","v":""}]
[null,{"$f":"IF(ISBLANK(SRDB4[[#This Row],[SR-Nr]]),\"\",_xlfn.XLOOKUP(SRDB4[[#This Row],[SR-Nr]],SRDB[SR-Nr.],SRDB[Vorname],\"NA\",0))","v":""},{"$f":"IF(ISBLANK(SRDB4[[#This Row],[SR-Nr]]),\"\",_xlfn.XLOOKUP(SRDB4[[#This Row],[SR-Nr]],SRDB[SR-Nr.],SRDB[Name],\"NA\",0))","v":""},{"$f":"IF(ISBLANK(SRDB4[[#This Row],[SR-Nr]]),\"\",IF(COUNTIF(Registration!$A$7:$A$204,SRDB4[[#This Row],[SR-Nr]])=1,TRUE,FALSE))","v":""}]
[null,{"$f":"IF(ISBLANK(SRDB4[[#This Row],[SR-Nr]]),\"\",_xlfn.XLOOKUP(SRDB4[[#This Row],[SR-Nr]],SRDB[SR-Nr.],SRDB[Vorname],\"NA\",0))","v":""},{"$f":"IF(ISBLANK(SRDB4[[#This Row],[SR-Nr]]),\"\",_xlfn.XLOOKUP(SRDB4[[#This Row],[SR-Nr]],SRDB[SR-Nr.],SRDB[Name],\"NA\",0))","v":""},{"$f":"IF(ISBLANK(SRDB4[[#This Row],[SR-Nr]]),\"\",IF(COUNTIF(Registration!$A$7:$A$204,SRDB4[[#This Row],[SR-Nr]])=1,TRUE,FALSE))","v":""}]
[null,{"$f":"IF(ISBLANK(SRDB4[[#This Row],[SR-Nr]]),\"\",_xlfn.XLOOKUP(SRDB4[[#This Row],[SR-Nr]],SRDB[SR-Nr.],SRDB[Vorname],\"NA\",0))","v":""},{"$f":"IF(ISBLANK(SRDB4[[#This Row],[SR-Nr]]),\"\",_xlfn.XLOOKUP(SRDB4[[#This Row],[SR-Nr]],SRDB[SR-Nr.],SRDB[Name],\"NA\",0))","v":""},{"$f":"IF(ISBLANK(SRDB4[[#This Row],[SR-Nr]]),\"\",IF(COUNTIF(Registration!$A$7:$A$204,SRDB4[[#This Row],[SR-Nr]])=1,TRUE,FALSE))","v":""}]
[null,{"$f":"IF(ISBLANK(SRDB4[[#This Row],[SR-Nr]]),\"\",_xlfn.XLOOKUP(SRDB4[[#This Row],[SR-Nr]],SRDB[SR-Nr.],SRDB[Vorname],\"NA\",0))","v":""},{"$f":"IF(ISBLANK(SRDB4[[#This Row],[SR-Nr]]),\"\",_xlfn.XLOOKUP(SRDB4[[#This Row],[SR-Nr]],SRDB[SR-Nr.],SRDB[Name],\"NA\",0))","v":""},{"$f":"IF(ISBLANK(SRDB4[[#This Row],[SR-Nr]]),\"\",IF(COUNTIF(Registration!$A$7:$A$204,SRDB4[[#This Row],[SR-Nr]])=1,TRUE,FALSE))","v":""}]
[null,{"$f":"IF(ISBLANK(SRDB4[[#This Row],[SR-Nr]]),\"\",_xlfn.XLOOKUP(SRDB4[[#This Row],[SR-Nr]],SRDB[SR-Nr.],SRDB[Vorname],\"NA\",0))","v":""},{"$f":"IF(ISBLANK(SRDB4[[#This Row],[SR-Nr]]),\"\",_xlfn.XLOOKUP(SRDB4[[#This Row],[SR-Nr]],SRDB[SR-Nr.],SRDB[Name],\"NA\",0))","v":""},{"$f":"IF(ISBLANK(SRDB4[[#This Row],[SR-Nr]]),\"\",IF(COUNTIF(Registration!$A$7:$A$204,SRDB4[[#This Row],[SR-Nr]])=1,TRUE,FALSE))","v":""}]
[null,{"$f":"IF(ISBLANK(SRDB4[[#This Row],[SR-Nr]]),\"\",_xlfn.XLOOKUP(SRDB4[[#This Row],[SR-Nr]],SRDB[SR-Nr.],SRDB[Vorname],\"NA\",0))","v":""},{"$f":"IF(ISBLANK(SRDB4[[#This Row],[SR-Nr]]),\"\",_xlfn.XLOOKUP(SRDB4[[#This Row],[SR-Nr]],SRDB[SR-Nr.],SRDB[Name],\"NA\",0))","v":""},{"$f":"IF(ISBLANK(SRDB4[[#This Row],[SR-Nr]]),\"\",IF(COUNTIF(Registration!$A$7:$A$204,SRDB4[[#This Row],[SR-Nr]])=1,TRUE,FALSE))","v":""}]
[null,{"$f":"IF(ISBLANK(SRDB4[[#This Row],[SR-Nr]]),\"\",_xlfn.XLOOKUP(SRDB4[[#This Row],[SR-Nr]],SRDB[SR-Nr.],SRDB[Vorname],\"NA\",0))","v":""},{"$f":"IF(ISBLANK(SRDB4[[#This Row],[SR-Nr]]),\"\",_xlfn.XLOOKUP(SRDB4[[#This Row],[SR-Nr]],SRDB[SR-Nr.],SRDB[Name],\"NA\",0))","v":""},{"$f":"IF(ISBLANK(SRDB4[[#This Row],[SR-Nr]]),\"\",IF(COUNTIF(Registration!$A$7:$A$204,SRDB4[[#This Row],[SR-Nr]])=1,TRUE,FALSE))","v":""}]
[null,{"$f":"IF(ISBLANK(SRDB4[[#This Row],[SR-Nr]]),\"\",_xlfn.XLOOKUP(SRDB4[[#This Row],[SR-Nr]],SRDB[SR-Nr.],SRDB[Vorname],\"NA\",0))","v":""},{"$f":"IF(ISBLANK(SRDB4[[#This Row],[SR-Nr]]),\"\",_xlfn.XLOOKUP(SRDB4[[#This Row],[SR-Nr]],SRDB[SR-Nr.],SRDB[Name],\"NA\",0))","v":""},{"$f":"IF(ISBLANK(SRDB4[[#This Row],[SR-Nr]]),\"\",IF(COUNTIF(Registration!$A$7:$A$204,SRDB4[[#This Row],[SR-Nr]])=1,TRUE,FALSE))","v":""}]
[null,{"$f":"IF(ISBLANK(SRDB4[[#This Row],[SR-Nr]]),\"\",_xlfn.XLOOKUP(SRDB4[[#This Row],[SR-Nr]],SRDB[SR-Nr.],SRDB[Vorname],\"NA\",0))","v":""},{"$f":"IF(ISBLANK(SRDB4[[#This Row],[SR-Nr]]),\"\",_xlfn.XLOOKUP(SRDB4[[#This Row],[SR-Nr]],SRDB[SR-Nr.],SRDB[Name],\"NA\",0))","v":""},{"$f":"IF(ISBLANK(SRDB4[[#This Row],[SR-Nr]]),\"\",IF(COUNTIF(Registration!$A$7:$A$204,SRDB4[[#This Row],[SR-Nr]])=1,TRUE,FALSE))","v":""}]
[null,{"$f":"IF(ISBLANK(SRDB4[[#This Row],[SR-Nr]]),\"\",_xlfn.XLOOKUP(SRDB4[[#This Row],[SR-Nr]],SRDB[SR-Nr.],SRDB[Vorname],\"NA\",0))","v":""},{"$f":"IF(ISBLANK(SRDB4[[#This Row],[SR-Nr]]),\"\",_xlfn.XLOOKUP(SRDB4[[#This Row],[SR-Nr]],SRDB[SR-Nr.],SRDB[Name],\"NA\",0))","v":""},{"$f":"IF(ISBLANK(SRDB4[[#This Row],[SR-Nr]]),\"\",IF(COUNTIF(Registration!$A$7:$A$204,SRDB4[[#This Row],[SR-Nr]])=1,TRUE,FALSE))","v":""}]
[null,{"$f":"IF(ISBLANK(SRDB4[[#This Row],[SR-Nr]]),\"\",_xlfn.XLOOKUP(SRDB4[[#This Row],[SR-Nr]],SRDB[SR-Nr.],SRDB[Vorname],\"NA\",0))","v":""},{"$f":"IF(ISBLANK(SRDB4[[#This Row],[SR-Nr]]),\"\",_xlfn.XLOOKUP(SRDB4[[#This Row],[SR-Nr]],SRDB[SR-Nr.],SRDB[Name],\"NA\",0))","v":""},{"$f":"IF(ISBLANK(SRDB4[[#This Row],[SR-Nr]]),\"\",IF(COUNTIF(Registration!$A$7:$A$204,SRDB4[[#This Row],[SR-Nr]])=1,TRUE,FALSE))","v":""}]
[null,{"$f":"IF(ISBLANK(SRDB4[[#This Row],[SR-Nr]]),\"\",_xlfn.XLOOKUP(SRDB4[[#This Row],[SR-Nr]],SRDB[SR-Nr.],SRDB[Vorname],\"NA\",0))","v":""},{"$f":"IF(ISBLANK(SRDB4[[#This Row],[SR-Nr]]),\"\",_xlfn.XLOOKUP(SRDB4[[#This Row],[SR-Nr]],SRDB[SR-Nr.],SRDB[Name],\"NA\",0))","v":""},{"$f":"IF(ISBLANK(SRDB4[[#This Row],[SR-Nr]]),\"\",IF(COUNTIF(Registration!$A$7:$A$204,SRDB4[[#This Row],[SR-Nr]])=1,TRUE,FALSE))","v":""}]
[null,{"$f":"IF(ISBLANK(SRDB4[[#This Row],[SR-Nr]]),\"\",_xlfn.XLOOKUP(SRDB4[[#This Row],[SR-Nr]],SRDB[SR-Nr.],SRDB[Vorname],\"NA\",0))","v":""},{"$f":"IF(ISBLANK(SRDB4[[#This Row],[SR-Nr]]),\"\",_xlfn.XLOOKUP(SRDB4[[#This Row],[SR-Nr]],SRDB[SR-Nr.],SRDB[Name],\"NA\",0))","v":""},{"$f":"IF(ISBLANK(SRDB4[[#This Row],[SR-Nr]]),\"\",IF(COUNTIF(Registration!$A$7:$A$204,SRDB4[[#This Row],[SR-Nr]])=1,TRUE,FALSE))","v":""}]
[null,{"$f":"IF(ISBLANK(SRDB4[[#This Row],[SR-Nr]]),\"\",_xlfn.XLOOKUP(SRDB4[[#This Row],[SR-Nr]],SRDB[SR-Nr.],SRDB[Vorname],\"NA\",0))","v":""},{"$f":"IF(ISBLANK(SRDB4[[#This Row],[SR-Nr]]),\"\",_xlfn.XLOOKUP(SRDB4[[#This Row],[SR-Nr]],SRDB[SR-Nr.],SRDB[Name],\"NA\",0))","v":""},{"$f":"IF(ISBLANK(SRDB4[[#This Row],[SR-Nr]]),\"\",IF(COUNTIF(Registration!$A$7:$A$204,SRDB4[[#This Row],[SR-Nr]])=1,TRUE,FALSE))","v":""}]
[null,{"$f":"IF(ISBLANK(SRDB4[[#This Row],[SR-Nr]]),\"\",_xlfn.XLOOKUP(SRDB4[[#This Row],[SR-Nr]],SRDB[SR-Nr.],SRDB[Vorname],\"NA\",0))","v":""},{"$f":"IF(ISBLANK(SRDB4[[#This Row],[SR-Nr]]),\"\",_xlfn.XLOOKUP(SRDB4[[#This Row],[SR-Nr]],SRDB[SR-Nr.],SRDB[Name],\"NA\",0))","v":""},{"$f":"IF(ISBLANK(SRDB4[[#This Row],[SR-Nr]]),\"\",IF(COUNTIF(Registration!$A$7:$A$204,SRDB4[[#This Row],[SR-Nr]])=1,TRUE,FALSE))","v":""}]
[null,{"$f":"IF(ISBLANK(SRDB4[[#This Row],[SR-Nr]]),\"\",_xlfn.XLOOKUP(SRDB4[[#This Row],[SR-Nr]],SRDB[SR-Nr.],SRDB[Vorname],\"NA\",0))","v":""},{"$f":"IF(ISBLANK(SRDB4[[#This Row],[SR-Nr]]),\"\",_xlfn.XLOOKUP(SRDB4[[#This Row],[SR-Nr]],SRDB[SR-Nr.],SRDB[Name],\"NA\",0))","v":""},{"$f":"IF(ISBLANK(SRDB4[[#This Row],[SR-Nr]]),\"\",IF(COUNTIF(Registration!$A$7:$A$204,SRDB4[[#This Row],[SR-Nr]])=1,TRUE,FALSE))","v":""}]
[null,{"$f":"IF(ISBLANK(SRDB4[[#This Row],[SR-Nr]]),\"\",_xlfn.XLOOKUP(SRDB4[[#This Row],[SR-Nr]],SRDB[SR-Nr.],SRDB[Vorname],\"NA\",0))","v":""},{"$f":"IF(ISBLANK(SRDB4[[#This Row],[SR-Nr]]),\"\",_xlfn.XLOOKUP(SRDB4[[#This Row],[SR-Nr]],SRDB[SR-Nr.],SRDB[Name],\"NA\",0))","v":""},{"$f":"IF(ISBLANK(SRDB4[[#This Row],[SR-Nr]]),\"\",IF(COUNTIF(Registration!$A$7:$A$204,SRDB4[[#This Row],[SR-Nr]])=1,TRUE,FALSE))","v":""}]
[null,{"$f":"IF(ISBLANK(SRDB4[[#This Row],[SR-Nr]]),\"\",_xlfn.XLOOKUP(SRDB4[[#This Row],[SR-Nr]],SRDB[SR-Nr.],SRDB[Vorname],\"NA\",0))","v":""},{"$f":"IF(ISBLANK(SRDB4[[#This Row],[SR-Nr]]),\"\",_xlfn.XLOOKUP(SRDB4[[#This Row],[SR-Nr]],SRDB[SR-Nr.],SRDB[Name],\"NA\",0))","v":""},{"$f":"IF(ISBLANK(SRDB4[[#This Row],[SR-Nr]]),\"\",IF(COUNTIF(Registration!$A$7:$A$204,SRDB4[[#This Row],[SR-Nr]])=1,TRUE,FALSE))","v":""}]
[null,{"$f":"IF(ISBLANK(SRDB4[[#This Row],[SR-Nr]]),\"\",_xlfn.XLOOKUP(SRDB4[[#This Row],[SR-Nr]],SRDB[SR-Nr.],SRDB[Vorname],\"NA\",0))","v":""},{"$f":"IF(ISBLANK(SRDB4[[#This Row],[SR-Nr]]),\"\",_xlfn.XLOOKUP(SRDB4[[#This Row],[SR-Nr]],SRDB[SR-Nr.],SRDB[Name],\"NA\",0))","v":""},{"$f":"IF(ISBLANK(SRDB4[[#This Row],[SR-Nr]]),\"\",IF(COUNTIF(Registration!$A$7:$A$204,SRDB4[[#This Row],[SR-Nr]])=1,TRUE,FALSE))","v":""}]
[null,{"$f":"IF(ISBLANK(SRDB4[[#This Row],[SR-Nr]]),\"\",_xlfn.XLOOKUP(SRDB4[[#This Row],[SR-Nr]],SRDB[SR-Nr.],SRDB[Vorname],\"NA\",0))","v":""},{"$f":"IF(ISBLANK(SRDB4[[#This Row],[SR-Nr]]),\"\",_xlfn.XLOOKUP(SRDB4[[#This Row],[SR-Nr]],SRDB[SR-Nr.],SRDB[Name],\"NA\",0))","v":""},{"$f":"IF(ISBLANK(SRDB4[[#This Row],[SR-Nr]]),\"\",IF(COUNTIF(Registration!$A$7:$A$204,SRDB4[[#This Row],[SR-Nr]])=1,TRUE,FALSE))","v":""}]
[null,{"$f":"IF(ISBLANK(SRDB4[[#This Row],[SR-Nr]]),\"\",_xlfn.XLOOKUP(SRDB4[[#This Row],[SR-Nr]],SRDB[SR-Nr.],SRDB[Vorname],\"NA\",0))","v":""},{"$f":"IF(ISBLANK(SRDB4[[#This Row],[SR-Nr]]),\"\",_xlfn.XLOOKUP(SRDB4[[#This Row],[SR-Nr]],SRDB[SR-Nr.],SRDB[Name],\"NA\",0))","v":""},{"$f":"IF(ISBLANK(SRDB4[[#This Row],[SR-Nr]]),\"\",IF(COUNTIF(Registration!$A$7:$A$204,SRDB4[[#This Row],[SR-Nr]])=1,TRUE,FALSE))","v":""}]
[null,{"$f":"IF(ISBLANK(SRDB4[[#This Row],[SR-Nr]]),\"\",_xlfn.XLOOKUP(SRDB4[[#This Row],[SR-Nr]],SRDB[SR-Nr.],SRDB[Vorname],\"NA\",0))","v":""},{"$f":"IF(ISBLANK(SRDB4[[#This Row],[SR-Nr]]),\"\",_xlfn.XLOOKUP(SRDB4[[#This Row],[SR-Nr]],SRDB[SR-Nr.],SRDB[Name],\"NA\",0))","v":""},{"$f":"IF(ISBLANK(SRDB4[[#This Row],[SR-Nr]]),\"\",IF(COUNTIF(Registration!$A$7:$A$204,SRDB4[[#This Row],[SR-Nr]])=1,TRUE,FALSE))","v":""}]
[null,{"$f":"IF(ISBLANK(SRDB4[[#This Row],[SR-Nr]]),\"\",_xlfn.XLOOKUP(SRDB4[[#This Row],[SR-Nr]],SRDB[SR-Nr.],SRDB[Vorname],\"NA\",0))","v":""},{"$f":"IF(ISBLANK(SRDB4[[#This Row],[SR-Nr]]),\"\",_xlfn.XLOOKUP(SRDB4[[#This Row],[SR-Nr]],SRDB[SR-Nr.],SRDB[Name],\"NA\",0))","v":""},{"$f":"IF(ISBLANK(SRDB4[[#This Row],[SR-Nr]]),\"\",IF(COUNTIF(Registration!$A$7:$A$204,SRDB4[[#This Row],[SR-Nr]])=1,TRUE,FALSE))","v":""}]
[null,{"$f":"IF(ISBLANK(SRDB4[[#This Row],[SR-Nr]]),\"\",_xlfn.XLOOKUP(SRDB4[[#This Row],[SR-Nr]],SRDB[SR-Nr.],SRDB[Vorname],\"NA\",0))","v":""},{"$f":"IF(ISBLANK(SRDB4[[#This Row],[SR-Nr]]),\"\",_xlfn.XLOOKUP(SRDB4[[#This Row],[SR-Nr]],SRDB[SR-Nr.],SRDB[Name],\"NA\",0))","v":""},{"$f":"IF(ISBLANK(SRDB4[[#This Row],[SR-Nr]]),\"\",IF(COUNTIF(Registration!$A$7:$A$204,SRDB4[[#This Row],[SR-Nr]])=1,TRUE,FALSE))","v":""}]
[null,{"$f":"IF(ISBLANK(SRDB4[[#This Row],[SR-Nr]]),\"\",_xlfn.XLOOKUP(SRDB4[[#This Row],[SR-Nr]],SRDB[SR-Nr.],SRDB[Vorname],\"NA\",0))","v":""},{"$f":"IF(ISBLANK(SRDB4[[#This Row],[SR-Nr]]),\"\",_xlfn.XLOOKUP(SRDB4[[#This Row],[SR-Nr]],SRDB[SR-Nr.],SRDB[Name],\"NA\",0))","v":""},{"$f":"IF(ISBLANK(SRDB4[[#This Row],[SR-Nr]]),\"\",IF(COUNTIF(Registration!$A$7:$A$204,SRDB4[[#This Row],[SR-Nr]])=1,TRUE,FALSE))","v":""}]
[null,{"$f":"IF(ISBLANK(SRDB4[[#This Row],[SR-Nr]]),\"\",_xlfn.XLOOKUP(SRDB4[[#This Row],[SR-Nr]],SRDB[SR-Nr.],SRDB[Vorname],\"NA\",0))","v":""},{"$f":"IF(ISBLANK(SRDB4[[#This Row],[SR-Nr]]),\"\",_xlfn.XLOOKUP(SRDB4[[#This Row],[SR-Nr]],SRDB[SR-Nr.],SRDB[Name],\"NA\",0))","v":""},{"$f":"IF(ISBLANK(SRDB4[[#This Row],[SR-Nr]]),\"\",IF(COUNTIF(Registration!$A$7:$A$204,SRDB4[[#This Row],[SR-Nr]])=1,TRUE,FALSE))","v":""}]
[null,{"$f":"IF(ISBLANK(SRDB4[[#This Row],[SR-Nr]]),\"\",_xlfn.XLOOKUP(SRDB4[[#This Row],[SR-Nr]],SRDB[SR-Nr.],SRDB[Vorname],\"NA\",0))","v":""},{"$f":"IF(ISBLANK(SRDB4[[#This Row],[SR-Nr]]),\"\",_xlfn.XLOOKUP(SRDB4[[#This Row],[SR-Nr]],SRDB[SR-Nr.],SRDB[Name],\"NA\",0))","v":""},{"$f":"IF(ISBLANK(SRDB4[[#This Row],[SR-Nr]]),\"\",IF(COUNTIF(Registration!$A$7:$A$204,SRDB4[[#This Row],[SR-Nr]])=1,TRUE,FALSE))","v":""}]
[null,{"$f":"IF(ISBLANK(SRDB4[[#This Row],[SR-Nr]]),\"\",_xlfn.XLOOKUP(SRDB4[[#This Row],[SR-Nr]],SRDB[SR-Nr.],SRDB[Vorname],\"NA\",0))","v":""},{"$f":"IF(ISBLANK(SRDB4[[#This Row],[SR-Nr]]),\"\",_xlfn.XLOOKUP(SRDB4[[#This Row],[SR-Nr]],SRDB[SR-Nr.],SRDB[Name],\"NA\",0))","v":""},{"$f":"IF(ISBLANK(SRDB4[[#This Row],[SR-Nr]]),\"\",IF(COUNTIF(Registration!$A$7:$A$204,SRDB4[[#This Row],[SR-Nr]])=1,TRUE,FALSE))","v":""}]
[null,{"$f":"IF(ISBLANK(SRDB4[[#This Row],[SR-Nr]]),\"\",_xlfn.XLOOKUP(SRDB4[[#This Row],[SR-Nr]],SRDB[SR-Nr.],SRDB[Vorname],\"NA\",0))","v":""},{"$f":"IF(ISBLANK(SRDB4[[#This Row],[SR-Nr]]),\"\",_xlfn.XLOOKUP(SRDB4[[#This Row],[SR-Nr]],SRDB[SR-Nr.],SRDB[Name],\"NA\",0))","v":""},{"$f":"IF(ISBLANK(SRDB4[[#This Row],[SR-Nr]]),\"\",IF(COUNTIF(Registration!$A$7:$A$204,SRDB4[[#This Row],[SR-Nr]])=1,TRUE,FALSE))","v":""}]
[null,{"$f":"IF(ISBLANK(SRDB4[[#This Row],[SR-Nr]]),\"\",_xlfn.XLOOKUP(SRDB4[[#This Row],[SR-Nr]],SRDB[SR-Nr.],SRDB[Vorname],\"NA\",0))","v":""},{"$f":"IF(ISBLANK(SRDB4[[#This Row],[SR-Nr]]),\"\",_xlfn.XLOOKUP(SRDB4[[#This Row],[SR-Nr]],SRDB[SR-Nr.],SRDB[Name],\"NA\",0))","v":""},{"$f":"IF(ISBLANK(SRDB4[[#This Row],[SR-Nr]]),\"\",IF(COUNTIF(Registration!$A$7:$A$204,SRDB4[[#This Row],[SR-Nr]])=1,TRUE,FALSE))","v":""}]
[null,{"$f":"IF(ISBLANK(SRDB4[[#This Row],[SR-Nr]]),\"\",_xlfn.XLOOKUP(SRDB4[[#This Row],[SR-Nr]],SRDB[SR-Nr.],SRDB[Vorname],\"NA\",0))","v":""},{"$f":"IF(ISBLANK(SRDB4[[#This Row],[SR-Nr]]),\"\",_xlfn.XLOOKUP(SRDB4[[#This Row],[SR-Nr]],SRDB[SR-Nr.],SRDB[Name],\"NA\",0))","v":""},{"$f":"IF(ISBLANK(SRDB4[[#This Row],[SR-Nr]]),\"\",IF(COUNTIF(Registration!$A$7:$A$204,SRDB4[[#This Row],[SR-Nr]])=1,TRUE,FALSE))","v":""}]
[null,{"$f":"IF(ISBLANK(SRDB4[[#This Row],[SR-Nr]]),\"\",_xlfn.XLOOKUP(SRDB4[[#This Row],[SR-Nr]],SRDB[SR-Nr.],SRDB[Vorname],\"NA\",0))","v":""},{"$f":"IF(ISBLANK(SRDB4[[#This Row],[SR-Nr]]),\"\",_xlfn.XLOOKUP(SRDB4[[#This Row],[SR-Nr]],SRDB[SR-Nr.],SRDB[Name],\"NA\",0))","v":""},{"$f":"IF(ISBLANK(SRDB4[[#This Row],[SR-Nr]]),\"\",IF(COUNTIF(Registration!$A$7:$A$204,SRDB4[[#This Row],[SR-Nr]])=1,TRUE,FALSE))","v":""}]
[null,{"$f":"IF(ISBLANK(SRDB4[[#This Row],[SR-Nr]]),\"\",_xlfn.XLOOKUP(SRDB4[[#This Row],[SR-Nr]],SRDB[SR-Nr.],SRDB[Vorname],\"NA\",0))","v":""},{"$f":"IF(ISBLANK(SRDB4[[#This Row],[SR-Nr]]),\"\",_xlfn.XLOOKUP(SRDB4[[#This Row],[SR-Nr]],SRDB[SR-Nr.],SRDB[Name],\"NA\",0))","v":""},{"$f":"IF(ISBLANK(SRDB4[[#This Row],[SR-Nr]]),\"\",IF(COUNTIF(Registration!$A$7:$A$204,SRDB4[[#This Row],[SR-Nr]])=1,TRUE,FALSE))","v":""}]
[null,{"$f":"IF(ISBLANK(SRDB4[[#This Row],[SR-Nr]]),\"\",_xlfn.XLOOKUP(SRDB4[[#This Row],[SR-Nr]],SRDB[SR-Nr.],SRDB[Vorname],\"NA\",0))","v":""},{"$f":"IF(ISBLANK(SRDB4[[#This Row],[SR-Nr]]),\"\",_xlfn.XLOOKUP(SRDB4[[#This Row],[SR-Nr]],SRDB[SR-Nr.],SRDB[Name],\"NA\",0))","v":""},{"$f":"IF(ISBLANK(SRDB4[[#This Row],[SR-Nr]]),\"\",IF(COUNTIF(Registration!$A$7:$A$204,SRDB4[[#This Row],[SR-Nr]])=1,TRUE,FALSE))","v":""}]
[null,{"$f":"IF(ISBLANK(SRDB4[[#This Row],[SR-Nr]]),\"\",_xlfn.XLOOKUP(SRDB4[[#This Row],[SR-Nr]],SRDB[SR-Nr.],SRDB[Vorname],\"NA\",0))","v":""},{"$f":"IF(ISBLANK(SRDB4[[#This Row],[SR-Nr]]),\"\",_xlfn.XLOOKUP(SRDB4[[#This Row],[SR-Nr]],SRDB[SR-Nr.],SRDB[Name],\"NA\",0))","v":""},{"$f":"IF(ISBLANK(SRDB4[[#This Row],[SR-Nr]]),\"\",IF(COUNTIF(Registration!$A$7:$A$204,SRDB4[[#This Row],[SR-Nr]])=1,TRUE,FALSE))","v":""}]
[null,{"$f":"IF(ISBLANK(SRDB4[[#This Row],[SR-Nr]]),\"\",_xlfn.XLOOKUP(SRDB4[[#This Row],[SR-Nr]],SRDB[SR-Nr.],SRDB[Vorname],\"NA\",0))","v":""},{"$f":"IF(ISBLANK(SRDB4[[#This Row],[SR-Nr]]),\"\",_xlfn.XLOOKUP(SRDB4[[#This Row],[SR-Nr]],SRDB[SR-Nr.],SRDB[Name],\"NA\",0))","v":""},{"$f":"IF(ISBLANK(SRDB4[[#This Row],[SR-Nr]]),\"\",IF(COUNTIF(Registration!$A$7:$A$204,SRDB4[[#This Row],[SR-Nr]])=1,TRUE,FALSE))","v":""}]
[null,{"$f":"IF(ISBLANK(SRDB4[[#This Row],[SR-Nr]]),\"\",_xlfn.XLOOKUP(SRDB4[[#This Row],[SR-Nr]],SRDB[SR-Nr.],SRDB[Vorname],\"NA\",0))","v":""},{"$f":"IF(ISBLANK(SRDB4[[#This Row],[SR-Nr]]),\"\",_xlfn.XLOOKUP(SRDB4[[#This Row],[SR-Nr]],SRDB[SR-Nr.],SRDB[Name],\"NA\",0))","v":""},{"$f":"IF(ISBLANK(SRDB4[[#This Row],[SR-Nr]]),\"\",IF(COUNTIF(Registration!$A$7:$A$204,SRDB4[[#This Row],[SR-Nr]])=1,TRUE,FALSE))","v":""}]
[null,{"$f":"IF(ISBLANK(SRDB4[[#This Row],[SR-Nr]]),\"\",_xlfn.XLOOKUP(SRDB4[[#This Row],[SR-Nr]],SRDB[SR-Nr.],SRDB[Vorname],\"NA\",0))","v":""},{"$f":"IF(ISBLANK(SRDB4[[#This Row],[SR-Nr]]),\"\",_xlfn.XLOOKUP(SRDB4[[#This Row],[SR-Nr]],SRDB[SR-Nr.],SRDB[Name],\"NA\",0))","v":""},{"$f":"IF(ISBLANK(SRDB4[[#This Row],[SR-Nr]]),\"\",IF(COUNTIF(Registration!$A$7:$A$204,SRDB4[[#This Row],[SR-Nr]])=1,TRUE,FALSE))","v":""}]
[null,{"$f":"IF(ISBLANK(SRDB4[[#This Row],[SR-Nr]]),\"\",_xlfn.XLOOKUP(SRDB4[[#This Row],[SR-Nr]],SRDB[SR-Nr.],SRDB[Vorname],\"NA\",0))","v":""},{"$f":"IF(ISBLANK(SRDB4[[#This Row],[SR-Nr]]),\"\",_xlfn.XLOOKUP(SRDB4[[#This Row],[SR-Nr]],SRDB[SR-Nr.],SRDB[Name],\"NA\",0))","v":""},{"$f":"IF(ISBLANK(SRDB4[[#This Row],[SR-Nr]]),\"\",IF(COUNTIF(Registration!$A$7:$A$204,SRDB4[[#This Row],[SR-Nr]])=1,TRUE,FALSE))","v":""}]
[null,{"$f":"IF(ISBLANK(SRDB4[[#This Row],[SR-Nr]]),\"\",_xlfn.XLOOKUP(SRDB4[[#This Row],[SR-Nr]],SRDB[SR-Nr.],SRDB[Vorname],\"NA\",0))","v":""},{"$f":"IF(ISBLANK(SRDB4[[#This Row],[SR-Nr]]),\"\",_xlfn.XLOOKUP(SRDB4[[#This Row],[SR-Nr]],SRDB[SR-Nr.],SRDB[Name],\"NA\",0))","v":""},{"$f":"IF(ISBLANK(SRDB4[[#This Row],[SR-Nr]]),\"\",IF(COUNTIF(Registration!$A$7:$A$204,SRDB4[[#This Row],[SR-Nr]])=1,TRUE,FALSE))","v":""}]
[null,{"$f":"IF(ISBLANK(SRDB4[[#This Row],[SR-Nr]]),\"\",_xlfn.XLOOKUP(SRDB4[[#This Row],[SR-Nr]],SRDB[SR-Nr.],SRDB[Vorname],\"NA\",0))","v":""},{"$f":"IF(ISBLANK(SRDB4[[#This Row],[SR-Nr]]),\"\",_xlfn.XLOOKUP(SRDB4[[#This Row],[SR-Nr]],SRDB[SR-Nr.],SRDB[Name],\"NA\",0))","v":""},{"$f":"IF(ISBLANK(SRDB4[[#This Row],[SR-Nr]]),\"\",IF(COUNTIF(Registration!$A$7:$A$204,SRDB4[[#This Row],[SR-Nr]])=1,TRUE,FALSE))","v":""}]
[null,{"$f":"IF(ISBLANK(SRDB4[[#This Row],[SR-Nr]]),\"\",_xlfn.XLOOKUP(SRDB4[[#This Row],[SR-Nr]],SRDB[SR-Nr.],SRDB[Vorname],\"NA\",0))","v":""},{"$f":"IF(ISBLANK(SRDB4[[#This Row],[SR-Nr]]),\"\",_xlfn.XLOOKUP(SRDB4[[#This Row],[SR-Nr]],SRDB[SR-Nr.],SRDB[Name],\"NA\",0))","v":""},{"$f":"IF(ISBLANK(SRDB4[[#This Row],[SR-Nr]]),\"\",IF(COUNTIF(Registration!$A$7:$A$204,SRDB4[[#This Row],[SR-Nr]])=1,TRUE,FALSE))","v":""}]
[null,{"$f":"IF(ISBLANK(SRDB4[[#This Row],[SR-Nr]]),\"\",_xlfn.XLOOKUP(SRDB4[[#This Row],[SR-Nr]],SRDB[SR-Nr.],SRDB[Vorname],\"NA\",0))","v":""},{"$f":"IF(ISBLANK(SRDB4[[#This Row],[SR-Nr]]),\"\",_xlfn.XLOOKUP(SRDB4[[#This Row],[SR-Nr]],SRDB[SR-Nr.],SRDB[Name],\"NA\",0))","v":""},{"$f":"IF(ISBLANK(SRDB4[[#This Row],[SR-Nr]]),\"\",IF(COUNTIF(Registration!$A$7:$A$204,SRDB4[[#This Row],[SR-Nr]])=1,TRUE,FALSE))","v":""}]
[null,{"$f":"IF(ISBLANK(SRDB4[[#This Row],[SR-Nr]]),\"\",_xlfn.XLOOKUP(SRDB4[[#This Row],[SR-Nr]],SRDB[SR-Nr.],SRDB[Vorname],\"NA\",0))","v":""},{"$f":"IF(ISBLANK(SRDB4[[#This Row],[SR-Nr]]),\"\",_xlfn.XLOOKUP(SRDB4[[#This Row],[SR-Nr]],SRDB[SR-Nr.],SRDB[Name],\"NA\",0))","v":""},{"$f":"IF(ISBLANK(SRDB4[[#This Row],[SR-Nr]]),\"\",IF(COUNTIF(Registration!$A$7:$A$204,SRDB4[[#This Row],[SR-Nr]])=1,TRUE,FALSE))","v":""}]
[null,{"$f":"IF(ISBLANK(SRDB4[[#This Row],[SR-Nr]]),\"\",_xlfn.XLOOKUP(SRDB4[[#This Row],[SR-Nr]],SRDB[SR-Nr.],SRDB[Vorname],\"NA\",0))","v":""},{"$f":"IF(ISBLANK(SRDB4[[#This Row],[SR-Nr]]),\"\",_xlfn.XLOOKUP(SRDB4[[#This Row],[SR-Nr]],SRDB[SR-Nr.],SRDB[Name],\"NA\",0))","v":""},{"$f":"IF(ISBLANK(SRDB4[[#This Row],[SR-Nr]]),\"\",IF(COUNTIF(Registration!$A$7:$A$204,SRDB4[[#This Row],[SR-Nr]])=1,TRUE,FALSE))","v":""}]
[null,{"$f":"IF(ISBLANK(SRDB4[[#This Row],[SR-Nr]]),\"\",_xlfn.XLOOKUP(SRDB4[[#This Row],[SR-Nr]],SRDB[SR-Nr.],SRDB[Vorname],\"NA\",0))","v":""},{"$f":"IF(ISBLANK(SRDB4[[#This Row],[SR-Nr]]),\"\",_xlfn.XLOOKUP(SRDB4[[#This Row],[SR-Nr]],SRDB[SR-Nr.],SRDB[Name],\"NA\",0))","v":""},{"$f":"IF(ISBLANK(SRDB4[[#This Row],[SR-Nr]]),\"\",IF(COUNTIF(Registration!$A$7:$A$204,SRDB4[[#This Row],[SR-Nr]])=1,TRUE,FALSE))","v":""}]
[null,{"$f":"IF(ISBLANK(SRDB4[[#This Row],[SR-Nr]]),\"\",_xlfn.XLOOKUP(SRDB4[[#This Row],[SR-Nr]],SRDB[SR-Nr.],SRDB[Vorname],\"NA\",0))","v":""},{"$f":"IF(ISBLANK(SRDB4[[#This Row],[SR-Nr]]),\"\",_xlfn.XLOOKUP(SRDB4[[#This Row],[SR-Nr]],SRDB[SR-Nr.],SRDB[Name],\"NA\",0))","v":""},{"$f":"IF(ISBLANK(SRDB4[[#This Row],[SR-Nr]]),\"\",IF(COUNTIF(Registration!$A$7:$A$204,SRDB4[[#This Row],[SR-Nr]])=1,TRUE,FALSE))","v":""}]
[null,{"$f":"IF(ISBLANK(SRDB4[[#This Row],[SR-Nr]]),\"\",_xlfn.XLOOKUP(SRDB4[[#This Row],[SR-Nr]],SRDB[SR-Nr.],SRDB[Vorname],\"NA\",0))","v":""},{"$f":"IF(ISBLANK(SRDB4[[#This Row],[SR-Nr]]),\"\",_xlfn.XLOOKUP(SRDB4[[#This Row],[SR-Nr]],SRDB[SR-Nr.],SRDB[Name],\"NA\",0))","v":""},{"$f":"IF(ISBLANK(SRDB4[[#This Row],[SR-Nr]]),\"\",IF(COUNTIF(Registration!$A$7:$A$204,SRDB4[[#This Row],[SR-Nr]])=1,TRUE,FALSE))","v":""}]
[null,{"$f":"IF(ISBLANK(SRDB4[[#This Row],[SR-Nr]]),\"\",_xlfn.XLOOKUP(SRDB4[[#This Row],[SR-Nr]],SRDB[SR-Nr.],SRDB[Vorname],\"NA\",0))","v":""},{"$f":"IF(ISBLANK(SRDB4[[#This Row],[SR-Nr]]),\"\",_xlfn.XLOOKUP(SRDB4[[#This Row],[SR-Nr]],SRDB[SR-Nr.],SRDB[Name],\"NA\",0))","v":""},{"$f":"IF(ISBLANK(SRDB4[[#This Row],[SR-Nr]]),\"\",IF(COUNTIF(Registration!$A$7:$A$204,SRDB4[[#This Row],[SR-Nr]])=1,TRUE,FALSE))","v":""}]
[null,{"$f":"IF(ISBLANK(SRDB4[[#This Row],[SR-Nr]]),\"\",_xlfn.XLOOKUP(SRDB4[[#This Row],[SR-Nr]],SRDB[SR-Nr.],SRDB[Vorname],\"NA\",0))","v":""},{"$f":"IF(ISBLANK(SRDB4[[#This Row],[SR-Nr]]),\"\",_xlfn.XLOOKUP(SRDB4[[#This Row],[SR-Nr]],SRDB[SR-Nr.],SRDB[Name],\"NA\",0))","v":""},{"$f":"IF(ISBLANK(SRDB4[[#This Row],[SR-Nr]]),\"\",IF(COUNTIF(Registration!$A$7:$A$204,SRDB4[[#This Row],[SR-Nr]])=1,TRUE,FALSE))","v":""}]
[null,{"$f":"IF(ISBLANK(SRDB4[[#This Row],[SR-Nr]]),\"\",_xlfn.XLOOKUP(SRDB4[[#This Row],[SR-Nr]],SRDB[SR-Nr.],SRDB[Vorname],\"NA\",0))","v":""},{"$f":"IF(ISBLANK(SRDB4[[#This Row],[SR-Nr]]),\"\",_xlfn.XLOOKUP(SRDB4[[#This Row],[SR-Nr]],SRDB[SR-Nr.],SRDB[Name],\"NA\",0))","v":""},{"$f":"IF(ISBLANK(SRDB4[[#This Row],[SR-Nr]]),\"\",IF(COUNTIF(Registration!$A$7:$A$204,SRDB4[[#This Row],[SR-Nr]])=1,TRUE,FALSE))","v":""}]
[null,{"$f":"IF(ISBLANK(SRDB4[[#This Row],[SR-Nr]]),\"\",_xlfn.XLOOKUP(SRDB4[[#This Row],[SR-Nr]],SRDB[SR-Nr.],SRDB[Vorname],\"NA\",0))","v":""},{"$f":"IF(ISBLANK(SRDB4[[#This Row],[SR-Nr]]),\"\",_xlfn.XLOOKUP(SRDB4[[#This Row],[SR-Nr]],SRDB[SR-Nr.],SRDB[Name],\"NA\",0))","v":""},{"$f":"IF(ISBLANK(SRDB4[[#This Row],[SR-Nr]]),\"\",IF(COUNTIF(Registration!$A$7:$A$204,SRDB4[[#This Row],[SR-Nr]])=1,TRUE,FALSE))","v":""}]
[null,{"$f":"IF(ISBLANK(SRDB4[[#This Row],[SR-Nr]]),\"\",_xlfn.XLOOKUP(SRDB4[[#This Row],[SR-Nr]],SRDB[SR-Nr.],SRDB[Vorname],\"NA\",0))","v":""},{"$f":"IF(ISBLANK(SRDB4[[#This Row],[SR-Nr]]),\"\",_xlfn.XLOOKUP(SRDB4[[#This Row],[SR-Nr]],SRDB[SR-Nr.],SRDB[Name],\"NA\",0))","v":""},{"$f":"IF(ISBLANK(SRDB4[[#This Row],[SR-Nr]]),\"\",IF(COUNTIF(Registration!$A$7:$A$204,SRDB4[[#This Row],[SR-Nr]])=1,TRUE,FALSE))","v":""}]
[null,{"$f":"IF(ISBLANK(SRDB4[[#This Row],[SR-Nr]]),\"\",_xlfn.XLOOKUP(SRDB4[[#This Row],[SR-Nr]],SRDB[SR-Nr.],SRDB[Vorname],\"NA\",0))","v":""},{"$f":"IF(ISBLANK(SRDB4[[#This Row],[SR-Nr]]),\"\",_xlfn.XLOOKUP(SRDB4[[#This Row],[SR-Nr]],SRDB[SR-Nr.],SRDB[Name],\"NA\",0))","v":""},{"$f":"IF(ISBLANK(SRDB4[[#This Row],[SR-Nr]]),\"\",IF(COUNTIF(Registration!$A$7:$A$204,SRDB4[[#This Row],[SR-Nr]])=1,TRUE,FALSE))","v":""}]
[null,{"$f":"IF(ISBLANK(SRDB4[[#This Row],[SR-Nr]]),\"\",_xlfn.XLOOKUP(SRDB4[[#This Row],[SR-Nr]],SRDB[SR-Nr.],SRDB[Vorname],\"NA\",0))","v":""},{"$f":"IF(ISBLANK(SRDB4[[#This Row],[SR-Nr]]),\"\",_xlfn.XLOOKUP(SRDB4[[#This Row],[SR-Nr]],SRDB[SR-Nr.],SRDB[Name],\"NA\",0))","v":""},{"$f":"IF(ISBLANK(SRDB4[[#This Row],[SR-Nr]]),\"\",IF(COUNTIF(Registration!$A$7:$A$204,SRDB4[[#This Row],[SR-Nr]])=1,TRUE,FALSE))","v":""}]
[null,{"$f":"IF(ISBLANK(SRDB4[[#This Row],[SR-Nr]]),\"\",_xlfn.XLOOKUP(SRDB4[[#This Row],[SR-Nr]],SRDB[SR-Nr.],SRDB[Vorname],\"NA\",0))","v":""},{"$f":"IF(ISBLANK(SRDB4[[#This Row],[SR-Nr]]),\"\",_xlfn.XLOOKUP(SRDB4[[#This Row],[SR-Nr]],SRDB[SR-Nr.],SRDB[Name],\"NA\",0))","v":""},{"$f":"IF(ISBLANK(SRDB4[[#This Row],[SR-Nr]]),\"\",IF(COUNTIF(Registration!$A$7:$A$204,SRDB4[[#This Row],[SR-Nr]])=1,TRUE,FALSE))","v":""}]
[null,{"$f":"IF(ISBLANK(SRDB4[[#This Row],[SR-Nr]]),\"\",_xlfn.XLOOKUP(SRDB4[[#This Row],[SR-Nr]],SRDB[SR-Nr.],SRDB[Vorname],\"NA\",0))","v":""},{"$f":"IF(ISBLANK(SRDB4[[#This Row],[SR-Nr]]),\"\",_xlfn.XLOOKUP(SRDB4[[#This Row],[SR-Nr]],SRDB[SR-Nr.],SRDB[Name],\"NA\",0))","v":""},{"$f":"IF(ISBLANK(SRDB4[[#This Row],[SR-Nr]]),\"\",IF(COUNTIF(Registration!$A$7:$A$204,SRDB4[[#This Row],[SR-Nr]])=1,TRUE,FALSE))","v":""}]
[null,{"$f":"IF(ISBLANK(SRDB4[[#This Row],[SR-Nr]]),\"\",_xlfn.XLOOKUP(SRDB4[[#This Row],[SR-Nr]],SRDB[SR-Nr.],SRDB[Vorname],\"NA\",0))","v":""},{"$f":"IF(ISBLANK(SRDB4[[#This Row],[SR-Nr]]),\"\",_xlfn.XLOOKUP(SRDB4[[#This Row],[SR-Nr]],SRDB[SR-Nr.],SRDB[Name],\"NA\",0))","v":""},{"$f":"IF(ISBLANK(SRDB4[[#This Row],[SR-Nr]]),\"\",IF(COUNTIF(Registration!$A$7:$A$204,SRDB4[[#This Row],[SR-Nr]])=1,TRUE,FALSE))","v":""}]
[null,{"$f":"IF(ISBLANK(SRDB4[[#This Row],[SR-Nr]]),\"\",_xlfn.XLOOKUP(SRDB4[[#This Row],[SR-Nr]],SRDB[SR-Nr.],SRDB[Vorname],\"NA\",0))","v":""},{"$f":"IF(ISBLANK(SRDB4[[#This Row],[SR-Nr]]),\"\",_xlfn.XLOOKUP(SRDB4[[#This Row],[SR-Nr]],SRDB[SR-Nr.],SRDB[Name],\"NA\",0))","v":""},{"$f":"IF(ISBLANK(SRDB4[[#This Row],[SR-Nr]]),\"\",IF(COUNTIF(Registration!$A$7:$A$204,SRDB4[[#This Row],[SR-Nr]])=1,TRUE,FALSE))","v":""}]
[null,{"$f":"IF(ISBLANK(SRDB4[[#This Row],[SR-Nr]]),\"\",_xlfn.XLOOKUP(SRDB4[[#This Row],[SR-Nr]],SRDB[SR-Nr.],SRDB[Vorname],\"NA\",0))","v":""},{"$f":"IF(ISBLANK(SRDB4[[#This Row],[SR-Nr]]),\"\",_xlfn.XLOOKUP(SRDB4[[#This Row],[SR-Nr]],SRDB[SR-Nr.],SRDB[Name],\"NA\",0))","v":""},{"$f":"IF(ISBLANK(SRDB4[[#This Row],[SR-Nr]]),\"\",IF(COUNTIF(Registration!$A$7:$A$204,SRDB4[[#This Row],[SR-Nr]])=1,TRUE,FALSE))","v":""}]
[null,{"$f":"IF(ISBLANK(SRDB4[[#This Row],[SR-Nr]]),\"\",_xlfn.XLOOKUP(SRDB4[[#This Row],[SR-Nr]],SRDB[SR-Nr.],SRDB[Vorname],\"NA\",0))","v":""},{"$f":"IF(ISBLANK(SRDB4[[#This Row],[SR-Nr]]),\"\",_xlfn.XLOOKUP(SRDB4[[#This Row],[SR-Nr]],SRDB[SR-Nr.],SRDB[Name],\"NA\",0))","v":""},{"$f":"IF(ISBLANK(SRDB4[[#This Row],[SR-Nr]]),\"\",IF(COUNTIF(Registration!$A$7:$A$204,SRDB4[[#This Row],[SR-Nr]])=1,TRUE,FALSE))","v":""}]
[null,{"$f":"IF(ISBLANK(SRDB4[[#This Row],[SR-Nr]]),\"\",_xlfn.XLOOKUP(SRDB4[[#This Row],[SR-Nr]],SRDB[SR-Nr.],SRDB[Vorname],\"NA\",0))","v":""},{"$f":"IF(ISBLANK(SRDB4[[#This Row],[SR-Nr]]),\"\",_xlfn.XLOOKUP(SRDB4[[#This Row],[SR-Nr]],SRDB[SR-Nr.],SRDB[Name],\"NA\",0))","v":""},{"$f":"IF(ISBLANK(SRDB4[[#This Row],[SR-Nr]]),\"\",IF(COUNTIF(Registration!$A$7:$A$204,SRDB4[[#This Row],[SR-Nr]])=1,TRUE,FALSE))","v":""}]
[null,{"$f":"IF(ISBLANK(SRDB4[[#This Row],[SR-Nr]]),\"\",_xlfn.XLOOKUP(SRDB4[[#This Row],[SR-Nr]],SRDB[SR-Nr.],SRDB[Vorname],\"NA\",0))","v":""},{"$f":"IF(ISBLANK(SRDB4[[#This Row],[SR-Nr]]),\"\",_xlfn.XLOOKUP(SRDB4[[#This Row],[SR-Nr]],SRDB[SR-Nr.],SRDB[Name],\"NA\",0))","v":""},{"$f":"IF(ISBLANK(SRDB4[[#This Row],[SR-Nr]]),\"\",IF(COUNTIF(Registration!$A$7:$A$204,SRDB4[[#This Row],[SR-Nr]])=1,TRUE,FALSE))","v":""}]
[null,{"$f":"IF(ISBLANK(SRDB4[[#This Row],[SR-Nr]]),\"\",_xlfn.XLOOKUP(SRDB4[[#This Row],[SR-Nr]],SRDB[SR-Nr.],SRDB[Vorname],\"NA\",0))","v":""},{"$f":"IF(ISBLANK(SRDB4[[#This Row],[SR-Nr]]),\"\",_xlfn.XLOOKUP(SRDB4[[#This Row],[SR-Nr]],SRDB[SR-Nr.],SRDB[Name],\"NA\",0))","v":""},{"$f":"IF(ISBLANK(SRDB4[[#This Row],[SR-Nr]]),\"\",IF(COUNTIF(Registration!$A$7:$A$204,SRDB4[[#This Row],[SR-Nr]])=1,TRUE,FALSE))","v":""}]
[null,{"$f":"IF(ISBLANK(SRDB4[[#This Row],[SR-Nr]]),\"\",_xlfn.XLOOKUP(SRDB4[[#This Row],[SR-Nr]],SRDB[SR-Nr.],SRDB[Vorname],\"NA\",0))","v":""},{"$f":"IF(ISBLANK(SRDB4[[#This Row],[SR-Nr]]),\"\",_xlfn.XLOOKUP(SRDB4[[#This Row],[SR-Nr]],SRDB[SR-Nr.],SRDB[Name],\"NA\",0))","v":""},{"$f":"IF(ISBLANK(SRDB4[[#This Row],[SR-Nr]]),\"\",IF(COUNTIF(Registration!$A$7:$A$204,SRDB4[[#This Row],[SR-Nr]])=1,TRUE,FALSE))","v":""}]
[null,{"$f":"IF(ISBLANK(SRDB4[[#This Row],[SR-Nr]]),\"\",_xlfn.XLOOKUP(SRDB4[[#This Row],[SR-Nr]],SRDB[SR-Nr.],SRDB[Vorname],\"NA\",0))","v":""},{"$f":"IF(ISBLANK(SRDB4[[#This Row],[SR-Nr]]),\"\",_xlfn.XLOOKUP(SRDB4[[#This Row],[SR-Nr]],SRDB[SR-Nr.],SRDB[Name],\"NA\",0))","v":""},{"$f":"IF(ISBLANK(SRDB4[[#This Row],[SR-Nr]]),\"\",IF(COUNTIF(Registration!$A$7:$A$204,SRDB4[[#This Row],[SR-Nr]])=1,TRUE,FALSE))","v":""}]
[null,{"$f":"IF(ISBLANK(SRDB4[[#This Row],[SR-Nr]]),\"\",_xlfn.XLOOKUP(SRDB4[[#This Row],[SR-Nr]],SRDB[SR-Nr.],SRDB[Vorname],\"NA\",0))","v":""},{"$f":"IF(ISBLANK(SRDB4[[#This Row],[SR-Nr]]),\"\",_xlfn.XLOOKUP(SRDB4[[#This Row],[SR-Nr]],SRDB[SR-Nr.],SRDB[Name],\"NA\",0))","v":""},{"$f":"IF(ISBLANK(SRDB4[[#This Row],[SR-Nr]]),\"\",IF(COUNTIF(Registration!$A$7:$A$204,SRDB4[[#This Row],[SR-Nr]])=1,TRUE,FALSE))","v":""}]
[null,{"$f":"IF(ISBLANK(SRDB4[[#This Row],[SR-Nr]]),\"\",_xlfn.XLOOKUP(SRDB4[[#This Row],[SR-Nr]],SRDB[SR-Nr.],SRDB[Vorname],\"NA\",0))","v":""},{"$f":"IF(ISBLANK(SRDB4[[#This Row],[SR-Nr]]),\"\",_xlfn.XLOOKUP(SRDB4[[#This Row],[SR-Nr]],SRDB[SR-Nr.],SRDB[Name],\"NA\",0))","v":""},{"$f":"IF(ISBLANK(SRDB4[[#This Row],[SR-Nr]]),\"\",IF(COUNTIF(Registration!$A$7:$A$204,SRDB4[[#This Row],[SR-Nr]])=1,TRUE,FALSE))","v":""}]
[null,{"$f":"IF(ISBLANK(SRDB4[[#This Row],[SR-Nr]]),\"\",_xlfn.XLOOKUP(SRDB4[[#This Row],[SR-Nr]],SRDB[SR-Nr.],SRDB[Vorname],\"NA\",0))","v":""},{"$f":"IF(ISBLANK(SRDB4[[#This Row],[SR-Nr]]),\"\",_xlfn.XLOOKUP(SRDB4[[#This Row],[SR-Nr]],SRDB[SR-Nr.],SRDB[Name],\"NA\",0))","v":""},{"$f":"IF(ISBLANK(SRDB4[[#This Row],[SR-Nr]]),\"\",IF(COUNTIF(Registration!$A$7:$A$204,SRDB4[[#This Row],[SR-Nr]])=1,TRUE,FALSE))","v":""}]
[null,{"$f":"IF(ISBLANK(SRDB4[[#This Row],[SR-Nr]]),\"\",_xlfn.XLOOKUP(SRDB4[[#This Row],[SR-Nr]],SRDB[SR-Nr.],SRDB[Vorname],\"NA\",0))","v":""},{"$f":"IF(ISBLANK(SRDB4[[#This Row],[SR-Nr]]),\"\",_xlfn.XLOOKUP(SRDB4[[#This Row],[SR-Nr]],SRDB[SR-Nr.],SRDB[Name],\"NA\",0))","v":""},{"$f":"IF(ISBLANK(SRDB4[[#This Row],[SR-Nr]]),\"\",IF(COUNTIF(Registration!$A$7:$A$204,SRDB4[[#This Row],[SR-Nr]])=1,TRUE,FALSE))","v":""}]
[null,{"$f":"IF(ISBLANK(SRDB4[[#This Row],[SR-Nr]]),\"\",_xlfn.XLOOKUP(SRDB4[[#This Row],[SR-Nr]],SRDB[SR-Nr.],SRDB[Vorname],\"NA\",0))","v":""},{"$f":"IF(ISBLANK(SRDB4[[#This Row],[SR-Nr]]),\"\",_xlfn.XLOOKUP(SRDB4[[#This Row],[SR-Nr]],SRDB[SR-Nr.],SRDB[Name],\"NA\",0))","v":""},{"$f":"IF(ISBLANK(SRDB4[[#This Row],[SR-Nr]]),\"\",IF(COUNTIF(Registration!$A$7:$A$204,SRDB4[[#This Row],[SR-Nr]])=1,TRUE,FALSE))","v":""}]
[null,{"$f":"IF(ISBLANK(SRDB4[[#This Row],[SR-Nr]]),\"\",_xlfn.XLOOKUP(SRDB4[[#This Row],[SR-Nr]],SRDB[SR-Nr.],SRDB[Vorname],\"NA\",0))","v":""},{"$f":"IF(ISBLANK(SRDB4[[#This Row],[SR-Nr]]),\"\",_xlfn.XLOOKUP(SRDB4[[#This Row],[SR-Nr]],SRDB[SR-Nr.],SRDB[Name],\"NA\",0))","v":""},{"$f":"IF(ISBLANK(SRDB4[[#This Row],[SR-Nr]]),\"\",IF(COUNTIF(Registration!$A$7:$A$204,SRDB4[[#This Row],[SR-Nr]])=1,TRUE,FALSE))","v":""}]
[null,{"$f":"IF(ISBLANK(SRDB4[[#This Row],[SR-Nr]]),\"\",_xlfn.XLOOKUP(SRDB4[[#This Row],[SR-Nr]],SRDB[SR-Nr.],SRDB[Vorname],\"NA\",0))","v":""},{"$f":"IF(ISBLANK(SRDB4[[#This Row],[SR-Nr]]),\"\",_xlfn.XLOOKUP(SRDB4[[#This Row],[SR-Nr]],SRDB[SR-Nr.],SRDB[Name],\"NA\",0))","v":""},{"$f":"IF(ISBLANK(SRDB4[[#This Row],[SR-Nr]]),\"\",IF(COUNTIF(Registration!$A$7:$A$204,SRDB4[[#This Row],[SR-Nr]])=1,TRUE,FALSE))","v":""}]
[null,{"$f":"IF(ISBLANK(SRDB4[[#This Row],[SR-Nr]]),\"\",_xlfn.XLOOKUP(SRDB4[[#This Row],[SR-Nr]],SRDB[SR-Nr.],SRDB[Vorname],\"NA\",0))","v":""},{"$f":"IF(ISBLANK(SRDB4[[#This Row],[SR-Nr]]),\"\",_xlfn.XLOOKUP(SRDB4[[#This Row],[SR-Nr]],SRDB[SR-Nr.],SRDB[Name],\"NA\",0))","v":""},{"$f":"IF(ISBLANK(SRDB4[[#This Row],[SR-Nr]]),\"\",IF(COUNTIF(Registration!$A$7:$A$204,SRDB4[[#This Row],[SR-Nr]])=1,TRUE,FALSE))","v":""}]
[null,{"$f":"IF(ISBLANK(SRDB4[[#This Row],[SR-Nr]]),\"\",_xlfn.XLOOKUP(SRDB4[[#This Row],[SR-Nr]],SRDB[SR-Nr.],SRDB[Vorname],\"NA\",0))","v":""},{"$f":"IF(ISBLANK(SRDB4[[#This Row],[SR-Nr]]),\"\",_xlfn.XLOOKUP(SRDB4[[#This Row],[SR-Nr]],SRDB[SR-Nr.],SRDB[Name],\"NA\",0))","v":""},{"$f":"IF(ISBLANK(SRDB4[[#This Row],[SR-Nr]]),\"\",IF(COUNTIF(Registration!$A$7:$A$204,SRDB4[[#This Row],[SR-Nr]])=1,TRUE,FALSE))","v":""}]
[null,{"$f":"IF(ISBLANK(SRDB4[[#This Row],[SR-Nr]]),\"\",_xlfn.XLOOKUP(SRDB4[[#This Row],[SR-Nr]],SRDB[SR-Nr.],SRDB[Vorname],\"NA\",0))","v":""},{"$f":"IF(ISBLANK(SRDB4[[#This Row],[SR-Nr]]),\"\",_xlfn.XLOOKUP(SRDB4[[#This Row],[SR-Nr]],SRDB[SR-Nr.],SRDB[Name],\"NA\",0))","v":""},{"$f":"IF(ISBLANK(SRDB4[[#This Row],[SR-Nr]]),\"\",IF(COUNTIF(Registration!$A$7:$A$204,SRDB4[[#This Row],[SR-Nr]])=1,TRUE,FALSE))","v":""}]
[null,{"$f":"IF(ISBLANK(SRDB4[[#This Row],[SR-Nr]]),\"\",_xlfn.XLOOKUP(SRDB4[[#This Row],[SR-Nr]],SRDB[SR-Nr.],SRDB[Vorname],\"NA\",0))","v":""},{"$f":"IF(ISBLANK(SRDB4[[#This Row],[SR-Nr]]),\"\",_xlfn.XLOOKUP(SRDB4[[#This Row],[SR-Nr]],SRDB[SR-Nr.],SRDB[Name],\"NA\",0))","v":""},{"$f":"IF(ISBLANK(SRDB4[[#This Row],[SR-Nr]]),\"\",IF(COUNTIF(Registration!$A$7:$A$204,SRDB4[[#This Row],[SR-Nr]])=1,TRUE,FALSE))","v":""}]
[null,{"$f":"IF(ISBLANK(SRDB4[[#This Row],[SR-Nr]]),\"\",_xlfn.XLOOKUP(SRDB4[[#This Row],[SR-Nr]],SRDB[SR-Nr.],SRDB[Vorname],\"NA\",0))","v":""},{"$f":"IF(ISBLANK(SRDB4[[#This Row],[SR-Nr]]),\"\",_xlfn.XLOOKUP(SRDB4[[#This Row],[SR-Nr]],SRDB[SR-Nr.],SRDB[Name],\"NA\",0))","v":""},{"$f":"IF(ISBLANK(SRDB4[[#This Row],[SR-Nr]]),\"\",IF(COUNTIF(Registration!$A$7:$A$204,SRDB4[[#This Row],[SR-Nr]])=1,TRUE,FALSE))","v":""}]
[null,{"$f":"IF(ISBLANK(SRDB4[[#This Row],[SR-Nr]]),\"\",_xlfn.XLOOKUP(SRDB4[[#This Row],[SR-Nr]],SRDB[SR-Nr.],SRDB[Vorname],\"NA\",0))","v":""},{"$f":"IF(ISBLANK(SRDB4[[#This Row],[SR-Nr]]),\"\",_xlfn.XLOOKUP(SRDB4[[#This Row],[SR-Nr]],SRDB[SR-Nr.],SRDB[Name],\"NA\",0))","v":""},{"$f":"IF(ISBLANK(SRDB4[[#This Row],[SR-Nr]]),\"\",IF(COUNTIF(Registration!$A$7:$A$204,SRDB4[[#This Row],[SR-Nr]])=1,TRUE,FALSE))","v":""}]
[null,{"$f":"IF(ISBLANK(SRDB4[[#This Row],[SR-Nr]]),\"\",_xlfn.XLOOKUP(SRDB4[[#This Row],[SR-Nr]],SRDB[SR-Nr.],SRDB[Vorname],\"NA\",0))","v":""},{"$f":"IF(ISBLANK(SRDB4[[#This Row],[SR-Nr]]),\"\",_xlfn.XLOOKUP(SRDB4[[#This Row],[SR-Nr]],SRDB[SR-Nr.],SRDB[Name],\"NA\",0))","v":""},{"$f":"IF(ISBLANK(SRDB4[[#This Row],[SR-Nr]]),\"\",IF(COUNTIF(Registration!$A$7:$A$204,SRDB4[[#This Row],[SR-Nr]])=1,TRUE,FALSE))","v":""}]
[null,{"$f":"IF(ISBLANK(SRDB4[[#This Row],[SR-Nr]]),\"\",_xlfn.XLOOKUP(SRDB4[[#This Row],[SR-Nr]],SRDB[SR-Nr.],SRDB[Vorname],\"NA\",0))","v":""},{"$f":"IF(ISBLANK(SRDB4[[#This Row],[SR-Nr]]),\"\",_xlfn.XLOOKUP(SRDB4[[#This Row],[SR-Nr]],SRDB[SR-Nr.],SRDB[Name],\"NA\",0))","v":""},{"$f":"IF(ISBLANK(SRDB4[[#This Row],[SR-Nr]]),\"\",IF(COUNTIF(Registration!$A$7:$A$204,SRDB4[[#This Row],[SR-Nr]])=1,TRUE,FALSE))","v":""}]
[null,{"$f":"IF(ISBLANK(SRDB4[[#This Row],[SR-Nr]]),\"\",_xlfn.XLOOKUP(SRDB4[[#This Row],[SR-Nr]],SRDB[SR-Nr.],SRDB[Vorname],\"NA\",0))","v":""},{"$f":"IF(ISBLANK(SRDB4[[#This Row],[SR-Nr]]),\"\",_xlfn.XLOOKUP(SRDB4[[#This Row],[SR-Nr]],SRDB[SR-Nr.],SRDB[Name],\"NA\",0))","v":""},{"$f":"IF(ISBLANK(SRDB4[[#This Row],[SR-Nr]]),\"\",IF(COUNTIF(Registration!$A$7:$A$204,SRDB4[[#This Row],[SR-Nr]])=1,TRUE,FALSE))","v":""}]
[null,{"$f":"IF(ISBLANK(SRDB4[[#This Row],[SR-Nr]]),\"\",_xlfn.XLOOKUP(SRDB4[[#This Row],[SR-Nr]],SRDB[SR-Nr.],SRDB[Vorname],\"NA\",0))","v":""},{"$f":"IF(ISBLANK(SRDB4[[#This Row],[SR-Nr]]),\"\",_xlfn.XLOOKUP(SRDB4[[#This Row],[SR-Nr]],SRDB[SR-Nr.],SRDB[Name],\"NA\",0))","v":""},{"$f":"IF(ISBLANK(SRDB4[[#This Row],[SR-Nr]]),\"\",IF(COUNTIF(Registration!$A$7:$A$204,SRDB4[[#This Row],[SR-Nr]])=1,TRUE,FALSE))","v":""}]
[null,{"$f":"IF(ISBLANK(SRDB4[[#This Row],[SR-Nr]]),\"\",_xlfn.XLOOKUP(SRDB4[[#This Row],[SR-Nr]],SRDB[SR-Nr.],SRDB[Vorname],\"NA\",0))","v":""},{"$f":"IF(ISBLANK(SRDB4[[#This Row],[SR-Nr]]),\"\",_xlfn.XLOOKUP(SRDB4[[#This Row],[SR-Nr]],SRDB[SR-Nr.],SRDB[Name],\"NA\",0))","v":""},{"$f":"IF(ISBLANK(SRDB4[[#This Row],[SR-Nr]]),\"\",IF(COUNTIF(Registration!$A$7:$A$204,SRDB4[[#This Row],[SR-Nr]])=1,TRUE,FALSE))","v":""}]
[null,{"$f":"IF(ISBLANK(SRDB4[[#This Row],[SR-Nr]]),\"\",_xlfn.XLOOKUP(SRDB4[[#This Row],[SR-Nr]],SRDB[SR-Nr.],SRDB[Vorname],\"NA\",0))","v":""},{"$f":"IF(ISBLANK(SRDB4[[#This Row],[SR-Nr]]),\"\",_xlfn.XLOOKUP(SRDB4[[#This Row],[SR-Nr]],SRDB[SR-Nr.],SRDB[Name],\"NA\",0))","v":""},{"$f":"IF(ISBLANK(SRDB4[[#This Row],[SR-Nr]]),\"\",IF(COUNTIF(Registration!$A$7:$A$204,SRDB4[[#This Row],[SR-Nr]])=1,TRUE,FALSE))","v":""}]
[null,{"$f":"IF(ISBLANK(SRDB4[[#This Row],[SR-Nr]]),\"\",_xlfn.XLOOKUP(SRDB4[[#This Row],[SR-Nr]],SRDB[SR-Nr.],SRDB[Vorname],\"NA\",0))","v":""},{"$f":"IF(ISBLANK(SRDB4[[#This Row],[SR-Nr]]),\"\",_xlfn.XLOOKUP(SRDB4[[#This Row],[SR-Nr]],SRDB[SR-Nr.],SRDB[Name],\"NA\",0))","v":""},{"$f":"IF(ISBLANK(SRDB4[[#This Row],[SR-Nr]]),\"\",IF(COUNTIF(Registration!$A$7:$A$204,SRDB4[[#This Row],[SR-Nr]])=1,TRUE,FALSE))","v":""}]
[null,{"$f":"IF(ISBLANK(SRDB4[[#This Row],[SR-Nr]]),\"\",_xlfn.XLOOKUP(SRDB4[[#This Row],[SR-Nr]],SRDB[SR-Nr.],SRDB[Vorname],\"NA\",0))","v":""},{"$f":"IF(ISBLANK(SRDB4[[#This Row],[SR-Nr]]),\"\",_xlfn.XLOOKUP(SRDB4[[#This Row],[SR-Nr]],SRDB[SR-Nr.],SRDB[Name],\"NA\",0))","v":""},{"$f":"IF(ISBLANK(SRDB4[[#This Row],[SR-Nr]]),\"\",IF(COUNTIF(Registration!$A$7:$A$204,SRDB4[[#This Row],[SR-Nr]])=1,TRUE,FALSE))","v":""}]
[null,{"$f":"IF(ISBLANK(SRDB4[[#This Row],[SR-Nr]]),\"\",_xlfn.XLOOKUP(SRDB4[[#This Row],[SR-Nr]],SRDB[SR-Nr.],SRDB[Vorname],\"NA\",0))","v":""},{"$f":"IF(ISBLANK(SRDB4[[#This Row],[SR-Nr]]),\"\",_xlfn.XLOOKUP(SRDB4[[#This Row],[SR-Nr]],SRDB[SR-Nr.],SRDB[Name],\"NA\",0))","v":""},{"$f":"IF(ISBLANK(SRDB4[[#This Row],[SR-Nr]]),\"\",IF(COUNTIF(Registration!$A$7:$A$204,SRDB4[[#This Row],[SR-Nr]])=1,TRUE,FALSE))","v":""}]
[null,{"$f":"IF(ISBLANK(SRDB4[[#This Row],[SR-Nr]]),\"\",_xlfn.XLOOKUP(SRDB4[[#This Row],[SR-Nr]],SRDB[SR-Nr.],SRDB[Vorname],\"NA\",0))","v":""},{"$f":"IF(ISBLANK(SRDB4[[#This Row],[SR-Nr]]),\"\",_xlfn.XLOOKUP(SRDB4[[#This Row],[SR-Nr]],SRDB[SR-Nr.],SRDB[Name],\"NA\",0))","v":""},{"$f":"IF(ISBLANK(SRDB4[[#This Row],[SR-Nr]]),\"\",IF(COUNTIF(Registration!$A$7:$A$204,SRDB4[[#This Row],[SR-Nr]])=1,TRUE,FALSE))","v":""}]
[null,{"$f":"IF(ISBLANK(SRDB4[[#This Row],[SR-Nr]]),\"\",_xlfn.XLOOKUP(SRDB4[[#This Row],[SR-Nr]],SRDB[SR-Nr.],SRDB[Vorname],\"NA\",0))","v":""},{"$f":"IF(ISBLANK(SRDB4[[#This Row],[SR-Nr]]),\"\",_xlfn.XLOOKUP(SRDB4[[#This Row],[SR-Nr]],SRDB[SR-Nr.],SRDB[Name],\"NA\",0))","v":""},{"$f":"IF(ISBLANK(SRDB4[[#This Row],[SR-Nr]]),\"\",IF(COUNTIF(Registration!$A$7:$A$204,SRDB4[[#This Row],[SR-Nr]])=1,TRUE,FALSE))","v":""}]
[null,{"$f":"IF(ISBLANK(SRDB4[[#This Row],[SR-Nr]]),\"\",_xlfn.XLOOKUP(SRDB4[[#This Row],[SR-Nr]],SRDB[SR-Nr.],SRDB[Vorname],\"NA\",0))","v":""},{"$f":"IF(ISBLANK(SRDB4[[#This Row],[SR-Nr]]),\"\",_xlfn.XLOOKUP(SRDB4[[#This Row],[SR-Nr]],SRDB[SR-Nr.],SRDB[Name],\"NA\",0))","v":""},{"$f":"IF(ISBLANK(SRDB4[[#This Row],[SR-Nr]]),\"\",IF(COUNTIF(Registration!$A$7:$A$204,SRDB4[[#This Row],[SR-Nr]])=1,TRUE,FALSE))","v":""}]
[null,{"$f":"IF(ISBLANK(SRDB4[[#This Row],[SR-Nr]]),\"\",_xlfn.XLOOKUP(SRDB4[[#This Row],[SR-Nr]],SRDB[SR-Nr.],SRDB[Vorname],\"NA\",0))","v":""},{"$f":"IF(ISBLANK(SRDB4[[#This Row],[SR-Nr]]),\"\",_xlfn.XLOOKUP(SRDB4[[#This Row],[SR-Nr]],SRDB[SR-Nr.],SRDB[Name],\"NA\",0))","v":""},{"$f":"IF(ISBLANK(SRDB4[[#This Row],[SR-Nr]]),\"\",IF(COUNTIF(Registration!$A$7:$A$204,SRDB4[[#This Row],[SR-Nr]])=1,TRUE,FALSE))","v":""}]
[null,{"$f":"IF(ISBLANK(SRDB4[[#This Row],[SR-Nr]]),\"\",_xlfn.XLOOKUP(SRDB4[[#This Row],[SR-Nr]],SRDB[SR-Nr.],SRDB[Vorname],\"NA\",0))","v":""},{"$f":"IF(ISBLANK(SRDB4[[#This Row],[SR-Nr]]),\"\",_xlfn.XLOOKUP(SRDB4[[#This Row],[SR-Nr]],SRDB[SR-Nr.],SRDB[Name],\"NA\",0))","v":""},{"$f":"IF(ISBLANK(SRDB4[[#This Row],[SR-Nr]]),\"\",IF(COUNTIF(Registration!$A$7:$A$204,SRDB4[[#This Row],[SR-Nr]])=1,TRUE,FALSE))","v":""}]
[null,{"$f":"IF(ISBLANK(SRDB4[[#This Row],[SR-Nr]]),\"\",_xlfn.XLOOKUP(SRDB4[[#This Row],[SR-Nr]],SRDB[SR-Nr.],SRDB[Vorname],\"NA\",0))","v":""},{"$f":"IF(ISBLANK(SRDB4[[#This Row],[SR-Nr]]),\"\",_xlfn.XLOOKUP(SRDB4[[#This Row],[SR-Nr]],SRDB[SR-Nr.],SRDB[Name],\"NA\",0))","v":""},{"$f":"IF(ISBLANK(SRDB4[[#This Row],[SR-Nr]]),\"\",IF(COUNTIF(Registration!$A$7:$A$204,SRDB4[[#This Row],[SR-Nr]])=1,TRUE,FALSE))","v":""}]
[null,{"$f":"IF(ISBLANK(SRDB4[[#This Row],[SR-Nr]]),\"\",_xlfn.XLOOKUP(SRDB4[[#This Row],[SR-Nr]],SRDB[SR-Nr.],SRDB[Vorname],\"NA\",0))","v":""},{"$f":"IF(ISBLANK(SRDB4[[#This Row],[SR-Nr]]),\"\",_xlfn.XLOOKUP(SRDB4[[#This Row],[SR-Nr]],SRDB[SR-Nr.],SRDB[Name],\"NA\",0))","v":""},{"$f":"IF(ISBLANK(SRDB4[[#This Row],[SR-Nr]]),\"\",IF(COUNTIF(Registration!$A$7:$A$204,SRDB4[[#This Row],[SR-Nr]])=1,TRUE,FALSE))","v":""}]
[null,{"$f":"IF(ISBLANK(SRDB4[[#This Row],[SR-Nr]]),\"\",_xlfn.XLOOKUP(SRDB4[[#This Row],[SR-Nr]],SRDB[SR-Nr.],SRDB[Vorname],\"NA\",0))","v":""},{"$f":"IF(ISBLANK(SRDB4[[#This Row],[SR-Nr]]),\"\",_xlfn.XLOOKUP(SRDB4[[#This Row],[SR-Nr]],SRDB[SR-Nr.],SRDB[Name],\"NA\",0))","v":""},{"$f":"IF(ISBLANK(SRDB4[[#This Row],[SR-Nr]]),\"\",IF(COUNTIF(Registration!$A$7:$A$204,SRDB4[[#This Row],[SR-Nr]])=1,TRUE,FALSE))","v":""}]
[null,{"$f":"IF(ISBLANK(SRDB4[[#This Row],[SR-Nr]]),\"\",_xlfn.XLOOKUP(SRDB4[[#This Row],[SR-Nr]],SRDB[SR-Nr.],SRDB[Vorname],\"NA\",0))","v":""},{"$f":"IF(ISBLANK(SRDB4[[#This Row],[SR-Nr]]),\"\",_xlfn.XLOOKUP(SRDB4[[#This Row],[SR-Nr]],SRDB[SR-Nr.],SRDB[Name],\"NA\",0))","v":""},{"$f":"IF(ISBLANK(SRDB4[[#This Row],[SR-Nr]]),\"\",IF(COUNTIF(Registration!$A$7:$A$204,SRDB4[[#This Row],[SR-Nr]])=1,TRUE,FALSE))","v":""}]
[null,{"$f":"IF(ISBLANK(SRDB4[[#This Row],[SR-Nr]]),\"\",_xlfn.XLOOKUP(SRDB4[[#This Row],[SR-Nr]],SRDB[SR-Nr.],SRDB[Vorname],\"NA\",0))","v":""},{"$f":"IF(ISBLANK(SRDB4[[#This Row],[SR-Nr]]),\"\",_xlfn.XLOOKUP(SRDB4[[#This Row],[SR-Nr]],SRDB[SR-Nr.],SRDB[Name],\"NA\",0))","v":""},{"$f":"IF(ISBLANK(SRDB4[[#This Row],[SR-Nr]]),\"\",IF(COUNTIF(Registration!$A$7:$A$204,SRDB4[[#This Row],[SR-Nr]])=1,TRUE,FALSE))","v":""}]
[null,{"$f":"IF(ISBLANK(SRDB4[[#This Row],[SR-Nr]]),\"\",_xlfn.XLOOKUP(SRDB4[[#This Row],[SR-Nr]],SRDB[SR-Nr.],SRDB[Vorname],\"NA\",0))","v":""},{"$f":"IF(ISBLANK(SRDB4[[#This Row],[SR-Nr]]),\"\",_xlfn.XLOOKUP(SRDB4[[#This Row],[SR-Nr]],SRDB[SR-Nr.],SRDB[Name],\"NA\",0))","v":""},{"$f":"IF(ISBLANK(SRDB4[[#This Row],[SR-Nr]]),\"\",IF(COUNTIF(Registration!$A$7:$A$204,SRDB4[[#This Row],[SR-Nr]])=1,TRUE,FALSE))","v":""}]
[null,{"$f":"IF(ISBLANK(SRDB4[[#This Row],[SR-Nr]]),\"\",_xlfn.XLOOKUP(SRDB4[[#This Row],[SR-Nr]],SRDB[SR-Nr.],SRDB[Vorname],\"NA\",0))","v":""},{"$f":"IF(ISBLANK(SRDB4[[#This Row],[SR-Nr]]),\"\",_xlfn.XLOOKUP(SRDB4[[#This Row],[SR-Nr]],SRDB[SR-Nr.],SRDB[Name],\"NA\",0))","v":""},{"$f":"IF(ISBLANK(SRDB4[[#This Row],[SR-Nr]]),\"\",IF(COUNTIF(Registration!$A$7:$A$204,SRDB4[[#This Row],[SR-Nr]])=1,TRUE,FALSE))","v":""}]
[null,{"$f":"IF(ISBLANK(SRDB4[[#This Row],[SR-Nr]]),\"\",_xlfn.XLOOKUP(SRDB4[[#This Row],[SR-Nr]],SRDB[SR-Nr.],SRDB[Vorname],\"NA\",0))","v":""},{"$f":"IF(ISBLANK(SRDB4[[#This Row],[SR-Nr]]),\"\",_xlfn.XLOOKUP(SRDB4[[#This Row],[SR-Nr]],SRDB[SR-Nr.],SRDB[Name],\"NA\",0))","v":""},{"$f":"IF(ISBLANK(SRDB4[[#This Row],[SR-Nr]]),\"\",IF(COUNTIF(Registration!$A$7:$A$204,SRDB4[[#This Row],[SR-Nr]])=1,TRUE,FALSE))","v":""}]
[null,{"$f":"IF(ISBLANK(SRDB4[[#This Row],[SR-Nr]]),\"\",_xlfn.XLOOKUP(SRDB4[[#This Row],[SR-Nr]],SRDB[SR-Nr.],SRDB[Vorname],\"NA\",0))","v":""},{"$f":"IF(ISBLANK(SRDB4[[#This Row],[SR-Nr]]),\"\",_xlfn.XLOOKUP(SRDB4[[#This Row],[SR-Nr]],SRDB[SR-Nr.],SRDB[Name],\"NA\",0))","v":""},{"$f":"IF(ISBLANK(SRDB4[[#This Row],[SR-Nr]]),\"\",IF(COUNTIF(Registration!$A$7:$A$204,SRDB4[[#This Row],[SR-Nr]])=1,TRUE,FALSE))","v":""}]
[null,{"$f":"IF(ISBLANK(SRDB4[[#This Row],[SR-Nr]]),\"\",_xlfn.XLOOKUP(SRDB4[[#This Row],[SR-Nr]],SRDB[SR-Nr.],SRDB[Vorname],\"NA\",0))","v":""},{"$f":"IF(ISBLANK(SRDB4[[#This Row],[SR-Nr]]),\"\",_xlfn.XLOOKUP(SRDB4[[#This Row],[SR-Nr]],SRDB[SR-Nr.],SRDB[Name],\"NA\",0))","v":""},{"$f":"IF(ISBLANK(SRDB4[[#This Row],[SR-Nr]]),\"\",IF(COUNTIF(Registration!$A$7:$A$204,SRDB4[[#This Row],[SR-Nr]])=1,TRUE,FALSE))","v":""}]
[null,{"$f":"IF(ISBLANK(SRDB4[[#This Row],[SR-Nr]]),\"\",_xlfn.XLOOKUP(SRDB4[[#This Row],[SR-Nr]],SRDB[SR-Nr.],SRDB[Vorname],\"NA\",0))","v":""},{"$f":"IF(ISBLANK(SRDB4[[#This Row],[SR-Nr]]),\"\",_xlfn.XLOOKUP(SRDB4[[#This Row],[SR-Nr]],SRDB[SR-Nr.],SRDB[Name],\"NA\",0))","v":""},{"$f":"IF(ISBLANK(SRDB4[[#This Row],[SR-Nr]]),\"\",IF(COUNTIF(Registration!$A$7:$A$204,SRDB4[[#This Row],[SR-Nr]])=1,TRUE,FALSE))","v":""}]
[null,{"$f":"IF(ISBLANK(SRDB4[[#This Row],[SR-Nr]]),\"\",_xlfn.XLOOKUP(SRDB4[[#This Row],[SR-Nr]],SRDB[SR-Nr.],SRDB[Vorname],\"NA\",0))","v":""},{"$f":"IF(ISBLANK(SRDB4[[#This Row],[SR-Nr]]),\"\",_xlfn.XLOOKUP(SRDB4[[#This Row],[SR-Nr]],SRDB[SR-Nr.],SRDB[Name],\"NA\",0))","v":""},{"$f":"IF(ISBLANK(SRDB4[[#This Row],[SR-Nr]]),\"\",IF(COUNTIF(Registration!$A$7:$A$204,SRDB4[[#This Row],[SR-Nr]])=1,TRUE,FALSE))","v":""}]
[null,{"$f":"IF(ISBLANK(SRDB4[[#This Row],[SR-Nr]]),\"\",_xlfn.XLOOKUP(SRDB4[[#This Row],[SR-Nr]],SRDB[SR-Nr.],SRDB[Vorname],\"NA\",0))","v":""},{"$f":"IF(ISBLANK(SRDB4[[#This Row],[SR-Nr]]),\"\",_xlfn.XLOOKUP(SRDB4[[#This Row],[SR-Nr]],SRDB[SR-Nr.],SRDB[Name],\"NA\",0))","v":""},{"$f":"IF(ISBLANK(SRDB4[[#This Row],[SR-Nr]]),\"\",IF(COUNTIF(Registration!$A$7:$A$204,SRDB4[[#This Row],[SR-Nr]])=1,TRUE,FALSE))","v":""}]
[null,{"$f":"IF(ISBLANK(SRDB4[[#This Row],[SR-Nr]]),\"\",_xlfn.XLOOKUP(SRDB4[[#This Row],[SR-Nr]],SRDB[SR-Nr.],SRDB[Vorname],\"NA\",0))","v":""},{"$f":"IF(ISBLANK(SRDB4[[#This Row],[SR-Nr]]),\"\",_xlfn.XLOOKUP(SRDB4[[#This Row],[SR-Nr]],SRDB[SR-Nr.],SRDB[Name],\"NA\",0))","v":""},{"$f":"IF(ISBLANK(SRDB4[[#This Row],[SR-Nr]]),\"\",IF(COUNTIF(Registration!$A$7:$A$204,SRDB4[[#This Row],[SR-Nr]])=1,TRUE,FALSE))","v":""}]
[null,{"$f":"IF(ISBLANK(SRDB4[[#This Row],[SR-Nr]]),\"\",_xlfn.XLOOKUP(SRDB4[[#This Row],[SR-Nr]],SRDB[SR-Nr.],SRDB[Vorname],\"NA\",0))","v":""},{"$f":"IF(ISBLANK(SRDB4[[#This Row],[SR-Nr]]),\"\",_xlfn.XLOOKUP(SRDB4[[#This Row],[SR-Nr]],SRDB[SR-Nr.],SRDB[Name],\"NA\",0))","v":""},{"$f":"IF(ISBLANK(SRDB4[[#This Row],[SR-Nr]]),\"\",IF(COUNTIF(Registration!$A$7:$A$204,SRDB4[[#This Row],[SR-Nr]])=1,TRUE,FALSE))","v":""}]
[null,{"$f":"IF(ISBLANK(SRDB4[[#This Row],[SR-Nr]]),\"\",_xlfn.XLOOKUP(SRDB4[[#This Row],[SR-Nr]],SRDB[SR-Nr.],SRDB[Vorname],\"NA\",0))","v":""},{"$f":"IF(ISBLANK(SRDB4[[#This Row],[SR-Nr]]),\"\",_xlfn.XLOOKUP(SRDB4[[#This Row],[SR-Nr]],SRDB[SR-Nr.],SRDB[Name],\"NA\",0))","v":""},{"$f":"IF(ISBLANK(SRDB4[[#This Row],[SR-Nr]]),\"\",IF(COUNTIF(Registration!$A$7:$A$204,SRDB4[[#This Row],[SR-Nr]])=1,TRUE,FALSE))","v":""}]
[null,{"$f":"IF(ISBLANK(SRDB4[[#This Row],[SR-Nr]]),\"\",_xlfn.XLOOKUP(SRDB4[[#This Row],[SR-Nr]],SRDB[SR-Nr.],SRDB[Vorname],\"NA\",0))","v":""},{"$f":"IF(ISBLANK(SRDB4[[#This Row],[SR-Nr]]),\"\",_xlfn.XLOOKUP(SRDB4[[#This Row],[SR-Nr]],SRDB[SR-Nr.],SRDB[Name],\"NA\",0))","v":""},{"$f":"IF(ISBLANK(SRDB4[[#This Row],[SR-Nr]]),\"\",IF(COUNTIF(Registration!$A$7:$A$204,SRDB4[[#This Row],[SR-Nr]])=1,TRUE,FALSE))","v":""}]
[null,{"$f":"IF(ISBLANK(SRDB4[[#This Row],[SR-Nr]]),\"\",_xlfn.XLOOKUP(SRDB4[[#This Row],[SR-Nr]],SRDB[SR-Nr.],SRDB[Vorname],\"NA\",0))","v":""},{"$f":"IF(ISBLANK(SRDB4[[#This Row],[SR-Nr]]),\"\",_xlfn.XLOOKUP(SRDB4[[#This Row],[SR-Nr]],SRDB[SR-Nr.],SRDB[Name],\"NA\",0))","v":""},{"$f":"IF(ISBLANK(SRDB4[[#This Row],[SR-Nr]]),\"\",IF(COUNTIF(Registration!$A$7:$A$204,SRDB4[[#This Row],[SR-Nr]])=1,TRUE,FALSE))","v":""}]
[null,{"$f":"IF(ISBLANK(SRDB4[[#This Row],[SR-Nr]]),\"\",_xlfn.XLOOKUP(SRDB4[[#This Row],[SR-Nr]],SRDB[SR-Nr.],SRDB[Vorname],\"NA\",0))","v":""},{"$f":"IF(ISBLANK(SRDB4[[#This Row],[SR-Nr]]),\"\",_xlfn.XLOOKUP(SRDB4[[#This Row],[SR-Nr]],SRDB[SR-Nr.],SRDB[Name],\"NA\",0))","v":""},{"$f":"IF(ISBLANK(SRDB4[[#This Row],[SR-Nr]]),\"\",IF(COUNTIF(Registration!$A$7:$A$204,SRDB4[[#This Row],[SR-Nr]])=1,TRUE,FALSE))","v":""}]
[null,{"$f":"IF(ISBLANK(SRDB4[[#This Row],[SR-Nr]]),\"\",_xlfn.XLOOKUP(SRDB4[[#This Row],[SR-Nr]],SRDB[SR-Nr.],SRDB[Vorname],\"NA\",0))","v":""},{"$f":"IF(ISBLANK(SRDB4[[#This Row],[SR-Nr]]),\"\",_xlfn.XLOOKUP(SRDB4[[#This Row],[SR-Nr]],SRDB[SR-Nr.],SRDB[Name],\"NA\",0))","v":""},{"$f":"IF(ISBLANK(SRDB4[[#This Row],[SR-Nr]]),\"\",IF(COUNTIF(Registration!$A$7:$A$204,SRDB4[[#This Row],[SR-Nr]])=1,TRUE,FALSE))","v":""}]
[null,{"$f":"IF(ISBLANK(SRDB4[[#This Row],[SR-Nr]]),\"\",_xlfn.XLOOKUP(SRDB4[[#This Row],[SR-Nr]],SRDB[SR-Nr.],SRDB[Vorname],\"NA\",0))","v":""},{"$f":"IF(ISBLANK(SRDB4[[#This Row],[SR-Nr]]),\"\",_xlfn.XLOOKUP(SRDB4[[#This Row],[SR-Nr]],SRDB[SR-Nr.],SRDB[Name],\"NA\",0))","v":""},{"$f":"IF(ISBLANK(SRDB4[[#This Row],[SR-Nr]]),\"\",IF(COUNTIF(Registration!$A$7:$A$204,SRDB4[[#This Row],[SR-Nr]])=1,TRUE,FALSE))","v":""}]
[null,{"$f":"IF(ISBLANK(SRDB4[[#This Row],[SR-Nr]]),\"\",_xlfn.XLOOKUP(SRDB4[[#This Row],[SR-Nr]],SRDB[SR-Nr.],SRDB[Vorname],\"NA\",0))","v":""},{"$f":"IF(ISBLANK(SRDB4[[#This Row],[SR-Nr]]),\"\",_xlfn.XLOOKUP(SRDB4[[#This Row],[SR-Nr]],SRDB[SR-Nr.],SRDB[Name],\"NA\",0))","v":""},{"$f":"IF(ISBLANK(SRDB4[[#This Row],[SR-Nr]]),\"\",IF(COUNTIF(Registration!$A$7:$A$204,SRDB4[[#This Row],[SR-Nr]])=1,TRUE,FALSE))","v":""}]
[null,{"$f":"IF(ISBLANK(SRDB4[[#This Row],[SR-Nr]]),\"\",_xlfn.XLOOKUP(SRDB4[[#This Row],[SR-Nr]],SRDB[SR-Nr.],SRDB[Vorname],\"NA\",0))","v":""},{"$f":"IF(ISBLANK(SRDB4[[#This Row],[SR-Nr]]),\"\",_xlfn.XLOOKUP(SRDB4[[#This Row],[SR-Nr]],SRDB[SR-Nr.],SRDB[Name],\"NA\",0))","v":""},{"$f":"IF(ISBLANK(SRDB4[[#This Row],[SR-Nr]]),\"\",IF(COUNTIF(Registration!$A$7:$A$204,SRDB4[[#This Row],[SR-Nr]])=1,TRUE,FALSE))","v":""}]
[null,{"$f":"IF(ISBLANK(SRDB4[[#This Row],[SR-Nr]]),\"\",_xlfn.XLOOKUP(SRDB4[[#This Row],[SR-Nr]],SRDB[SR-Nr.],SRDB[Vorname],\"NA\",0))","v":""},{"$f":"IF(ISBLANK(SRDB4[[#This Row],[SR-Nr]]),\"\",_xlfn.XLOOKUP(SRDB4[[#This Row],[SR-Nr]],SRDB[SR-Nr.],SRDB[Name],\"NA\",0))","v":""},{"$f":"IF(ISBLANK(SRDB4[[#This Row],[SR-Nr]]),\"\",IF(COUNTIF(Registration!$A$7:$A$204,SRDB4[[#This Row],[SR-Nr]])=1,TRUE,FALSE))","v":""}]
[null,{"$f":"IF(ISBLANK(SRDB4[[#This Row],[SR-Nr]]),\"\",_xlfn.XLOOKUP(SRDB4[[#This Row],[SR-Nr]],SRDB[SR-Nr.],SRDB[Vorname],\"NA\",0))","v":""},{"$f":"IF(ISBLANK(SRDB4[[#This Row],[SR-Nr]]),\"\",_xlfn.XLOOKUP(SRDB4[[#This Row],[SR-Nr]],SRDB[SR-Nr.],SRDB[Name],\"NA\",0))","v":""},{"$f":"IF(ISBLANK(SRDB4[[#This Row],[SR-Nr]]),\"\",IF(COUNTIF(Registration!$A$7:$A$204,SRDB4[[#This Row],[SR-Nr]])=1,TRUE,FALSE))","v":""}]
[null,{"$f":"IF(ISBLANK(SRDB4[[#This Row],[SR-Nr]]),\"\",_xlfn.XLOOKUP(SRDB4[[#This Row],[SR-Nr]],SRDB[SR-Nr.],SRDB[Vorname],\"NA\",0))","v":""},{"$f":"IF(ISBLANK(SRDB4[[#This Row],[SR-Nr]]),\"\",_xlfn.XLOOKUP(SRDB4[[#This Row],[SR-Nr]],SRDB[SR-Nr.],SRDB[Name],\"NA\",0))","v":""},{"$f":"IF(ISBLANK(SRDB4[[#This Row],[SR-Nr]]),\"\",IF(COUNTIF(Registration!$A$7:$A$204,SRDB4[[#This Row],[SR-Nr]])=1,TRUE,FALSE))","v":""}]
[null,{"$f":"IF(ISBLANK(SRDB4[[#This Row],[SR-Nr]]),\"\",_xlfn.XLOOKUP(SRDB4[[#This Row],[SR-Nr]],SRDB[SR-Nr.],SRDB[Vorname],\"NA\",0))","v":""},{"$f":"IF(ISBLANK(SRDB4[[#This Row],[SR-Nr]]),\"\",_xlfn.XLOOKUP(SRDB4[[#This Row],[SR-Nr]],SRDB[SR-Nr.],SRDB[Name],\"NA\",0))","v":""},{"$f":"IF(ISBLANK(SRDB4[[#This Row],[SR-Nr]]),\"\",IF(COUNTIF(Registration!$A$7:$A$204,SRDB4[[#This Row],[SR-Nr]])=1,TRUE,FALSE))","v":""}]
[null,{"$f":"IF(ISBLANK(SRDB4[[#This Row],[SR-Nr]]),\"\",_xlfn.XLOOKUP(SRDB4[[#This Row],[SR-Nr]],SRDB[SR-Nr.],SRDB[Vorname],\"NA\",0))","v":""},{"$f":"IF(ISBLANK(SRDB4[[#This Row],[SR-Nr]]),\"\",_xlfn.XLOOKUP(SRDB4[[#This Row],[SR-Nr]],SRDB[SR-Nr.],SRDB[Name],\"NA\",0))","v":""},{"$f":"IF(ISBLANK(SRDB4[[#This Row],[SR-Nr]]),\"\",IF(COUNTIF(Registration!$A$7:$A$204,SRDB4[[#This Row],[SR-Nr]])=1,TRUE,FALSE))","v":""}]
[null,{"$f":"IF(ISBLANK(SRDB4[[#This Row],[SR-Nr]]),\"\",_xlfn.XLOOKUP(SRDB4[[#This Row],[SR-Nr]],SRDB[SR-Nr.],SRDB[Vorname],\"NA\",0))","v":""},{"$f":"IF(ISBLANK(SRDB4[[#This Row],[SR-Nr]]),\"\",_xlfn.XLOOKUP(SRDB4[[#This Row],[SR-Nr]],SRDB[SR-Nr.],SRDB[Name],\"NA\",0))","v":""},{"$f":"IF(ISBLANK(SRDB4[[#This Row],[SR-Nr]]),\"\",IF(COUNTIF(Registration!$A$7:$A$204,SRDB4[[#This Row],[SR-Nr]])=1,TRUE,FALSE))","v":""}]
[null,{"$f":"IF(ISBLANK(SRDB4[[#This Row],[SR-Nr]]),\"\",_xlfn.XLOOKUP(SRDB4[[#This Row],[SR-Nr]],SRDB[SR-Nr.],SRDB[Vorname],\"NA\",0))","v":""},{"$f":"IF(ISBLANK(SRDB4[[#This Row],[SR-Nr]]),\"\",_xlfn.XLOOKUP(SRDB4[[#This Row],[SR-Nr]],SRDB[SR-Nr.],SRDB[Name],\"NA\",0))","v":""},{"$f":"IF(ISBLANK(SRDB4[[#This Row],[SR-Nr]]),\"\",IF(COUNTIF(Registration!$A$7:$A$204,SRDB4[[#This Row],[SR-Nr]])=1,TRUE,FALSE))","v":""}]
[null,{"$f":"IF(ISBLANK(SRDB4[[#This Row],[SR-Nr]]),\"\",_xlfn.XLOOKUP(SRDB4[[#This Row],[SR-Nr]],SRDB[SR-Nr.],SRDB[Vorname],\"NA\",0))","v":""},{"$f":"IF(ISBLANK(SRDB4[[#This Row],[SR-Nr]]),\"\",_xlfn.XLOOKUP(SRDB4[[#This Row],[SR-Nr]],SRDB[SR-Nr.],SRDB[Name],\"NA\",0))","v":""},{"$f":"IF(ISBLANK(SRDB4[[#This Row],[SR-Nr]]),\"\",IF(COUNTIF(Registration!$A$7:$A$204,SRDB4[[#This Row],[SR-Nr]])=1,TRUE,FALSE))","v":""}]
[null,{"$f":"IF(ISBLANK(SRDB4[[#This Row],[SR-Nr]]),\"\",_xlfn.XLOOKUP(SRDB4[[#This Row],[SR-Nr]],SRDB[SR-Nr.],SRDB[Vorname],\"NA\",0))","v":""},{"$f":"IF(ISBLANK(SRDB4[[#This Row],[SR-Nr]]),\"\",_xlfn.XLOOKUP(SRDB4[[#This Row],[SR-Nr]],SRDB[SR-Nr.],SRDB[Name],\"NA\",0))","v":""},{"$f":"IF(ISBLANK(SRDB4[[#This Row],[SR-Nr]]),\"\",IF(COUNTIF(Registration!$A$7:$A$204,SRDB4[[#This Row],[SR-Nr]])=1,TRUE,FALSE))","v":""}]
[null,{"$f":"IF(ISBLANK(SRDB4[[#This Row],[SR-Nr]]),\"\",_xlfn.XLOOKUP(SRDB4[[#This Row],[SR-Nr]],SRDB[SR-Nr.],SRDB[Vorname],\"NA\",0))","v":""},{"$f":"IF(ISBLANK(SRDB4[[#This Row],[SR-Nr]]),\"\",_xlfn.XLOOKUP(SRDB4[[#This Row],[SR-Nr]],SRDB[SR-Nr.],SRDB[Name],\"NA\",0))","v":""},{"$f":"IF(ISBLANK(SRDB4[[#This Row],[SR-Nr]]),\"\",IF(COUNTIF(Registration!$A$7:$A$204,SRDB4[[#This Row],[SR-Nr]])=1,TRUE,FALSE))","v":""}]
[null,{"$f":"IF(ISBLANK(SRDB4[[#This Row],[SR-Nr]]),\"\",_xlfn.XLOOKUP(SRDB4[[#This Row],[SR-Nr]],SRDB[SR-Nr.],SRDB[Vorname],\"NA\",0))","v":""},{"$f":"IF(ISBLANK(SRDB4[[#This Row],[SR-Nr]]),\"\",_xlfn.XLOOKUP(SRDB4[[#This Row],[SR-Nr]],SRDB[SR-Nr.],SRDB[Name],\"NA\",0))","v":""},{"$f":"IF(ISBLANK(SRDB4[[#This Row],[SR-Nr]]),\"\",IF(COUNTIF(Registration!$A$7:$A$204,SRDB4[[#This Row],[SR-Nr]])=1,TRUE,FALSE))","v":""}]
[null,{"$f":"IF(ISBLANK(SRDB4[[#This Row],[SR-Nr]]),\"\",_xlfn.XLOOKUP(SRDB4[[#This Row],[SR-Nr]],SRDB[SR-Nr.],SRDB[Vorname],\"NA\",0))","v":""},{"$f":"IF(ISBLANK(SRDB4[[#This Row],[SR-Nr]]),\"\",_xlfn.XLOOKUP(SRDB4[[#This Row],[SR-Nr]],SRDB[SR-Nr.],SRDB[Name],\"NA\",0))","v":""},{"$f":"IF(ISBLANK(SRDB4[[#This Row],[SR-Nr]]),\"\",IF(COUNTIF(Registration!$A$7:$A$204,SRDB4[[#This Row],[SR-Nr]])=1,TRUE,FALSE))","v":""}]
[null,{"$f":"IF(ISBLANK(SRDB4[[#This Row],[SR-Nr]]),\"\",_xlfn.XLOOKUP(SRDB4[[#This Row],[SR-Nr]],SRDB[SR-Nr.],SRDB[Vorname],\"NA\",0))","v":""},{"$f":"IF(ISBLANK(SRDB4[[#This Row],[SR-Nr]]),\"\",_xlfn.XLOOKUP(SRDB4[[#This Row],[SR-Nr]],SRDB[SR-Nr.],SRDB[Name],\"NA\",0))","v":""},{"$f":"IF(ISBLANK(SRDB4[[#This Row],[SR-Nr]]),\"\",IF(COUNTIF(Registration!$A$7:$A$204,SRDB4[[#This Row],[SR-Nr]])=1,TRUE,FALSE))","v":""}]
[null,{"$f":"IF(ISBLANK(SRDB4[[#This Row],[SR-Nr]]),\"\",_xlfn.XLOOKUP(SRDB4[[#This Row],[SR-Nr]],SRDB[SR-Nr.],SRDB[Vorname],\"NA\",0))","v":""},{"$f":"IF(ISBLANK(SRDB4[[#This Row],[SR-Nr]]),\"\",_xlfn.XLOOKUP(SRDB4[[#This Row],[SR-Nr]],SRDB[SR-Nr.],SRDB[Name],\"NA\",0))","v":""},{"$f":"IF(ISBLANK(SRDB4[[#This Row],[SR-Nr]]),\"\",IF(COUNTIF(Registration!$A$7:$A$204,SRDB4[[#This Row],[SR-Nr]])=1,TRUE,FALSE))","v":""}]
[null,{"$f":"IF(ISBLANK(SRDB4[[#This Row],[SR-Nr]]),\"\",_xlfn.XLOOKUP(SRDB4[[#This Row],[SR-Nr]],SRDB[SR-Nr.],SRDB[Vorname],\"NA\",0))","v":""},{"$f":"IF(ISBLANK(SRDB4[[#This Row],[SR-Nr]]),\"\",_xlfn.XLOOKUP(SRDB4[[#This Row],[SR-Nr]],SRDB[SR-Nr.],SRDB[Name],\"NA\",0))","v":""},{"$f":"IF(ISBLANK(SRDB4[[#This Row],[SR-Nr]]),\"\",IF(COUNTIF(Registration!$A$7:$A$204,SRDB4[[#This Row],[SR-Nr]])=1,TRUE,FALSE))","v":""}]
[null,{"$f":"IF(ISBLANK(SRDB4[[#This Row],[SR-Nr]]),\"\",_xlfn.XLOOKUP(SRDB4[[#This Row],[SR-Nr]],SRDB[SR-Nr.],SRDB[Vorname],\"NA\",0))","v":""},{"$f":"IF(ISBLANK(SRDB4[[#This Row],[SR-Nr]]),\"\",_xlfn.XLOOKUP(SRDB4[[#This Row],[SR-Nr]],SRDB[SR-Nr.],SRDB[Name],\"NA\",0))","v":""},{"$f":"IF(ISBLANK(SRDB4[[#This Row],[SR-Nr]]),\"\",IF(COUNTIF(Registration!$A$7:$A$204,SRDB4[[#This Row],[SR-Nr]])=1,TRUE,FALSE))","v":""}]
[null,{"$f":"IF(ISBLANK(SRDB4[[#This Row],[SR-Nr]]),\"\",_xlfn.XLOOKUP(SRDB4[[#This Row],[SR-Nr]],SRDB[SR-Nr.],SRDB[Vorname],\"NA\",0))","v":""},{"$f":"IF(ISBLANK(SRDB4[[#This Row],[SR-Nr]]),\"\",_xlfn.XLOOKUP(SRDB4[[#This Row],[SR-Nr]],SRDB[SR-Nr.],SRDB[Name],\"NA\",0))","v":""},{"$f":"IF(ISBLANK(SRDB4[[#This Row],[SR-Nr]]),\"\",IF(COUNTIF(Registration!$A$7:$A$204,SRDB4[[#This Row],[SR-Nr]])=1,TRUE,FALSE))","v":""}]
[null,{"$f":"IF(ISBLANK(SRDB4[[#This Row],[SR-Nr]]),\"\",_xlfn.XLOOKUP(SRDB4[[#This Row],[SR-Nr]],SRDB[SR-Nr.],SRDB[Vorname],\"NA\",0))","v":""},{"$f":"IF(ISBLANK(SRDB4[[#This Row],[SR-Nr]]),\"\",_xlfn.XLOOKUP(SRDB4[[#This Row],[SR-Nr]],SRDB[SR-Nr.],SRDB[Name],\"NA\",0))","v":""},{"$f":"IF(ISBLANK(SRDB4[[#This Row],[SR-Nr]]),\"\",IF(COUNTIF(Registration!$A$7:$A$204,SRDB4[[#This Row],[SR-Nr]])=1,TRUE,FALSE))","v":""}]
[null,{"$f":"IF(ISBLANK(SRDB4[[#This Row],[SR-Nr]]),\"\",_xlfn.XLOOKUP(SRDB4[[#This Row],[SR-Nr]],SRDB[SR-Nr.],SRDB[Vorname],\"NA\",0))","v":""},{"$f":"IF(ISBLANK(SRDB4[[#This Row],[SR-Nr]]),\"\",_xlfn.XLOOKUP(SRDB4[[#This Row],[SR-Nr]],SRDB[SR-Nr.],SRDB[Name],\"NA\",0))","v":""},{"$f":"IF(ISBLANK(SRDB4[[#This Row],[SR-Nr]]),\"\",IF(COUNTIF(Registration!$A$7:$A$204,SRDB4[[#This Row],[SR-Nr]])=1,TRUE,FALSE))","v":""}]
[null,{"$f":"IF(ISBLANK(SRDB4[[#This Row],[SR-Nr]]),\"\",_xlfn.XLOOKUP(SRDB4[[#This Row],[SR-Nr]],SRDB[SR-Nr.],SRDB[Vorname],\"NA\",0))","v":""},{"$f":"IF(ISBLANK(SRDB4[[#This Row],[SR-Nr]]),\"\",_xlfn.XLOOKUP(SRDB4[[#This Row],[SR-Nr]],SRDB[SR-Nr.],SRDB[Name],\"NA\",0))","v":""},{"$f":"IF(ISBLANK(SRDB4[[#This Row],[SR-Nr]]),\"\",IF(COUNTIF(Registration!$A$7:$A$204,SRDB4[[#This Row],[SR-Nr]])=1,TRUE,FALSE))","v":""}]
[null,{"$f":"IF(ISBLANK(SRDB4[[#This Row],[SR-Nr]]),\"\",_xlfn.XLOOKUP(SRDB4[[#This Row],[SR-Nr]],SRDB[SR-Nr.],SRDB[Vorname],\"NA\",0))","v":""},{"$f":"IF(ISBLANK(SRDB4[[#This Row],[SR-Nr]]),\"\",_xlfn.XLOOKUP(SRDB4[[#This Row],[SR-Nr]],SRDB[SR-Nr.],SRDB[Name],\"NA\",0))","v":""},{"$f":"IF(ISBLANK(SRDB4[[#This Row],[SR-Nr]]),\"\",IF(COUNTIF(Registration!$A$7:$A$204,SRDB4[[#This Row],[SR-Nr]])=1,TRUE,FALSE))","v":""}]
[null,{"$f":"IF(ISBLANK(SRDB4[[#This Row],[SR-Nr]]),\"\",_xlfn.XLOOKUP(SRDB4[[#This Row],[SR-Nr]],SRDB[SR-Nr.],SRDB[Vorname],\"NA\",0))","v":""},{"$f":"IF(ISBLANK(SRDB4[[#This Row],[SR-Nr]]),\"\",_xlfn.XLOOKUP(SRDB4[[#This Row],[SR-Nr]],SRDB[SR-Nr.],SRDB[Name],\"NA\",0))","v":""},{"$f":"IF(ISBLANK(SRDB4[[#This Row],[SR-Nr]]),\"\",IF(COUNTIF(Registration!$A$7:$A$204,SRDB4[[#This Row],[SR-Nr]])=1,TRUE,FALSE))","v":""}]
[null,{"$f":"IF(ISBLANK(SRDB4[[#This Row],[SR-Nr]]),\"\",_xlfn.XLOOKUP(SRDB4[[#This Row],[SR-Nr]],SRDB[SR-Nr.],SRDB[Vorname],\"NA\",0))","v":""},{"$f":"IF(ISBLANK(SRDB4[[#This Row],[SR-Nr]]),\"\",_xlfn.XLOOKUP(SRDB4[[#This Row],[SR-Nr]],SRDB[SR-Nr.],SRDB[Name],\"NA\",0))","v":""},{"$f":"IF(ISBLANK(SRDB4[[#This Row],[SR-Nr]]),\"\",IF(COUNTIF(Registration!$A$7:$A$204,SRDB4[[#This Row],[SR-Nr]])=1,TRUE,FALSE))","v":""}]
[null,{"$f":"IF(ISBLANK(SRDB4[[#This Row],[SR-Nr]]),\"\",_xlfn.XLOOKUP(SRDB4[[#This Row],[SR-Nr]],SRDB[SR-Nr.],SRDB[Vorname],\"NA\",0))","v":""},{"$f":"IF(ISBLANK(SRDB4[[#This Row],[SR-Nr]]),\"\",_xlfn.XLOOKUP(SRDB4[[#This Row],[SR-Nr]],SRDB[SR-Nr.],SRDB[Name],\"NA\",0))","v":""},{"$f":"IF(ISBLANK(SRDB4[[#This Row],[SR-Nr]]),\"\",IF(COUNTIF(Registration!$A$7:$A$204,SRDB4[[#This Row],[SR-Nr]])=1,TRUE,FALSE))","v":""}]
[null,{"$f":"IF(ISBLANK(SRDB4[[#This Row],[SR-Nr]]),\"\",_xlfn.XLOOKUP(SRDB4[[#This Row],[SR-Nr]],SRDB[SR-Nr.],SRDB[Vorname],\"NA\",0))","v":""},{"$f":"IF(ISBLANK(SRDB4[[#This Row],[SR-Nr]]),\"\",_xlfn.XLOOKUP(SRDB4[[#This Row],[SR-Nr]],SRDB[SR-Nr.],SRDB[Name],\"NA\",0))","v":""},{"$f":"IF(ISBLANK(SRDB4[[#This Row],[SR-Nr]]),\"\",IF(COUNTIF(Registration!$A$7:$A$204,SRDB4[[#This Row],[SR-Nr]])=1,TRUE,FALSE))","v":""}]
[null,{"$f":"IF(ISBLANK(SRDB4[[#This Row],[SR-Nr]]),\"\",_xlfn.XLOOKUP(SRDB4[[#This Row],[SR-Nr]],SRDB[SR-Nr.],SRDB[Vorname],\"NA\",0))","v":""},{"$f":"IF(ISBLANK(SRDB4[[#This Row],[SR-Nr]]),\"\",_xlfn.XLOOKUP(SRDB4[[#This Row],[SR-Nr]],SRDB[SR-Nr.],SRDB[Name],\"NA\",0))","v":""},{"$f":"IF(ISBLANK(SRDB4[[#This Row],[SR-Nr]]),\"\",IF(COUNTIF(Registration!$A$7:$A$204,SRDB4[[#This Row],[SR-Nr]])=1,TRUE,FALSE))","v":""}]
[null,{"$f":"IF(ISBLANK(SRDB4[[#This Row],[SR-Nr]]),\"\",_xlfn.XLOOKUP(SRDB4[[#This Row],[SR-Nr]],SRDB[SR-Nr.],SRDB[Vorname],\"NA\",0))","v":""},{"$f":"IF(ISBLANK(SRDB4[[#This Row],[SR-Nr]]),\"\",_xlfn.XLOOKUP(SRDB4[[#This Row],[SR-Nr]],SRDB[SR-Nr.],SRDB[Name],\"NA\",0))","v":""},{"$f":"IF(ISBLANK(SRDB4[[#This Row],[SR-Nr]]),\"\",IF(COUNTIF(Registration!$A$7:$A$204,SRDB4[[#This Row],[SR-Nr]])=1,TRUE,FALSE))","v":""}]
[null,{"$f":"IF(ISBLANK(SRDB4[[#This Row],[SR-Nr]]),\"\",_xlfn.XLOOKUP(SRDB4[[#This Row],[SR-Nr]],SRDB[SR-Nr.],SRDB[Vorname],\"NA\",0))","v":""},{"$f":"IF(ISBLANK(SRDB4[[#This Row],[SR-Nr]]),\"\",_xlfn.XLOOKUP(SRDB4[[#This Row],[SR-Nr]],SRDB[SR-Nr.],SRDB[Name],\"NA\",0))","v":""},{"$f":"IF(ISBLANK(SRDB4[[#This Row],[SR-Nr]]),\"\",IF(COUNTIF(Registration!$A$7:$A$204,SRDB4[[#This Row],[SR-Nr]])=1,TRUE,FALSE))","v":""}]
[null,{"$f":"IF(ISBLANK(SRDB4[[#This Row],[SR-Nr]]),\"\",_xlfn.XLOOKUP(SRDB4[[#This Row],[SR-Nr]],SRDB[SR-Nr.],SRDB[Vorname],\"NA\",0))","v":""},{"$f":"IF(ISBLANK(SRDB4[[#This Row],[SR-Nr]]),\"\",_xlfn.XLOOKUP(SRDB4[[#This Row],[SR-Nr]],SRDB[SR-Nr.],SRDB[Name],\"NA\",0))","v":""},{"$f":"IF(ISBLANK(SRDB4[[#This Row],[SR-Nr]]),\"\",IF(COUNTIF(Registration!$A$7:$A$204,SRDB4[[#This Row],[SR-Nr]])=1,TRUE,FALSE))","v":""}]
[null,{"$f":"IF(ISBLANK(SRDB4[[#This Row],[SR-Nr]]),\"\",_xlfn.XLOOKUP(SRDB4[[#This Row],[SR-Nr]],SRDB[SR-Nr.],SRDB[Vorname],\"NA\",0))","v":""},{"$f":"IF(ISBLANK(SRDB4[[#This Row],[SR-Nr]]),\"\",_xlfn.XLOOKUP(SRDB4[[#This Row],[SR-Nr]],SRDB[SR-Nr.],SRDB[Name],\"NA\",0))","v":""},{"$f":"IF(ISBLANK(SRDB4[[#This Row],[SR-Nr]]),\"\",IF(COUNTIF(Registration!$A$7:$A$204,SRDB4[[#This Row],[SR-Nr]])=1,TRUE,FALSE))","v":""}]
[null,{"$f":"IF(ISBLANK(SRDB4[[#This Row],[SR-Nr]]),\"\",_xlfn.XLOOKUP(SRDB4[[#This Row],[SR-Nr]],SRDB[SR-Nr.],SRDB[Vorname],\"NA\",0))","v":""},{"$f":"IF(ISBLANK(SRDB4[[#This Row],[SR-Nr]]),\"\",_xlfn.XLOOKUP(SRDB4[[#This Row],[SR-Nr]],SRDB[SR-Nr.],SRDB[Name],\"NA\",0))","v":""},{"$f":"IF(ISBLANK(SRDB4[[#This Row],[SR-Nr]]),\"\",IF(COUNTIF(Registration!$A$7:$A$204,SRDB4[[#This Row],[SR-Nr]])=1,TRUE,FALSE))","v":""}]
[null,{"$f":"IF(ISBLANK(SRDB4[[#This Row],[SR-Nr]]),\"\",_xlfn.XLOOKUP(SRDB4[[#This Row],[SR-Nr]],SRDB[SR-Nr.],SRDB[Vorname],\"NA\",0))","v":""},{"$f":"IF(ISBLANK(SRDB4[[#This Row],[SR-Nr]]),\"\",_xlfn.XLOOKUP(SRDB4[[#This Row],[SR-Nr]],SRDB[SR-Nr.],SRDB[Name],\"NA\",0))","v":""},{"$f":"IF(ISBLANK(SRDB4[[#This Row],[SR-Nr]]),\"\",IF(COUNTIF(Registration!$A$7:$A$204,SRDB4[[#This Row],[SR-Nr]])=1,TRUE,FALSE))","v":""}]
[null,{"$f":"IF(ISBLANK(SRDB4[[#This Row],[SR-Nr]]),\"\",_xlfn.XLOOKUP(SRDB4[[#This Row],[SR-Nr]],SRDB[SR-Nr.],SRDB[Vorname],\"NA\",0))","v":""},{"$f":"IF(ISBLANK(SRDB4[[#This Row],[SR-Nr]]),\"\",_xlfn.XLOOKUP(SRDB4[[#This Row],[SR-Nr]],SRDB[SR-Nr.],SRDB[Name],\"NA\",0))","v":""},{"$f":"IF(ISBLANK(SRDB4[[#This Row],[SR-Nr]]),\"\",IF(COUNTIF(Registration!$A$7:$A$204,SRDB4[[#This Row],[SR-Nr]])=1,TRUE,FALSE))","v":""}]
[null,{"$f":"IF(ISBLANK(SRDB4[[#This Row],[SR-Nr]]),\"\",_xlfn.XLOOKUP(SRDB4[[#This Row],[SR-Nr]],SRDB[SR-Nr.],SRDB[Vorname],\"NA\",0))","v":""},{"$f":"IF(ISBLANK(SRDB4[[#This Row],[SR-Nr]]),\"\",_xlfn.XLOOKUP(SRDB4[[#This Row],[SR-Nr]],SRDB[SR-Nr.],SRDB[Name],\"NA\",0))","v":""},{"$f":"IF(ISBLANK(SRDB4[[#This Row],[SR-Nr]]),\"\",IF(COUNTIF(Registration!$A$7:$A$204,SRDB4[[#This Row],[SR-Nr]])=1,TRUE,FALSE))","v":""}]
[null,{"$f":"IF(ISBLANK(SRDB4[[#This Row],[SR-Nr]]),\"\",_xlfn.XLOOKUP(SRDB4[[#This Row],[SR-Nr]],SRDB[SR-Nr.],SRDB[Vorname],\"NA\",0))","v":""},{"$f":"IF(ISBLANK(SRDB4[[#This Row],[SR-Nr]]),\"\",_xlfn.XLOOKUP(SRDB4[[#This Row],[SR-Nr]],SRDB[SR-Nr.],SRDB[Name],\"NA\",0))","v":""},{"$f":"IF(ISBLANK(SRDB4[[#This Row],[SR-Nr]]),\"\",IF(COUNTIF(Registration!$A$7:$A$204,SRDB4[[#This Row],[SR-Nr]])=1,TRUE,FALSE))","v":""}]
[null,{"$f":"IF(ISBLANK(SRDB4[[#This Row],[SR-Nr]]),\"\",_xlfn.XLOOKUP(SRDB4[[#This Row],[SR-Nr]],SRDB[SR-Nr.],SRDB[Vorname],\"NA\",0))","v":""},{"$f":"IF(ISBLANK(SRDB4[[#This Row],[SR-Nr]]),\"\",_xlfn.XLOOKUP(SRDB4[[#This Row],[SR-Nr]],SRDB[SR-Nr.],SRDB[Name],\"NA\",0))","v":""},{"$f":"IF(ISBLANK(SRDB4[[#This Row],[SR-Nr]]),\"\",IF(COUNTIF(Registration!$A$7:$A$204,SRDB4[[#This Row],[SR-Nr]])=1,TRUE,FALSE))","v":""}]
[null,{"$f":"IF(ISBLANK(SRDB4[[#This Row],[SR-Nr]]),\"\",_xlfn.XLOOKUP(SRDB4[[#This Row],[SR-Nr]],SRDB[SR-Nr.],SRDB[Vorname],\"NA\",0))","v":""},{"$f":"IF(ISBLANK(SRDB4[[#This Row],[SR-Nr]]),\"\",_xlfn.XLOOKUP(SRDB4[[#This Row],[SR-Nr]],SRDB[SR-Nr.],SRDB[Name],\"NA\",0))","v":""},{"$f":"IF(ISBLANK(SRDB4[[#This Row],[SR-Nr]]),\"\",IF(COUNTIF(Registration!$A$7:$A$204,SRDB4[[#This Row],[SR-Nr]])=1,TRUE,FALSE))","v":""}]
[null,{"$f":"IF(ISBLANK(SRDB4[[#This Row],[SR-Nr]]),\"\",_xlfn.XLOOKUP(SRDB4[[#This Row],[SR-Nr]],SRDB[SR-Nr.],SRDB[Vorname],\"NA\",0))","v":""},{"$f":"IF(ISBLANK(SRDB4[[#This Row],[SR-Nr]]),\"\",_xlfn.XLOOKUP(SRDB4[[#This Row],[SR-Nr]],SRDB[SR-Nr.],SRDB[Name],\"NA\",0))","v":""},{"$f":"IF(ISBLANK(SRDB4[[#This Row],[SR-Nr]]),\"\",IF(COUNTIF(Registration!$A$7:$A$204,SRDB4[[#This Row],[SR-Nr]])=1,TRUE,FALSE))","v":""}]
[null,{"$f":"IF(ISBLANK(SRDB4[[#This Row],[SR-Nr]]),\"\",_xlfn.XLOOKUP(SRDB4[[#This Row],[SR-Nr]],SRDB[SR-Nr.],SRDB[Vorname],\"NA\",0))","v":""},{"$f":"IF(ISBLANK(SRDB4[[#This Row],[SR-Nr]]),\"\",_xlfn.XLOOKUP(SRDB4[[#This Row],[SR-Nr]],SRDB[SR-Nr.],SRDB[Name],\"NA\",0))","v":""},{"$f":"IF(ISBLANK(SRDB4[[#This Row],[SR-Nr]]),\"\",IF(COUNTIF(Registration!$A$7:$A$204,SRDB4[[#This Row],[SR-Nr]])=1,TRUE,FALSE))","v":""}]
[null,{"$f":"IF(ISBLANK(SRDB4[[#This Row],[SR-Nr]]),\"\",_xlfn.XLOOKUP(SRDB4[[#This Row],[SR-Nr]],SRDB[SR-Nr.],SRDB[Vorname],\"NA\",0))","v":""},{"$f":"IF(ISBLANK(SRDB4[[#This Row],[SR-Nr]]),\"\",_xlfn.XLOOKUP(SRDB4[[#This Row],[SR-Nr]],SRDB[SR-Nr.],SRDB[Name],\"NA\",0))","v":""},{"$f":"IF(ISBLANK(SRDB4[[#This Row],[SR-Nr]]),\"\",IF(COUNTIF(Registration!$A$7:$A$204,SRDB4[[#This Row],[SR-Nr]])=1,TRUE,FALSE))","v":""}]
[null,{"$f":"IF(ISBLANK(SRDB4[[#This Row],[SR-Nr]]),\"\",_xlfn.XLOOKUP(SRDB4[[#This Row],[SR-Nr]],SRDB[SR-Nr.],SRDB[Vorname],\"NA\",0))","v":""},{"$f":"IF(ISBLANK(SRDB4[[#This Row],[SR-Nr]]),\"\",_xlfn.XLOOKUP(SRDB4[[#This Row],[SR-Nr]],SRDB[SR-Nr.],SRDB[Name],\"NA\",0))","v":""},{"$f":"IF(ISBLANK(SRDB4[[#This Row],[SR-Nr]]),\"\",IF(COUNTIF(Registration!$A$7:$A$204,SRDB4[[#This Row],[SR-Nr]])=1,TRUE,FALSE))","v":""}]
[null,{"$f":"IF(ISBLANK(SRDB4[[#This Row],[SR-Nr]]),\"\",_xlfn.XLOOKUP(SRDB4[[#This Row],[SR-Nr]],SRDB[SR-Nr.],SRDB[Vorname],\"NA\",0))","v":""},{"$f":"IF(ISBLANK(SRDB4[[#This Row],[SR-Nr]]),\"\",_xlfn.XLOOKUP(SRDB4[[#This Row],[SR-Nr]],SRDB[SR-Nr.],SRDB[Name],\"NA\",0))","v":""},{"$f":"IF(ISBLANK(SRDB4[[#This Row],[SR-Nr]]),\"\",IF(COUNTIF(Registration!$A$7:$A$204,SRDB4[[#This Row],[SR-Nr]])=1,TRUE,FALSE))","v":""}]
[null,{"$f":"IF(ISBLANK(SRDB4[[#This Row],[SR-Nr]]),\"\",_xlfn.XLOOKUP(SRDB4[[#This Row],[SR-Nr]],SRDB[SR-Nr.],SRDB[Vorname],\"NA\",0))","v":""},{"$f":"IF(ISBLANK(SRDB4[[#This Row],[SR-Nr]]),\"\",_xlfn.XLOOKUP(SRDB4[[#This Row],[SR-Nr]],SRDB[SR-Nr.],SRDB[Name],\"NA\",0))","v":""},{"$f":"IF(ISBLANK(SRDB4[[#This Row],[SR-Nr]]),\"\",IF(COUNTIF(Registration!$A$7:$A$204,SRDB4[[#This Row],[SR-Nr]])=1,TRUE,FALSE))","v":""}]
[null,{"$f":"IF(ISBLANK(SRDB4[[#This Row],[SR-Nr]]),\"\",_xlfn.XLOOKUP(SRDB4[[#This Row],[SR-Nr]],SRDB[SR-Nr.],SRDB[Vorname],\"NA\",0))","v":""},{"$f":"IF(ISBLANK(SRDB4[[#This Row],[SR-Nr]]),\"\",_xlfn.XLOOKUP(SRDB4[[#This Row],[SR-Nr]],SRDB[SR-Nr.],SRDB[Name],\"NA\",0))","v":""},{"$f":"IF(ISBLANK(SRDB4[[#This Row],[SR-Nr]]),\"\",IF(COUNTIF(Registration!$A$7:$A$204,SRDB4[[#This Row],[SR-Nr]])=1,TRUE,FALSE))","v":""}]
[null,{"$f":"IF(ISBLANK(SRDB4[[#This Row],[SR-Nr]]),\"\",_xlfn.XLOOKUP(SRDB4[[#This Row],[SR-Nr]],SRDB[SR-Nr.],SRDB[Vorname],\"NA\",0))","v":""},{"$f":"IF(ISBLANK(SRDB4[[#This Row],[SR-Nr]]),\"\",_xlfn.XLOOKUP(SRDB4[[#This Row],[SR-Nr]],SRDB[SR-Nr.],SRDB[Name],\"NA\",0))","v":""},{"$f":"IF(ISBLANK(SRDB4[[#This Row],[SR-Nr]]),\"\",IF(COUNTIF(Registration!$A$7:$A$204,SRDB4[[#This Row],[SR-Nr]])=1,TRUE,FALSE))","v":""}]
[null,{"$f":"IF(ISBLANK(SRDB4[[#This Row],[SR-Nr]]),\"\",_xlfn.XLOOKUP(SRDB4[[#This Row],[SR-Nr]],SRDB[SR-Nr.],SRDB[Vorname],\"NA\",0))","v":""},{"$f":"IF(ISBLANK(SRDB4[[#This Row],[SR-Nr]]),\"\",_xlfn.XLOOKUP(SRDB4[[#This Row],[SR-Nr]],SRDB[SR-Nr.],SRDB[Name],\"NA\",0))","v":""},{"$f":"IF(ISBLANK(SRDB4[[#This Row],[SR-Nr]]),\"\",IF(COUNTIF(Registration!$A$7:$A$204,SRDB4[[#This Row],[SR-Nr]])=1,TRUE,FALSE))","v":""}]
[null,{"$f":"IF(ISBLANK(SRDB4[[#This Row],[SR-Nr]]),\"\",_xlfn.XLOOKUP(SRDB4[[#This Row],[SR-Nr]],SRDB[SR-Nr.],SRDB[Vorname],\"NA\",0))","v":""},{"$f":"IF(ISBLANK(SRDB4[[#This Row],[SR-Nr]]),\"\",_xlfn.XLOOKUP(SRDB4[[#This Row],[SR-Nr]],SRDB[SR-Nr.],SRDB[Name],\"NA\",0))","v":""},{"$f":"IF(ISBLANK(SRDB4[[#This Row],[SR-Nr]]),\"\",IF(COUNTIF(Registration!$A$7:$A$204,SRDB4[[#This Row],[SR-Nr]])=1,TRUE,FALSE))","v":""}]
[null,{"$f":"IF(ISBLANK(SRDB4[[#This Row],[SR-Nr]]),\"\",_xlfn.XLOOKUP(SRDB4[[#This Row],[SR-Nr]],SRDB[SR-Nr.],SRDB[Vorname],\"NA\",0))","v":""},{"$f":"IF(ISBLANK(SRDB4[[#This Row],[SR-Nr]]),\"\",_xlfn.XLOOKUP(SRDB4[[#This Row],[SR-Nr]],SRDB[SR-Nr.],SRDB[Name],\"NA\",0))","v":""},{"$f":"IF(ISBLANK(SRDB4[[#This Row],[SR-Nr]]),\"\",IF(COUNTIF(Registration!$A$7:$A$204,SRDB4[[#This Row],[SR-Nr]])=1,TRUE,FALSE))","v":""}]
[null,{"$f":"IF(ISBLANK(SRDB4[[#This Row],[SR-Nr]]),\"\",_xlfn.XLOOKUP(SRDB4[[#This Row],[SR-Nr]],SRDB[SR-Nr.],SRDB[Vorname],\"NA\",0))","v":""},{"$f":"IF(ISBLANK(SRDB4[[#This Row],[SR-Nr]]),\"\",_xlfn.XLOOKUP(SRDB4[[#This Row],[SR-Nr]],SRDB[SR-Nr.],SRDB[Name],\"NA\",0))","v":""},{"$f":"IF(ISBLANK(SRDB4[[#This Row],[SR-Nr]]),\"\",IF(COUNTIF(Registration!$A$7:$A$204,SRDB4[[#This Row],[SR-Nr]])=1,TRUE,FALSE))","v":""}]
[null,{"$f":"IF(ISBLANK(SRDB4[[#This Row],[SR-Nr]]),\"\",_xlfn.XLOOKUP(SRDB4[[#This Row],[SR-Nr]],SRDB[SR-Nr.],SRDB[Vorname],\"NA\",0))","v":""},{"$f":"IF(ISBLANK(SRDB4[[#This Row],[SR-Nr]]),\"\",_xlfn.XLOOKUP(SRDB4[[#This Row],[SR-Nr]],SRDB[SR-Nr.],SRDB[Name],\"NA\",0))","v":""},{"$f":"IF(ISBLANK(SRDB4[[#This Row],[SR-Nr]]),\"\",IF(COUNTIF(Registration!$A$7:$A$204,SRDB4[[#This Row],[SR-Nr]])=1,TRUE,FALSE))","v":""}]
[null,{"$f":"IF(ISBLANK(SRDB4[[#This Row],[SR-Nr]]),\"\",_xlfn.XLOOKUP(SRDB4[[#This Row],[SR-Nr]],SRDB[SR-Nr.],SRDB[Vorname],\"NA\",0))","v":""},{"$f":"IF(ISBLANK(SRDB4[[#This Row],[SR-Nr]]),\"\",_xlfn.XLOOKUP(SRDB4[[#This Row],[SR-Nr]],SRDB[SR-Nr.],SRDB[Name],\"NA\",0))","v":""},{"$f":"IF(ISBLANK(SRDB4[[#This Row],[SR-Nr]]),\"\",IF(COUNTIF(Registration!$A$7:$A$204,SRDB4[[#This Row],[SR-Nr]])=1,TRUE,FALSE))","v":""}]
[null,{"$f":"IF(ISBLANK(SRDB4[[#This Row],[SR-Nr]]),\"\",_xlfn.XLOOKUP(SRDB4[[#This Row],[SR-Nr]],SRDB[SR-Nr.],SRDB[Vorname],\"NA\",0))","v":""},{"$f":"IF(ISBLANK(SRDB4[[#This Row],[SR-Nr]]),\"\",_xlfn.XLOOKUP(SRDB4[[#This Row],[SR-Nr]],SRDB[SR-Nr.],SRDB[Name],\"NA\",0))","v":""},{"$f":"IF(ISBLANK(SRDB4[[#This Row],[SR-Nr]]),\"\",IF(COUNTIF(Registration!$A$7:$A$204,SRDB4[[#This Row],[SR-Nr]])=1,TRUE,FALSE))","v":""}]
[null,{"$f":"IF(ISBLANK(SRDB4[[#This Row],[SR-Nr]]),\"\",_xlfn.XLOOKUP(SRDB4[[#This Row],[SR-Nr]],SRDB[SR-Nr.],SRDB[Vorname],\"NA\",0))","v":""},{"$f":"IF(ISBLANK(SRDB4[[#This Row],[SR-Nr]]),\"\",_xlfn.XLOOKUP(SRDB4[[#This Row],[SR-Nr]],SRDB[SR-Nr.],SRDB[Name],\"NA\",0))","v":""},{"$f":"IF(ISBLANK(SRDB4[[#This Row],[SR-Nr]]),\"\",IF(COUNTIF(Registration!$A$7:$A$204,SRDB4[[#This Row],[SR-Nr]])=1,TRUE,FALSE))","v":""}]
[null,{"$f":"IF(ISBLANK(SRDB4[[#This Row],[SR-Nr]]),\"\",_xlfn.XLOOKUP(SRDB4[[#This Row],[SR-Nr]],SRDB[SR-Nr.],SRDB[Vorname],\"NA\",0))","v":""},{"$f":"IF(ISBLANK(SRDB4[[#This Row],[SR-Nr]]),\"\",_xlfn.XLOOKUP(SRDB4[[#This Row],[SR-Nr]],SRDB[SR-Nr.],SRDB[Name],\"NA\",0))","v":""},{"$f":"IF(ISBLANK(SRDB4[[#This Row],[SR-Nr]]),\"\",IF(COUNTIF(Registration!$A$7:$A$204,SRDB4[[#This Row],[SR-Nr]])=1,TRUE,FALSE))","v":""}]
[null,{"$f":"IF(ISBLANK(SRDB4[[#This Row],[SR-Nr]]),\"\",_xlfn.XLOOKUP(SRDB4[[#This Row],[SR-Nr]],SRDB[SR-Nr.],SRDB[Vorname],\"NA\",0))","v":""},{"$f":"IF(ISBLANK(SRDB4[[#This Row],[SR-Nr]]),\"\",_xlfn.XLOOKUP(SRDB4[[#This Row],[SR-Nr]],SRDB[SR-Nr.],SRDB[Name],\"NA\",0))","v":""},{"$f":"IF(ISBLANK(SRDB4[[#This Row],[SR-Nr]]),\"\",IF(COUNTIF(Registration!$A$7:$A$204,SRDB4[[#This Row],[SR-Nr]])=1,TRUE,FALSE))","v":""}]
[null,{"$f":"IF(ISBLANK(SRDB4[[#This Row],[SR-Nr]]),\"\",_xlfn.XLOOKUP(SRDB4[[#This Row],[SR-Nr]],SRDB[SR-Nr.],SRDB[Vorname],\"NA\",0))","v":""},{"$f":"IF(ISBLANK(SRDB4[[#This Row],[SR-Nr]]),\"\",_xlfn.XLOOKUP(SRDB4[[#This Row],[SR-Nr]],SRDB[SR-Nr.],SRDB[Name],\"NA\",0))","v":""},{"$f":"IF(ISBLANK(SRDB4[[#This Row],[SR-Nr]]),\"\",IF(COUNTIF(Registration!$A$7:$A$204,SRDB4[[#This Row],[SR-Nr]])=1,TRUE,FALSE))","v":""}]
[null,{"$f":"IF(ISBLANK(SRDB4[[#This Row],[SR-Nr]]),\"\",_xlfn.XLOOKUP(SRDB4[[#This Row],[SR-Nr]],SRDB[SR-Nr.],SRDB[Vorname],\"NA\",0))","v":""},{"$f":"IF(ISBLANK(SRDB4[[#This Row],[SR-Nr]]),\"\",_xlfn.XLOOKUP(SRDB4[[#This Row],[SR-Nr]],SRDB[SR-Nr.],SRDB[Name],\"NA\",0))","v":""},{"$f":"IF(ISBLANK(SRDB4[[#This Row],[SR-Nr]]),\"\",IF(COUNTIF(Registration!$A$7:$A$204,SRDB4[[#This Row],[SR-Nr]])=1,TRUE,FALSE))","v":""}]
[null,{"$f":"IF(ISBLANK(SRDB4[[#This Row],[SR-Nr]]),\"\",_xlfn.XLOOKUP(SRDB4[[#This Row],[SR-Nr]],SRDB[SR-Nr.],SRDB[Vorname],\"NA\",0))","v":""},{"$f":"IF(ISBLANK(SRDB4[[#This Row],[SR-Nr]]),\"\",_xlfn.XLOOKUP(SRDB4[[#This Row],[SR-Nr]],SRDB[SR-Nr.],SRDB[Name],\"NA\",0))","v":""},{"$f":"IF(ISBLANK(SRDB4[[#This Row],[SR-Nr]]),\"\",IF(COUNTIF(Registration!$A$7:$A$204,SRDB4[[#This Row],[SR-Nr]])=1,TRUE,FALSE))","v":""}]
[null,{"$f":"IF(ISBLANK(SRDB4[[#This Row],[SR-Nr]]),\"\",_xlfn.XLOOKUP(SRDB4[[#This Row],[SR-Nr]],SRDB[SR-Nr.],SRDB[Vorname],\"NA\",0))","v":""},{"$f":"IF(ISBLANK(SRDB4[[#This Row],[SR-Nr]]),\"\",_xlfn.XLOOKUP(SRDB4[[#This Row],[SR-Nr]],SRDB[SR-Nr.],SRDB[Name],\"NA\",0))","v":""},{"$f":"IF(ISBLANK(SRDB4[[#This Row],[SR-Nr]]),\"\",IF(COUNTIF(Registration!$A$7:$A$204,SRDB4[[#This Row],[SR-Nr]])=1,TRUE,FALSE))","v":""}]
[null,{"$f":"IF(ISBLANK(SRDB4[[#This Row],[SR-Nr]]),\"\",_xlfn.XLOOKUP(SRDB4[[#This Row],[SR-Nr]],SRDB[SR-Nr.],SRDB[Vorname],\"NA\",0))","v":""},{"$f":"IF(ISBLANK(SRDB4[[#This Row],[SR-Nr]]),\"\",_xlfn.XLOOKUP(SRDB4[[#This Row],[SR-Nr]],SRDB[SR-Nr.],SRDB[Name],\"NA\",0))","v":""},{"$f":"IF(ISBLANK(SRDB4[[#This Row],[SR-Nr]]),\"\",IF(COUNTIF(Registration!$A$7:$A$204,SRDB4[[#This Row],[SR-Nr]])=1,TRUE,FALSE))","v":""}]
[null,{"$f":"IF(ISBLANK(SRDB4[[#This Row],[SR-Nr]]),\"\",_xlfn.XLOOKUP(SRDB4[[#This Row],[SR-Nr]],SRDB[SR-Nr.],SRDB[Vorname],\"NA\",0))","v":""},{"$f":"IF(ISBLANK(SRDB4[[#This Row],[SR-Nr]]),\"\",_xlfn.XLOOKUP(SRDB4[[#This Row],[SR-Nr]],SRDB[SR-Nr.],SRDB[Name],\"NA\",0))","v":""},{"$f":"IF(ISBLANK(SRDB4[[#This Row],[SR-Nr]]),\"\",IF(COUNTIF(Registration!$A$7:$A$204,SRDB4[[#This Row],[SR-Nr]])=1,TRUE,FALSE))","v":""}]
[null,{"$f":"IF(ISBLANK(SRDB4[[#This Row],[SR-Nr]]),\"\",_xlfn.XLOOKUP(SRDB4[[#This Row],[SR-Nr]],SRDB[SR-Nr.],SRDB[Vorname],\"NA\",0))","v":""},{"$f":"IF(ISBLANK(SRDB4[[#This Row],[SR-Nr]]),\"\",_xlfn.XLOOKUP(SRDB4[[#This Row],[SR-Nr]],SRDB[SR-Nr.],SRDB[Name],\"NA\",0))","v":""},{"$f":"IF(ISBLANK(SRDB4[[#This Row],[SR-Nr]]),\"\",IF(COUNTIF(Registration!$A$7:$A$204,SRDB4[[#This Row],[SR-Nr]])=1,TRUE,FALSE))","v":""}]
[null,{"$f":"IF(ISBLANK(SRDB4[[#This Row],[SR-Nr]]),\"\",_xlfn.XLOOKUP(SRDB4[[#This Row],[SR-Nr]],SRDB[SR-Nr.],SRDB[Vorname],\"NA\",0))","v":""},{"$f":"IF(ISBLANK(SRDB4[[#This Row],[SR-Nr]]),\"\",_xlfn.XLOOKUP(SRDB4[[#This Row],[SR-Nr]],SRDB[SR-Nr.],SRDB[Name],\"NA\",0))","v":""},{"$f":"IF(ISBLANK(SRDB4[[#This Row],[SR-Nr]]),\"\",IF(COUNTIF(Registration!$A$7:$A$204,SRDB4[[#This Row],[SR-Nr]])=1,TRUE,FALSE))","v":""}]
[null,{"$f":"IF(ISBLANK(SRDB4[[#This Row],[SR-Nr]]),\"\",_xlfn.XLOOKUP(SRDB4[[#This Row],[SR-Nr]],SRDB[SR-Nr.],SRDB[Vorname],\"NA\",0))","v":""},{"$f":"IF(ISBLANK(SRDB4[[#This Row],[SR-Nr]]),\"\",_xlfn.XLOOKUP(SRDB4[[#This Row],[SR-Nr]],SRDB[SR-Nr.],SRDB[Name],\"NA\",0))","v":""},{"$f":"IF(ISBLANK(SRDB4[[#This Row],[SR-Nr]]),\"\",IF(COUNTIF(Registration!$A$7:$A$204,SRDB4[[#This Row],[SR-Nr]])=1,TRUE,FALSE))","v":""}]
[null,{"$f":"IF(ISBLANK(SRDB4[[#This Row],[SR-Nr]]),\"\",_xlfn.XLOOKUP(SRDB4[[#This Row],[SR-Nr]],SRDB[SR-Nr.],SRDB[Vorname],\"NA\",0))","v":""},{"$f":"IF(ISBLANK(SRDB4[[#This Row],[SR-Nr]]),\"\",_xlfn.XLOOKUP(SRDB4[[#This Row],[SR-Nr]],SRDB[SR-Nr.],SRDB[Name],\"NA\",0))","v":""},{"$f":"IF(ISBLANK(SRDB4[[#This Row],[SR-Nr]]),\"\",IF(COUNTIF(Registration!$A$7:$A$204,SRDB4[[#This Row],[SR-Nr]])=1,TRUE,FALSE))","v":""}]
[null,{"$f":"IF(ISBLANK(SRDB4[[#This Row],[SR-Nr]]),\"\",_xlfn.XLOOKUP(SRDB4[[#This Row],[SR-Nr]],SRDB[SR-Nr.],SRDB[Vorname],\"NA\",0))","v":""},{"$f":"IF(ISBLANK(SRDB4[[#This Row],[SR-Nr]]),\"\",_xlfn.XLOOKUP(SRDB4[[#This Row],[SR-Nr]],SRDB[SR-Nr.],SRDB[Name],\"NA\",0))","v":""},{"$f":"IF(ISBLANK(SRDB4[[#This Row],[SR-Nr]]),\"\",IF(COUNTIF(Registration!$A$7:$A$204,SRDB4[[#This Row],[SR-Nr]])=1,TRUE,FALSE))","v":""}]
[null,{"$f":"IF(ISBLANK(SRDB4[[#This Row],[SR-Nr]]),\"\",_xlfn.XLOOKUP(SRDB4[[#This Row],[SR-Nr]],SRDB[SR-Nr.],SRDB[Vorname],\"NA\",0))","v":""},{"$f":"IF(ISBLANK(SRDB4[[#This Row],[SR-Nr]]),\"\",_xlfn.XLOOKUP(SRDB4[[#This Row],[SR-Nr]],SRDB[SR-Nr.],SRDB[Name],\"NA\",0))","v":""},{"$f":"IF(ISBLANK(SRDB4[[#This Row],[SR-Nr]]),\"\",IF(COUNTIF(Registration!$A$7:$A$204,SRDB4[[#This Row],[SR-Nr]])=1,TRUE,FALSE))","v":""}]
[null,{"$f":"IF(ISBLANK(SRDB4[[#This Row],[SR-Nr]]),\"\",_xlfn.XLOOKUP(SRDB4[[#This Row],[SR-Nr]],SRDB[SR-Nr.],SRDB[Vorname],\"NA\",0))","v":""},{"$f":"IF(ISBLANK(SRDB4[[#This Row],[SR-Nr]]),\"\",_xlfn.XLOOKUP(SRDB4[[#This Row],[SR-Nr]],SRDB[SR-Nr.],SRDB[Name],\"NA\",0))","v":""},{"$f":"IF(ISBLANK(SRDB4[[#This Row],[SR-Nr]]),\"\",IF(COUNTIF(Registration!$A$7:$A$204,SRDB4[[#This Row],[SR-Nr]])=1,TRUE,FALSE))","v":""}]
[null,{"$f":"IF(ISBLANK(SRDB4[[#This Row],[SR-Nr]]),\"\",_xlfn.XLOOKUP(SRDB4[[#This Row],[SR-Nr]],SRDB[SR-Nr.],SRDB[Vorname],\"NA\",0))","v":""},{"$f":"IF(ISBLANK(SRDB4[[#This Row],[SR-Nr]]),\"\",_xlfn.XLOOKUP(SRDB4[[#This Row],[SR-Nr]],SRDB[SR-Nr.],SRDB[Name],\"NA\",0))","v":""},{"$f":"IF(ISBLANK(SRDB4[[#This Row],[SR-Nr]]),\"\",IF(COUNTIF(Registration!$A$7:$A$204,SRDB4[[#This Row],[SR-Nr]])=1,TRUE,FALSE))","v":""}]
[null,{"$f":"IF(ISBLANK(SRDB4[[#This Row],[SR-Nr]]),\"\",_xlfn.XLOOKUP(SRDB4[[#This Row],[SR-Nr]],SRDB[SR-Nr.],SRDB[Vorname],\"NA\",0))","v":""},{"$f":"IF(ISBLANK(SRDB4[[#This Row],[SR-Nr]]),\"\",_xlfn.XLOOKUP(SRDB4[[#This Row],[SR-Nr]],SRDB[SR-Nr.],SRDB[Name],\"NA\",0))","v":""},{"$f":"IF(ISBLANK(SRDB4[[#This Row],[SR-Nr]]),\"\",IF(COUNTIF(Registration!$A$7:$A$204,SRDB4[[#This Row],[SR-Nr]])=1,TRUE,FALSE))","v":""}]
[null,{"$f":"IF(ISBLANK(SRDB4[[#This Row],[SR-Nr]]),\"\",_xlfn.XLOOKUP(SRDB4[[#This Row],[SR-Nr]],SRDB[SR-Nr.],SRDB[Vorname],\"NA\",0))","v":""},{"$f":"IF(ISBLANK(SRDB4[[#This Row],[SR-Nr]]),\"\",_xlfn.XLOOKUP(SRDB4[[#This Row],[SR-Nr]],SRDB[SR-Nr.],SRDB[Name],\"NA\",0))","v":""},{"$f":"IF(ISBLANK(SRDB4[[#This Row],[SR-Nr]]),\"\",IF(COUNTIF(Registration!$A$7:$A$204,SRDB4[[#This Row],[SR-Nr]])=1,TRUE,FALSE))","v":""}]
[null,{"$f":"IF(ISBLANK(SRDB4[[#This Row],[SR-Nr]]),\"\",_xlfn.XLOOKUP(SRDB4[[#This Row],[SR-Nr]],SRDB[SR-Nr.],SRDB[Vorname],\"NA\",0))","v":""},{"$f":"IF(ISBLANK(SRDB4[[#This Row],[SR-Nr]]),\"\",_xlfn.XLOOKUP(SRDB4[[#This Row],[SR-Nr]],SRDB[SR-Nr.],SRDB[Name],\"NA\",0))","v":""},{"$f":"IF(ISBLANK(SRDB4[[#This Row],[SR-Nr]]),\"\",IF(COUNTIF(Registration!$A$7:$A$204,SRDB4[[#This Row],[SR-Nr]])=1,TRUE,FALSE))","v":""}]
[null,{"$f":"IF(ISBLANK(SRDB4[[#This Row],[SR-Nr]]),\"\",_xlfn.XLOOKUP(SRDB4[[#This Row],[SR-Nr]],SRDB[SR-Nr.],SRDB[Vorname],\"NA\",0))","v":""},{"$f":"IF(ISBLANK(SRDB4[[#This Row],[SR-Nr]]),\"\",_xlfn.XLOOKUP(SRDB4[[#This Row],[SR-Nr]],SRDB[SR-Nr.],SRDB[Name],\"NA\",0))","v":""},{"$f":"IF(ISBLANK(SRDB4[[#This Row],[SR-Nr]]),\"\",IF(COUNTIF(Registration!$A$7:$A$204,SRDB4[[#This Row],[SR-Nr]])=1,TRUE,FALSE))","v":""}]
[null,{"$f":"IF(ISBLANK(SRDB4[[#This Row],[SR-Nr]]),\"\",_xlfn.XLOOKUP(SRDB4[[#This Row],[SR-Nr]],SRDB[SR-Nr.],SRDB[Vorname],\"NA\",0))","v":""},{"$f":"IF(ISBLANK(SRDB4[[#This Row],[SR-Nr]]),\"\",_xlfn.XLOOKUP(SRDB4[[#This Row],[SR-Nr]],SRDB[SR-Nr.],SRDB[Name],\"NA\",0))","v":""},{"$f":"IF(ISBLANK(SRDB4[[#This Row],[SR-Nr]]),\"\",IF(COUNTIF(Registration!$A$7:$A$204,SRDB4[[#This Row],[SR-Nr]])=1,TRUE,FALSE))","v":""}]
[null,{"$f":"IF(ISBLANK(SRDB4[[#This Row],[SR-Nr]]),\"\",_xlfn.XLOOKUP(SRDB4[[#This Row],[SR-Nr]],SRDB[SR-Nr.],SRDB[Vorname],\"NA\",0))","v":""},{"$f":"IF(ISBLANK(SRDB4[[#This Row],[SR-Nr]]),\"\",_xlfn.XLOOKUP(SRDB4[[#This Row],[SR-Nr]],SRDB[SR-Nr.],SRDB[Name],\"NA\",0))","v":""},{"$f":"IF(ISBLANK(SRDB4[[#This Row],[SR-Nr]]),\"\",IF(COUNTIF(Registration!$A$7:$A$204,SRDB4[[#This Row],[SR-Nr]])=1,TRUE,FALSE))","v":""}]
[null,{"$f":"IF(ISBLANK(SRDB4[[#This Row],[SR-Nr]]),\"\",_xlfn.XLOOKUP(SRDB4[[#This Row],[SR-Nr]],SRDB[SR-Nr.],SRDB[Vorname],\"NA\",0))","v":""},{"$f":"IF(ISBLANK(SRDB4[[#This Row],[SR-Nr]]),\"\",_xlfn.XLOOKUP(SRDB4[[#This Row],[SR-Nr]],SRDB[SR-Nr.],SRDB[Name],\"NA\",0))","v":""},{"$f":"IF(ISBLANK(SRDB4[[#This Row],[SR-Nr]]),\"\",IF(COUNTIF(Registration!$A$7:$A$204,SRDB4[[#This Row],[SR-Nr]])=1,TRUE,FALSE))","v":""}]
[null,{"$f":"IF(ISBLANK(SRDB4[[#This Row],[SR-Nr]]),\"\",_xlfn.XLOOKUP(SRDB4[[#This Row],[SR-Nr]],SRDB[SR-Nr.],SRDB[Vorname],\"NA\",0))","v":""},{"$f":"IF(ISBLANK(SRDB4[[#This Row],[SR-Nr]]),\"\",_xlfn.XLOOKUP(SRDB4[[#This Row],[SR-Nr]],SRDB[SR-Nr.],SRDB[Name],\"NA\",0))","v":""},{"$f":"IF(ISBLANK(SRDB4[[#This Row],[SR-Nr]]),\"\",IF(COUNTIF(Registration!$A$7:$A$204,SRDB4[[#This Row],[SR-Nr]])=1,TRUE,FALSE))","v":""}]
[null,{"$f":"IF(ISBLANK(SRDB4[[#This Row],[SR-Nr]]),\"\",_xlfn.XLOOKUP(SRDB4[[#This Row],[SR-Nr]],SRDB[SR-Nr.],SRDB[Vorname],\"NA\",0))","v":""},{"$f":"IF(ISBLANK(SRDB4[[#This Row],[SR-Nr]]),\"\",_xlfn.XLOOKUP(SRDB4[[#This Row],[SR-Nr]],SRDB[SR-Nr.],SRDB[Name],\"NA\",0))","v":""},{"$f":"IF(ISBLANK(SRDB4[[#This Row],[SR-Nr]]),\"\",IF(COUNTIF(Registration!$A$7:$A$204,SRDB4[[#This Row],[SR-Nr]])=1,TRUE,FALSE))","v":""}]
[null,{"$f":"IF(ISBLANK(SRDB4[[#This Row],[SR-Nr]]),\"\",_xlfn.XLOOKUP(SRDB4[[#This Row],[SR-Nr]],SRDB[SR-Nr.],SRDB[Vorname],\"NA\",0))","v":""},{"$f":"IF(ISBLANK(SRDB4[[#This Row],[SR-Nr]]),\"\",_xlfn.XLOOKUP(SRDB4[[#This Row],[SR-Nr]],SRDB[SR-Nr.],SRDB[Name],\"NA\",0))","v":""},{"$f":"IF(ISBLANK(SRDB4[[#This Row],[SR-Nr]]),\"\",IF(COUNTIF(Registration!$A$7:$A$204,SRDB4[[#This Row],[SR-Nr]])=1,TRUE,FALSE))","v":""}]
[null,{"$f":"IF(ISBLANK(SRDB4[[#This Row],[SR-Nr]]),\"\",_xlfn.XLOOKUP(SRDB4[[#This Row],[SR-Nr]],SRDB[SR-Nr.],SRDB[Vorname],\"NA\",0))","v":""},{"$f":"IF(ISBLANK(SRDB4[[#This Row],[SR-Nr]]),\"\",_xlfn.XLOOKUP(SRDB4[[#This Row],[SR-Nr]],SRDB[SR-Nr.],SRDB[Name],\"NA\",0))","v":""},{"$f":"IF(ISBLANK(SRDB4[[#This Row],[SR-Nr]]),\"\",IF(COUNTIF(Registration!$A$7:$A$204,SRDB4[[#This Row],[SR-Nr]])=1,TRUE,FALSE))","v":""}]
[null,{"$f":"IF(ISBLANK(SRDB4[[#This Row],[SR-Nr]]),\"\",_xlfn.XLOOKUP(SRDB4[[#This Row],[SR-Nr]],SRDB[SR-Nr.],SRDB[Vorname],\"NA\",0))","v":""},{"$f":"IF(ISBLANK(SRDB4[[#This Row],[SR-Nr]]),\"\",_xlfn.XLOOKUP(SRDB4[[#This Row],[SR-Nr]],SRDB[SR-Nr.],SRDB[Name],\"NA\",0))","v":""},{"$f":"IF(ISBLANK(SRDB4[[#This Row],[SR-Nr]]),\"\",IF(COUNTIF(Registration!$A$7:$A$204,SRDB4[[#This Row],[SR-Nr]])=1,TRUE,FALSE))","v":""}]
[null,{"$f":"IF(ISBLANK(SRDB4[[#This Row],[SR-Nr]]),\"\",_xlfn.XLOOKUP(SRDB4[[#This Row],[SR-Nr]],SRDB[SR-Nr.],SRDB[Vorname],\"NA\",0))","v":""},{"$f":"IF(ISBLANK(SRDB4[[#This Row],[SR-Nr]]),\"\",_xlfn.XLOOKUP(SRDB4[[#This Row],[SR-Nr]],SRDB[SR-Nr.],SRDB[Name],\"NA\",0))","v":""},{"$f":"IF(ISBLANK(SRDB4[[#This Row],[SR-Nr]]),\"\",IF(COUNTIF(Registration!$A$7:$A$204,SRDB4[[#This Row],[SR-Nr]])=1,TRUE,FALSE))","v":""}]
[null,{"$f":"IF(ISBLANK(SRDB4[[#This Row],[SR-Nr]]),\"\",_xlfn.XLOOKUP(SRDB4[[#This Row],[SR-Nr]],SRDB[SR-Nr.],SRDB[Vorname],\"NA\",0))","v":""},{"$f":"IF(ISBLANK(SRDB4[[#This Row],[SR-Nr]]),\"\",_xlfn.XLOOKUP(SRDB4[[#This Row],[SR-Nr]],SRDB[SR-Nr.],SRDB[Name],\"NA\",0))","v":""},{"$f":"IF(ISBLANK(SRDB4[[#This Row],[SR-Nr]]),\"\",IF(COUNTIF(Registration!$A$7:$A$204,SRDB4[[#This Row],[SR-Nr]])=1,TRUE,FALSE))","v":""}]
[null,{"$f":"IF(ISBLANK(SRDB4[[#This Row],[SR-Nr]]),\"\",_xlfn.XLOOKUP(SRDB4[[#This Row],[SR-Nr]],SRDB[SR-Nr.],SRDB[Vorname],\"NA\",0))","v":""},{"$f":"IF(ISBLANK(SRDB4[[#This Row],[SR-Nr]]),\"\",_xlfn.XLOOKUP(SRDB4[[#This Row],[SR-Nr]],SRDB[SR-Nr.],SRDB[Name],\"NA\",0))","v":""},{"$f":"IF(ISBLANK(SRDB4[[#This Row],[SR-Nr]]),\"\",IF(COUNTIF(Registration!$A$7:$A$204,SRDB4[[#This Row],[SR-Nr]])=1,TRUE,FALSE))","v":""}]
[null,{"$f":"IF(ISBLANK(SRDB4[[#This Row],[SR-Nr]]),\"\",_xlfn.XLOOKUP(SRDB4[[#This Row],[SR-Nr]],SRDB[SR-Nr.],SRDB[Vorname],\"NA\",0))","v":""},{"$f":"IF(ISBLANK(SRDB4[[#This Row],[SR-Nr]]),\"\",_xlfn.XLOOKUP(SRDB4[[#This Row],[SR-Nr]],SRDB[SR-Nr.],SRDB[Name],\"NA\",0))","v":""},{"$f":"IF(ISBLANK(SRDB4[[#This Row],[SR-Nr]]),\"\",IF(COUNTIF(Registration!$A$7:$A$204,SRDB4[[#This Row],[SR-Nr]])=1,TRUE,FALSE))","v":""}]
[null,{"$f":"IF(ISBLANK(SRDB4[[#This Row],[SR-Nr]]),\"\",_xlfn.XLOOKUP(SRDB4[[#This Row],[SR-Nr]],SRDB[SR-Nr.],SRDB[Vorname],\"NA\",0))","v":""},{"$f":"IF(ISBLANK(SRDB4[[#This Row],[SR-Nr]]),\"\",_xlfn.XLOOKUP(SRDB4[[#This Row],[SR-Nr]],SRDB[SR-Nr.],SRDB[Name],\"NA\",0))","v":""},{"$f":"IF(ISBLANK(SRDB4[[#This Row],[SR-Nr]]),\"\",IF(COUNTIF(Registration!$A$7:$A$204,SRDB4[[#This Row],[SR-Nr]])=1,TRUE,FALSE))","v":""}]
[null,{"$f":"IF(ISBLANK(SRDB4[[#This Row],[SR-Nr]]),\"\",_xlfn.XLOOKUP(SRDB4[[#This Row],[SR-Nr]],SRDB[SR-Nr.],SRDB[Vorname],\"NA\",0))","v":""},{"$f":"IF(ISBLANK(SRDB4[[#This Row],[SR-Nr]]),\"\",_xlfn.XLOOKUP(SRDB4[[#This Row],[SR-Nr]],SRDB[SR-Nr.],SRDB[Name],\"NA\",0))","v":""},{"$f":"IF(ISBLANK(SRDB4[[#This Row],[SR-Nr]]),\"\",IF(COUNTIF(Registration!$A$7:$A$204,SRDB4[[#This Row],[SR-Nr]])=1,TRUE,FALSE))","v":""}]
[null,{"$f":"IF(ISBLANK(SRDB4[[#This Row],[SR-Nr]]),\"\",_xlfn.XLOOKUP(SRDB4[[#This Row],[SR-Nr]],SRDB[SR-Nr.],SRDB[Vorname],\"NA\",0))","v":""},{"$f":"IF(ISBLANK(SRDB4[[#This Row],[SR-Nr]]),\"\",_xlfn.XLOOKUP(SRDB4[[#This Row],[SR-Nr]],SRDB[SR-Nr.],SRDB[Name],\"NA\",0))","v":""},{"$f":"IF(ISBLANK(SRDB4[[#This Row],[SR-Nr]]),\"\",IF(COUNTIF(Registration!$A$7:$A$204,SRDB4[[#This Row],[SR-Nr]])=1,TRUE,FALSE))","v":""}]
[null,{"$f":"IF(ISBLANK(SRDB4[[#This Row],[SR-Nr]]),\"\",_xlfn.XLOOKUP(SRDB4[[#This Row],[SR-Nr]],SRDB[SR-Nr.],SRDB[Vorname],\"NA\",0))","v":""},{"$f":"IF(ISBLANK(SRDB4[[#This Row],[SR-Nr]]),\"\",_xlfn.XLOOKUP(SRDB4[[#This Row],[SR-Nr]],SRDB[SR-Nr.],SRDB[Name],\"NA\",0))","v":""},{"$f":"IF(ISBLANK(SRDB4[[#This Row],[SR-Nr]]),\"\",IF(COUNTIF(Registration!$A$7:$A$204,SRDB4[[#This Row],[SR-Nr]])=1,TRUE,FALSE))","v":""}]
[null,{"$f":"IF(ISBLANK(SRDB4[[#This Row],[SR-Nr]]),\"\",_xlfn.XLOOKUP(SRDB4[[#This Row],[SR-Nr]],SRDB[SR-Nr.],SRDB[Vorname],\"NA\",0))","v":""},{"$f":"IF(ISBLANK(SRDB4[[#This Row],[SR-Nr]]),\"\",_xlfn.XLOOKUP(SRDB4[[#This Row],[SR-Nr]],SRDB[SR-Nr.],SRDB[Name],\"NA\",0))","v":""},{"$f":"IF(ISBLANK(SRDB4[[#This Row],[SR-Nr]]),\"\",IF(COUNTIF(Registration!$A$7:$A$204,SRDB4[[#This Row],[SR-Nr]])=1,TRUE,FALSE))","v":""}]
[null,{"$f":"IF(ISBLANK(SRDB4[[#This Row],[SR-Nr]]),\"\",_xlfn.XLOOKUP(SRDB4[[#This Row],[SR-Nr]],SRDB[SR-Nr.],SRDB[Vorname],\"NA\",0))","v":""},{"$f":"IF(ISBLANK(SRDB4[[#This Row],[SR-Nr]]),\"\",_xlfn.XLOOKUP(SRDB4[[#This Row],[SR-Nr]],SRDB[SR-Nr.],SRDB[Name],\"NA\",0))","v":""},{"$f":"IF(ISBLANK(SRDB4[[#This Row],[SR-Nr]]),\"\",IF(COUNTIF(Registration!$A$7:$A$204,SRDB4[[#This Row],[SR-Nr]])=1,TRUE,FALSE))","v":""}]
[null,{"$f":"IF(ISBLANK(SRDB4[[#This Row],[SR-Nr]]),\"\",_xlfn.XLOOKUP(SRDB4[[#This Row],[SR-Nr]],SRDB[SR-Nr.],SRDB[Vorname],\"NA\",0))","v":""},{"$f":"IF(ISBLANK(SRDB4[[#This Row],[SR-Nr]]),\"\",_xlfn.XLOOKUP(SRDB4[[#This Row],[SR-Nr]],SRDB[SR-Nr.],SRDB[Name],\"NA\",0))","v":""},{"$f":"IF(ISBLANK(SRDB4[[#This Row],[SR-Nr]]),\"\",IF(COUNTIF(Registration!$A$7:$A$204,SRDB4[[#This Row],[SR-Nr]])=1,TRUE,FALSE))","v":""}]
[null,{"$f":"IF(ISBLANK(SRDB4[[#This Row],[SR-Nr]]),\"\",_xlfn.XLOOKUP(SRDB4[[#This Row],[SR-Nr]],SRDB[SR-Nr.],SRDB[Vorname],\"NA\",0))","v":""},{"$f":"IF(ISBLANK(SRDB4[[#This Row],[SR-Nr]]),\"\",_xlfn.XLOOKUP(SRDB4[[#This Row],[SR-Nr]],SRDB[SR-Nr.],SRDB[Name],\"NA\",0))","v":""},{"$f":"IF(ISBLANK(SRDB4[[#This Row],[SR-Nr]]),\"\",IF(COUNTIF(Registration!$A$7:$A$204,SRDB4[[#This Row],[SR-Nr]])=1,TRUE,FALSE))","v":""}]
[null,{"$f":"IF(ISBLANK(SRDB4[[#This Row],[SR-Nr]]),\"\",_xlfn.XLOOKUP(SRDB4[[#This Row],[SR-Nr]],SRDB[SR-Nr.],SRDB[Vorname],\"NA\",0))","v":""},{"$f":"IF(ISBLANK(SRDB4[[#This Row],[SR-Nr]]),\"\",_xlfn.XLOOKUP(SRDB4[[#This Row],[SR-Nr]],SRDB[SR-Nr.],SRDB[Name],\"NA\",0))","v":""},{"$f":"IF(ISBLANK(SRDB4[[#This Row],[SR-Nr]]),\"\",IF(COUNTIF(Registration!$A$7:$A$204,SRDB4[[#This Row],[SR-Nr]])=1,TRUE,FALSE))","v":""}]
[null,{"$f":"IF(ISBLANK(SRDB4[[#This Row],[SR-Nr]]),\"\",_xlfn.XLOOKUP(SRDB4[[#This Row],[SR-Nr]],SRDB[SR-Nr.],SRDB[Vorname],\"NA\",0))","v":""},{"$f":"IF(ISBLANK(SRDB4[[#This Row],[SR-Nr]]),\"\",_xlfn.XLOOKUP(SRDB4[[#This Row],[SR-Nr]],SRDB[SR-Nr.],SRDB[Name],\"NA\",0))","v":""},{"$f":"IF(ISBLANK(SRDB4[[#This Row],[SR-Nr]]),\"\",IF(COUNTIF(Registration!$A$7:$A$204,SRDB4[[#This Row],[SR-Nr]])=1,TRUE,FALSE))","v":""}]
[null,{"$f":"IF(ISBLANK(SRDB4[[#This Row],[SR-Nr]]),\"\",_xlfn.XLOOKUP(SRDB4[[#This Row],[SR-Nr]],SRDB[SR-Nr.],SRDB[Vorname],\"NA\",0))","v":""},{"$f":"IF(ISBLANK(SRDB4[[#This Row],[SR-Nr]]),\"\",_xlfn.XLOOKUP(SRDB4[[#This Row],[SR-Nr]],SRDB[SR-Nr.],SRDB[Name],\"NA\",0))","v":""},{"$f":"IF(ISBLANK(SRDB4[[#This Row],[SR-Nr]]),\"\",IF(COUNTIF(Registration!$A$7:$A$204,SRDB4[[#This Row],[SR-Nr]])=1,TRUE,FALSE))","v":""}]
[null,{"$f":"IF(ISBLANK(SRDB4[[#This Row],[SR-Nr]]),\"\",_xlfn.XLOOKUP(SRDB4[[#This Row],[SR-Nr]],SRDB[SR-Nr.],SRDB[Vorname],\"NA\",0))","v":""},{"$f":"IF(ISBLANK(SRDB4[[#This Row],[SR-Nr]]),\"\",_xlfn.XLOOKUP(SRDB4[[#This Row],[SR-Nr]],SRDB[SR-Nr.],SRDB[Name],\"NA\",0))","v":""},{"$f":"IF(ISBLANK(SRDB4[[#This Row],[SR-Nr]]),\"\",IF(COUNTIF(Registration!$A$7:$A$204,SRDB4[[#This Row],[SR-Nr]])=1,TRUE,FALSE))","v":""}]
[null,{"$f":"IF(ISBLANK(SRDB4[[#This Row],[SR-Nr]]),\"\",_xlfn.XLOOKUP(SRDB4[[#This Row],[SR-Nr]],SRDB[SR-Nr.],SRDB[Vorname],\"NA\",0))","v":""},{"$f":"IF(ISBLANK(SRDB4[[#This Row],[SR-Nr]]),\"\",_xlfn.XLOOKUP(SRDB4[[#This Row],[SR-Nr]],SRDB[SR-Nr.],SRDB[Name],\"NA\",0))","v":""},{"$f":"IF(ISBLANK(SRDB4[[#This Row],[SR-Nr]]),\"\",IF(COUNTIF(Registration!$A$7:$A$204,SRDB4[[#This Row],[SR-Nr]])=1,TRUE,FALSE))","v":""}]
[null,{"$f":"IF(ISBLANK(SRDB4[[#This Row],[SR-Nr]]),\"\",_xlfn.XLOOKUP(SRDB4[[#This Row],[SR-Nr]],SRDB[SR-Nr.],SRDB[Vorname],\"NA\",0))","v":""},{"$f":"IF(ISBLANK(SRDB4[[#This Row],[SR-Nr]]),\"\",_xlfn.XLOOKUP(SRDB4[[#This Row],[SR-Nr]],SRDB[SR-Nr.],SRDB[Name],\"NA\",0))","v":""},{"$f":"IF(ISBLANK(SRDB4[[#This Row],[SR-Nr]]),\"\",IF(COUNTIF(Registration!$A$7:$A$204,SRDB4[[#This Row],[SR-Nr]])=1,TRUE,FALSE))","v":""}]
[null,{"$f":"IF(ISBLANK(SRDB4[[#This Row],[SR-Nr]]),\"\",_xlfn.XLOOKUP(SRDB4[[#This Row],[SR-Nr]],SRDB[SR-Nr.],SRDB[Vorname],\"NA\",0))","v":""},{"$f":"IF(ISBLANK(SRDB4[[#This Row],[SR-Nr]]),\"\",_xlfn.XLOOKUP(SRDB4[[#This Row],[SR-Nr]],SRDB[SR-Nr.],SRDB[Name],\"NA\",0))","v":""},{"$f":"IF(ISBLANK(SRDB4[[#This Row],[SR-Nr]]),\"\",IF(COUNTIF(Registration!$A$7:$A$204,SRDB4[[#This Row],[SR-Nr]])=1,TRUE,FALSE))","v":""}]
[null,{"$f":"IF(ISBLANK(SRDB4[[#This Row],[SR-Nr]]),\"\",_xlfn.XLOOKUP(SRDB4[[#This Row],[SR-Nr]],SRDB[SR-Nr.],SRDB[Vorname],\"NA\",0))","v":""},{"$f":"IF(ISBLANK(SRDB4[[#This Row],[SR-Nr]]),\"\",_xlfn.XLOOKUP(SRDB4[[#This Row],[SR-Nr]],SRDB[SR-Nr.],SRDB[Name],\"NA\",0))","v":""},{"$f":"IF(ISBLANK(SRDB4[[#This Row],[SR-Nr]]),\"\",IF(COUNTIF(Registration!$A$7:$A$204,SRDB4[[#This Row],[SR-Nr]])=1,TRUE,FALSE))","v":""}]
[null,{"$f":"IF(ISBLANK(SRDB4[[#This Row],[SR-Nr]]),\"\",_xlfn.XLOOKUP(SRDB4[[#This Row],[SR-Nr]],SRDB[SR-Nr.],SRDB[Vorname],\"NA\",0))","v":""},{"$f":"IF(ISBLANK(SRDB4[[#This Row],[SR-Nr]]),\"\",_xlfn.XLOOKUP(SRDB4[[#This Row],[SR-Nr]],SRDB[SR-Nr.],SRDB[Name],\"NA\",0))","v":""},{"$f":"IF(ISBLANK(SRDB4[[#This Row],[SR-Nr]]),\"\",IF(COUNTIF(Registration!$A$7:$A$204,SRDB4[[#This Row],[SR-Nr]])=1,TRUE,FALSE))","v":""}]
[null,{"$f":"IF(ISBLANK(SRDB4[[#This Row],[SR-Nr]]),\"\",_xlfn.XLOOKUP(SRDB4[[#This Row],[SR-Nr]],SRDB[SR-Nr.],SRDB[Vorname],\"NA\",0))","v":""},{"$f":"IF(ISBLANK(SRDB4[[#This Row],[SR-Nr]]),\"\",_xlfn.XLOOKUP(SRDB4[[#This Row],[SR-Nr]],SRDB[SR-Nr.],SRDB[Name],\"NA\",0))","v":""},{"$f":"IF(ISBLANK(SRDB4[[#This Row],[SR-Nr]]),\"\",IF(COUNTIF(Registration!$A$7:$A$204,SRDB4[[#This Row],[SR-Nr]])=1,TRUE,FALSE))","v":""}]
[null,{"$f":"IF(ISBLANK(SRDB4[[#This Row],[SR-Nr]]),\"\",_xlfn.XLOOKUP(SRDB4[[#This Row],[SR-Nr]],SRDB[SR-Nr.],SRDB[Vorname],\"NA\",0))","v":""},{"$f":"IF(ISBLANK(SRDB4[[#This Row],[SR-Nr]]),\"\",_xlfn.XLOOKUP(SRDB4[[#This Row],[SR-Nr]],SRDB[SR-Nr.],SRDB[Name],\"NA\",0))","v":""},{"$f":"IF(ISBLANK(SRDB4[[#This Row],[SR-Nr]]),\"\",IF(COUNTIF(Registration!$A$7:$A$204,SRDB4[[#This Row],[SR-Nr]])=1,TRUE,FALSE))","v":""}]
[null,{"$f":"IF(ISBLANK(SRDB4[[#This Row],[SR-Nr]]),\"\",_xlfn.XLOOKUP(SRDB4[[#This Row],[SR-Nr]],SRDB[SR-Nr.],SRDB[Vorname],\"NA\",0))","v":""},{"$f":"IF(ISBLANK(SRDB4[[#This Row],[SR-Nr]]),\"\",_xlfn.XLOOKUP(SRDB4[[#This Row],[SR-Nr]],SRDB[SR-Nr.],SRDB[Name],\"NA\",0))","v":""},{"$f":"IF(ISBLANK(SRDB4[[#This Row],[SR-Nr]]),\"\",IF(COUNTIF(Registration!$A$7:$A$204,SRDB4[[#This Row],[SR-Nr]])=1,TRUE,FALSE))","v":""}]
[null,{"$f":"IF(ISBLANK(SRDB4[[#This Row],[SR-Nr]]),\"\",_xlfn.XLOOKUP(SRDB4[[#This Row],[SR-Nr]],SRDB[SR-Nr.],SRDB[Vorname],\"NA\",0))","v":""},{"$f":"IF(ISBLANK(SRDB4[[#This Row],[SR-Nr]]),\"\",_xlfn.XLOOKUP(SRDB4[[#This Row],[SR-Nr]],SRDB[SR-Nr.],SRDB[Name],\"NA\",0))","v":""},{"$f":"IF(ISBLANK(SRDB4[[#This Row],[SR-Nr]]),\"\",IF(COUNTIF(Registration!$A$7:$A$204,SRDB4[[#This Row],[SR-Nr]])=1,TRUE,FALSE))","v":""}]
[null,{"$f":"IF(ISBLANK(SRDB4[[#This Row],[SR-Nr]]),\"\",_xlfn.XLOOKUP(SRDB4[[#This Row],[SR-Nr]],SRDB[SR-Nr.],SRDB[Vorname],\"NA\",0))","v":""},{"$f":"IF(ISBLANK(SRDB4[[#This Row],[SR-Nr]]),\"\",_xlfn.XLOOKUP(SRDB4[[#This Row],[SR-Nr]],SRDB[SR-Nr.],SRDB[Name],\"NA\",0))","v":""},{"$f":"IF(ISBLANK(SRDB4[[#This Row],[SR-Nr]]),\"\",IF(COUNTIF(Registration!$A$7:$A$204,SRDB4[[#This Row],[SR-Nr]])=1,TRUE,FALSE))","v":""}]
[null,{"$f":"IF(ISBLANK(SRDB4[[#This Row],[SR-Nr]]),\"\",_xlfn.XLOOKUP(SRDB4[[#This Row],[SR-Nr]],SRDB[SR-Nr.],SRDB[Vorname],\"NA\",0))","v":""},{"$f":"IF(ISBLANK(SRDB4[[#This Row],[SR-Nr]]),\"\",_xlfn.XLOOKUP(SRDB4[[#This Row],[SR-Nr]],SRDB[SR-Nr.],SRDB[Name],\"NA\",0))","v":""},{"$f":"IF(ISBLANK(SRDB4[[#This Row],[SR-Nr]]),\"\",IF(COUNTIF(Registration!$A$7:$A$204,SRDB4[[#This Row],[SR-Nr]])=1,TRUE,FALSE))","v":""}]
[null,{"$f":"IF(ISBLANK(SRDB4[[#This Row],[SR-Nr]]),\"\",_xlfn.XLOOKUP(SRDB4[[#This Row],[SR-Nr]],SRDB[SR-Nr.],SRDB[Vorname],\"NA\",0))","v":""},{"$f":"IF(ISBLANK(SRDB4[[#This Row],[SR-Nr]]),\"\",_xlfn.XLOOKUP(SRDB4[[#This Row],[SR-Nr]],SRDB[SR-Nr.],SRDB[Name],\"NA\",0))","v":""},{"$f":"IF(ISBLANK(SRDB4[[#This Row],[SR-Nr]]),\"\",IF(COUNTIF(Registration!$A$7:$A$204,SRDB4[[#This Row],[SR-Nr]])=1,TRUE,FALSE))","v":""}]
[null,{"$f":"IF(ISBLANK(SRDB4[[#This Row],[SR-Nr]]),\"\",_xlfn.XLOOKUP(SRDB4[[#This Row],[SR-Nr]],SRDB[SR-Nr.],SRDB[Vorname],\"NA\",0))","v":""},{"$f":"IF(ISBLANK(SRDB4[[#This Row],[SR-Nr]]),\"\",_xlfn.XLOOKUP(SRDB4[[#This Row],[SR-Nr]],SRDB[SR-Nr.],SRDB[Name],\"NA\",0))","v":""},{"$f":"IF(ISBLANK(SRDB4[[#This Row],[SR-Nr]]),\"\",IF(COUNTIF(Registration!$A$7:$A$204,SRDB4[[#This Row],[SR-Nr]])=1,TRUE,FALSE))","v":""}]
[null,{"$f":"IF(ISBLANK(SRDB4[[#This Row],[SR-Nr]]),\"\",_xlfn.XLOOKUP(SRDB4[[#This Row],[SR-Nr]],SRDB[SR-Nr.],SRDB[Vorname],\"NA\",0))","v":""},{"$f":"IF(ISBLANK(SRDB4[[#This Row],[SR-Nr]]),\"\",_xlfn.XLOOKUP(SRDB4[[#This Row],[SR-Nr]],SRDB[SR-Nr.],SRDB[Name],\"NA\",0))","v":""},{"$f":"IF(ISBLANK(SRDB4[[#This Row],[SR-Nr]]),\"\",IF(COUNTIF(Registration!$A$7:$A$204,SRDB4[[#This Row],[SR-Nr]])=1,TRUE,FALSE))","v":""}]
[null,{"$f":"IF(ISBLANK(SRDB4[[#This Row],[SR-Nr]]),\"\",_xlfn.XLOOKUP(SRDB4[[#This Row],[SR-Nr]],SRDB[SR-Nr.],SRDB[Vorname],\"NA\",0))","v":""},{"$f":"IF(ISBLANK(SRDB4[[#This Row],[SR-Nr]]),\"\",_xlfn.XLOOKUP(SRDB4[[#This Row],[SR-Nr]],SRDB[SR-Nr.],SRDB[Name],\"NA\",0))","v":""},{"$f":"IF(ISBLANK(SRDB4[[#This Row],[SR-Nr]]),\"\",IF(COUNTIF(Registration!$A$7:$A$204,SRDB4[[#This Row],[SR-Nr]])=1,TRUE,FALSE))","v":""}]
[null,{"$f":"IF(ISBLANK(SRDB4[[#This Row],[SR-Nr]]),\"\",_xlfn.XLOOKUP(SRDB4[[#This Row],[SR-Nr]],SRDB[SR-Nr.],SRDB[Vorname],\"NA\",0))","v":""},{"$f":"IF(ISBLANK(SRDB4[[#This Row],[SR-Nr]]),\"\",_xlfn.XLOOKUP(SRDB4[[#This Row],[SR-Nr]],SRDB[SR-Nr.],SRDB[Name],\"NA\",0))","v":""},{"$f":"IF(ISBLANK(SRDB4[[#This Row],[SR-Nr]]),\"\",IF(COUNTIF(Registration!$A$7:$A$204,SRDB4[[#This Row],[SR-Nr]])=1,TRUE,FALSE))","v":""}]
[null,{"$f":"IF(ISBLANK(SRDB4[[#This Row],[SR-Nr]]),\"\",_xlfn.XLOOKUP(SRDB4[[#This Row],[SR-Nr]],SRDB[SR-Nr.],SRDB[Vorname],\"NA\",0))","v":""},{"$f":"IF(ISBLANK(SRDB4[[#This Row],[SR-Nr]]),\"\",_xlfn.XLOOKUP(SRDB4[[#This Row],[SR-Nr]],SRDB[SR-Nr.],SRDB[Name],\"NA\",0))","v":""},{"$f":"IF(ISBLANK(SRDB4[[#This Row],[SR-Nr]]),\"\",IF(COUNTIF(Registration!$A$7:$A$204,SRDB4[[#This Row],[SR-Nr]])=1,TRUE,FALSE))","v":""}]
[null,{"$f":"IF(ISBLANK(SRDB4[[#This Row],[SR-Nr]]),\"\",_xlfn.XLOOKUP(SRDB4[[#This Row],[SR-Nr]],SRDB[SR-Nr.],SRDB[Vorname],\"NA\",0))","v":""},{"$f":"IF(ISBLANK(SRDB4[[#This Row],[SR-Nr]]),\"\",_xlfn.XLOOKUP(SRDB4[[#This Row],[SR-Nr]],SRDB[SR-Nr.],SRDB[Name],\"NA\",0))","v":""},{"$f":"IF(ISBLANK(SRDB4[[#This Row],[SR-Nr]]),\"\",IF(COUNTIF(Registration!$A$7:$A$204,SRDB4[[#This Row],[SR-Nr]])=1,TRUE,FALSE))","v":""}]
[null,{"$f":"IF(ISBLANK(SRDB4[[#This Row],[SR-Nr]]),\"\",_xlfn.XLOOKUP(SRDB4[[#This Row],[SR-Nr]],SRDB[SR-Nr.],SRDB[Vorname],\"NA\",0))","v":""},{"$f":"IF(ISBLANK(SRDB4[[#This Row],[SR-Nr]]),\"\",_xlfn.XLOOKUP(SRDB4[[#This Row],[SR-Nr]],SRDB[SR-Nr.],SRDB[Name],\"NA\",0))","v":""},{"$f":"IF(ISBLANK(SRDB4[[#This Row],[SR-Nr]]),\"\",IF(COUNTIF(Registration!$A$7:$A$204,SRDB4[[#This Row],[SR-Nr]])=1,TRUE,FALSE))","v":""}]
[null,{"$f":"IF(ISBLANK(SRDB4[[#This Row],[SR-Nr]]),\"\",_xlfn.XLOOKUP(SRDB4[[#This Row],[SR-Nr]],SRDB[SR-Nr.],SRDB[Vorname],\"NA\",0))","v":""},{"$f":"IF(ISBLANK(SRDB4[[#This Row],[SR-Nr]]),\"\",_xlfn.XLOOKUP(SRDB4[[#This Row],[SR-Nr]],SRDB[SR-Nr.],SRDB[Name],\"NA\",0))","v":""},{"$f":"IF(ISBLANK(SRDB4[[#This Row],[SR-Nr]]),\"\",IF(COUNTIF(Registration!$A$7:$A$204,SRDB4[[#This Row],[SR-Nr]])=1,TRUE,FALSE))","v":""}]
[null,{"$f":"IF(ISBLANK(SRDB4[[#This Row],[SR-Nr]]),\"\",_xlfn.XLOOKUP(SRDB4[[#This Row],[SR-Nr]],SRDB[SR-Nr.],SRDB[Vorname],\"NA\",0))","v":""},{"$f":"IF(ISBLANK(SRDB4[[#This Row],[SR-Nr]]),\"\",_xlfn.XLOOKUP(SRDB4[[#This Row],[SR-Nr]],SRDB[SR-Nr.],SRDB[Name],\"NA\",0))","v":""},{"$f":"IF(ISBLANK(SRDB4[[#This Row],[SR-Nr]]),\"\",IF(COUNTIF(Registration!$A$7:$A$204,SRDB4[[#This Row],[SR-Nr]])=1,TRUE,FALSE))","v":""}]
[null,{"$f":"IF(ISBLANK(SRDB4[[#This Row],[SR-Nr]]),\"\",_xlfn.XLOOKUP(SRDB4[[#This Row],[SR-Nr]],SRDB[SR-Nr.],SRDB[Vorname],\"NA\",0))","v":""},{"$f":"IF(ISBLANK(SRDB4[[#This Row],[SR-Nr]]),\"\",_xlfn.XLOOKUP(SRDB4[[#This Row],[SR-Nr]],SRDB[SR-Nr.],SRDB[Name],\"NA\",0))","v":""},{"$f":"IF(ISBLANK(SRDB4[[#This Row],[SR-Nr]]),\"\",IF(COUNTIF(Registration!$A$7:$A$204,SRDB4[[#This Row],[SR-Nr]])=1,TRUE,FALSE))","v":""}]
[null,{"$f":"IF(ISBLANK(SRDB4[[#This Row],[SR-Nr]]),\"\",_xlfn.XLOOKUP(SRDB4[[#This Row],[SR-Nr]],SRDB[SR-Nr.],SRDB[Vorname],\"NA\",0))","v":""},{"$f":"IF(ISBLANK(SRDB4[[#This Row],[SR-Nr]]),\"\",_xlfn.XLOOKUP(SRDB4[[#This Row],[SR-Nr]],SRDB[SR-Nr.],SRDB[Name],\"NA\",0))","v":""},{"$f":"IF(ISBLANK(SRDB4[[#This Row],[SR-Nr]]),\"\",IF(COUNTIF(Registration!$A$7:$A$204,SRDB4[[#This Row],[SR-Nr]])=1,TRUE,FALSE))","v":""}]
[null,{"$f":"IF(ISBLANK(SRDB4[[#This Row],[SR-Nr]]),\"\",_xlfn.XLOOKUP(SRDB4[[#This Row],[SR-Nr]],SRDB[SR-Nr.],SRDB[Vorname],\"NA\",0))","v":""},{"$f":"IF(ISBLANK(SRDB4[[#This Row],[SR-Nr]]),\"\",_xlfn.XLOOKUP(SRDB4[[#This Row],[SR-Nr]],SRDB[SR-Nr.],SRDB[Name],\"NA\",0))","v":""},{"$f":"IF(ISBLANK(SRDB4[[#This Row],[SR-Nr]]),\"\",IF(COUNTIF(Registration!$A$7:$A$204,SRDB4[[#This Row],[SR-Nr]])=1,TRUE,FALSE))","v":""}]
[null,{"$f":"IF(ISBLANK(SRDB4[[#This Row],[SR-Nr]]),\"\",_xlfn.XLOOKUP(SRDB4[[#This Row],[SR-Nr]],SRDB[SR-Nr.],SRDB[Vorname],\"NA\",0))","v":""},{"$f":"IF(ISBLANK(SRDB4[[#This Row],[SR-Nr]]),\"\",_xlfn.XLOOKUP(SRDB4[[#This Row],[SR-Nr]],SRDB[SR-Nr.],SRDB[Name],\"NA\",0))","v":""},{"$f":"IF(ISBLANK(SRDB4[[#This Row],[SR-Nr]]),\"\",IF(COUNTIF(Registration!$A$7:$A$204,SRDB4[[#This Row],[SR-Nr]])=1,TRUE,FALSE))","v":""}]
[null,{"$f":"IF(ISBLANK(SRDB4[[#This Row],[SR-Nr]]),\"\",_xlfn.XLOOKUP(SRDB4[[#This Row],[SR-Nr]],SRDB[SR-Nr.],SRDB[Vorname],\"NA\",0))","v":""},{"$f":"IF(ISBLANK(SRDB4[[#This Row],[SR-Nr]]),\"\",_xlfn.XLOOKUP(SRDB4[[#This Row],[SR-Nr]],SRDB[SR-Nr.],SRDB[Name],\"NA\",0))","v":""},{"$f":"IF(ISBLANK(SRDB4[[#This Row],[SR-Nr]]),\"\",IF(COUNTIF(Registration!$A$7:$A$204,SRDB4[[#This Row],[SR-Nr]])=1,TRUE,FALSE))","v":""}]
[null,{"$f":"IF(ISBLANK(SRDB4[[#This Row],[SR-Nr]]),\"\",_xlfn.XLOOKUP(SRDB4[[#This Row],[SR-Nr]],SRDB[SR-Nr.],SRDB[Vorname],\"NA\",0))","v":""},{"$f":"IF(ISBLANK(SRDB4[[#This Row],[SR-Nr]]),\"\",_xlfn.XLOOKUP(SRDB4[[#This Row],[SR-Nr]],SRDB[SR-Nr.],SRDB[Name],\"NA\",0))","v":""},{"$f":"IF(ISBLANK(SRDB4[[#This Row],[SR-Nr]]),\"\",IF(COUNTIF(Registration!$A$7:$A$204,SRDB4[[#This Row],[SR-Nr]])=1,TRUE,FALSE))","v":""}]
[null,{"$f":"IF(ISBLANK(SRDB4[[#This Row],[SR-Nr]]),\"\",_xlfn.XLOOKUP(SRDB4[[#This Row],[SR-Nr]],SRDB[SR-Nr.],SRDB[Vorname],\"NA\",0))","v":""},{"$f":"IF(ISBLANK(SRDB4[[#This Row],[SR-Nr]]),\"\",_xlfn.XLOOKUP(SRDB4[[#This Row],[SR-Nr]],SRDB[SR-Nr.],SRDB[Name],\"NA\",0))","v":""},{"$f":"IF(ISBLANK(SRDB4[[#This Row],[SR-Nr]]),\"\",IF(COUNTIF(Registration!$A$7:$A$204,SRDB4[[#This Row],[SR-Nr]])=1,TRUE,FALSE))","v":""}]
[null,{"$f":"IF(ISBLANK(SRDB4[[#This Row],[SR-Nr]]),\"\",_xlfn.XLOOKUP(SRDB4[[#This Row],[SR-Nr]],SRDB[SR-Nr.],SRDB[Vorname],\"NA\",0))","v":""},{"$f":"IF(ISBLANK(SRDB4[[#This Row],[SR-Nr]]),\"\",_xlfn.XLOOKUP(SRDB4[[#This Row],[SR-Nr]],SRDB[SR-Nr.],SRDB[Name],\"NA\",0))","v":""},{"$f":"IF(ISBLANK(SRDB4[[#This Row],[SR-Nr]]),\"\",IF(COUNTIF(Registration!$A$7:$A$204,SRDB4[[#This Row],[SR-Nr]])=1,TRUE,FALSE))","v":""}]
[null,{"$f":"IF(ISBLANK(SRDB4[[#This Row],[SR-Nr]]),\"\",_xlfn.XLOOKUP(SRDB4[[#This Row],[SR-Nr]],SRDB[SR-Nr.],SRDB[Vorname],\"NA\",0))","v":""},{"$f":"IF(ISBLANK(SRDB4[[#This Row],[SR-Nr]]),\"\",_xlfn.XLOOKUP(SRDB4[[#This Row],[SR-Nr]],SRDB[SR-Nr.],SRDB[Name],\"NA\",0))","v":""},{"$f":"IF(ISBLANK(SRDB4[[#This Row],[SR-Nr]]),\"\",IF(COUNTIF(Registration!$A$7:$A$204,SRDB4[[#This Row],[SR-Nr]])=1,TRUE,FALSE))","v":""}]
[null,{"$f":"IF(ISBLANK(SRDB4[[#This Row],[SR-Nr]]),\"\",_xlfn.XLOOKUP(SRDB4[[#This Row],[SR-Nr]],SRDB[SR-Nr.],SRDB[Vorname],\"NA\",0))","v":""},{"$f":"IF(ISBLANK(SRDB4[[#This Row],[SR-Nr]]),\"\",_xlfn.XLOOKUP(SRDB4[[#This Row],[SR-Nr]],SRDB[SR-Nr.],SRDB[Name],\"NA\",0))","v":""},{"$f":"IF(ISBLANK(SRDB4[[#This Row],[SR-Nr]]),\"\",IF(COUNTIF(Registration!$A$7:$A$204,SRDB4[[#This Row],[SR-Nr]])=1,TRUE,FALSE))","v":""}]
[null,{"$f":"IF(ISBLANK(SRDB4[[#This Row],[SR-Nr]]),\"\",_xlfn.XLOOKUP(SRDB4[[#This Row],[SR-Nr]],SRDB[SR-Nr.],SRDB[Vorname],\"NA\",0))","v":""},{"$f":"IF(ISBLANK(SRDB4[[#This Row],[SR-Nr]]),\"\",_xlfn.XLOOKUP(SRDB4[[#This Row],[SR-Nr]],SRDB[SR-Nr.],SRDB[Name],\"NA\",0))","v":""},{"$f":"IF(ISBLANK(SRDB4[[#This Row],[SR-Nr]]),\"\",IF(COUNTIF(Registration!$A$7:$A$204,SRDB4[[#This Row],[SR-Nr]])=1,TRUE,FALSE))","v":""}]
[null,{"$f":"IF(ISBLANK(SRDB4[[#This Row],[SR-Nr]]),\"\",_xlfn.XLOOKUP(SRDB4[[#This Row],[SR-Nr]],SRDB[SR-Nr.],SRDB[Vorname],\"NA\",0))","v":""},{"$f":"IF(ISBLANK(SRDB4[[#This Row],[SR-Nr]]),\"\",_xlfn.XLOOKUP(SRDB4[[#This Row],[SR-Nr]],SRDB[SR-Nr.],SRDB[Name],\"NA\",0))","v":""},{"$f":"IF(ISBLANK(SRDB4[[#This Row],[SR-Nr]]),\"\",IF(COUNTIF(Registration!$A$7:$A$204,SRDB4[[#This Row],[SR-Nr]])=1,TRUE,FALSE))","v":""}]
[null,{"$f":"IF(ISBLANK(SRDB4[[#This Row],[SR-Nr]]),\"\",_xlfn.XLOOKUP(SRDB4[[#This Row],[SR-Nr]],SRDB[SR-Nr.],SRDB[Vorname],\"NA\",0))","v":""},{"$f":"IF(ISBLANK(SRDB4[[#This Row],[SR-Nr]]),\"\",_xlfn.XLOOKUP(SRDB4[[#This Row],[SR-Nr]],SRDB[SR-Nr.],SRDB[Name],\"NA\",0))","v":""},{"$f":"IF(ISBLANK(SRDB4[[#This Row],[SR-Nr]]),\"\",IF(COUNTIF(Registration!$A$7:$A$204,SRDB4[[#This Row],[SR-Nr]])=1,TRUE,FALSE))","v":""}]
[null,{"$f":"IF(ISBLANK(SRDB4[[#This Row],[SR-Nr]]),\"\",_xlfn.XLOOKUP(SRDB4[[#This Row],[SR-Nr]],SRDB[SR-Nr.],SRDB[Vorname],\"NA\",0))","v":""},{"$f":"IF(ISBLANK(SRDB4[[#This Row],[SR-Nr]]),\"\",_xlfn.XLOOKUP(SRDB4[[#This Row],[SR-Nr]],SRDB[SR-Nr.],SRDB[Name],\"NA\",0))","v":""},{"$f":"IF(ISBLANK(SRDB4[[#This Row],[SR-Nr]]),\"\",IF(COUNTIF(Registration!$A$7:$A$204,SRDB4[[#This Row],[SR-Nr]])=1,TRUE,FALSE))","v":""}]
[null,{"$f":"IF(ISBLANK(SRDB4[[#This Row],[SR-Nr]]),\"\",_xlfn.XLOOKUP(SRDB4[[#This Row],[SR-Nr]],SRDB[SR-Nr.],SRDB[Vorname],\"NA\",0))","v":""},{"$f":"IF(ISBLANK(SRDB4[[#This Row],[SR-Nr]]),\"\",_xlfn.XLOOKUP(SRDB4[[#This Row],[SR-Nr]],SRDB[SR-Nr.],SRDB[Name],\"NA\",0))","v":""},{"$f":"IF(ISBLANK(SRDB4[[#This Row],[SR-Nr]]),\"\",IF(COUNTIF(Registration!$A$7:$A$204,SRDB4[[#This Row],[SR-Nr]])=1,TRUE,FALSE))","v":""}]
[null,{"$f":"IF(ISBLANK(SRDB4[[#This Row],[SR-Nr]]),\"\",_xlfn.XLOOKUP(SRDB4[[#This Row],[SR-Nr]],SRDB[SR-Nr.],SRDB[Vorname],\"NA\",0))","v":""},{"$f":"IF(ISBLANK(SRDB4[[#This Row],[SR-Nr]]),\"\",_xlfn.XLOOKUP(SRDB4[[#This Row],[SR-Nr]],SRDB[SR-Nr.],SRDB[Name],\"NA\",0))","v":""},{"$f":"IF(ISBLANK(SRDB4[[#This Row],[SR-Nr]]),\"\",IF(COUNTIF(Registration!$A$7:$A$204,SRDB4[[#This Row],[SR-Nr]])=1,TRUE,FALSE))","v":""}]
[null,{"$f":"IF(ISBLANK(SRDB4[[#This Row],[SR-Nr]]),\"\",_xlfn.XLOOKUP(SRDB4[[#This Row],[SR-Nr]],SRDB[SR-Nr.],SRDB[Vorname],\"NA\",0))","v":""},{"$f":"IF(ISBLANK(SRDB4[[#This Row],[SR-Nr]]),\"\",_xlfn.XLOOKUP(SRDB4[[#This Row],[SR-Nr]],SRDB[SR-Nr.],SRDB[Name],\"NA\",0))","v":""},{"$f":"IF(ISBLANK(SRDB4[[#This Row],[SR-Nr]]),\"\",IF(COUNTIF(Registration!$A$7:$A$204,SRDB4[[#This Row],[SR-Nr]])=1,TRUE,FALSE))","v":""}]
[null,{"$f":"IF(ISBLANK(SRDB4[[#This Row],[SR-Nr]]),\"\",_xlfn.XLOOKUP(SRDB4[[#This Row],[SR-Nr]],SRDB[SR-Nr.],SRDB[Vorname],\"NA\",0))","v":""},{"$f":"IF(ISBLANK(SRDB4[[#This Row],[SR-Nr]]),\"\",_xlfn.XLOOKUP(SRDB4[[#This Row],[SR-Nr]],SRDB[SR-Nr.],SRDB[Name],\"NA\",0))","v":""},{"$f":"IF(ISBLANK(SRDB4[[#This Row],[SR-Nr]]),\"\",IF(COUNTIF(Registration!$A$7:$A$204,SRDB4[[#This Row],[SR-Nr]])=1,TRUE,FALSE))","v":""}]
[null,{"$f":"IF(ISBLANK(SRDB4[[#This Row],[SR-Nr]]),\"\",_xlfn.XLOOKUP(SRDB4[[#This Row],[SR-Nr]],SRDB[SR-Nr.],SRDB[Vorname],\"NA\",0))","v":""},{"$f":"IF(ISBLANK(SRDB4[[#This Row],[SR-Nr]]),\"\",_xlfn.XLOOKUP(SRDB4[[#This Row],[SR-Nr]],SRDB[SR-Nr.],SRDB[Name],\"NA\",0))","v":""},{"$f":"IF(ISBLANK(SRDB4[[#This Row],[SR-Nr]]),\"\",IF(COUNTIF(Registration!$A$7:$A$204,SRDB4[[#This Row],[SR-Nr]])=1,TRUE,FALSE))","v":""}]
[null,{"$f":"IF(ISBLANK(SRDB4[[#This Row],[SR-Nr]]),\"\",_xlfn.XLOOKUP(SRDB4[[#This Row],[SR-Nr]],SRDB[SR-Nr.],SRDB[Vorname],\"NA\",0))","v":""},{"$f":"IF(ISBLANK(SRDB4[[#This Row],[SR-Nr]]),\"\",_xlfn.XLOOKUP(SRDB4[[#This Row],[SR-Nr]],SRDB[SR-Nr.],SRDB[Name],\"NA\",0))","v":""},{"$f":"IF(ISBLANK(SRDB4[[#This Row],[SR-Nr]]),\"\",IF(COUNTIF(Registration!$A$7:$A$204,SRDB4[[#This Row],[SR-Nr]])=1,TRUE,FALSE))","v":""}]
[null,{"$f":"IF(ISBLANK(SRDB4[[#This Row],[SR-Nr]]),\"\",_xlfn.XLOOKUP(SRDB4[[#This Row],[SR-Nr]],SRDB[SR-Nr.],SRDB[Vorname],\"NA\",0))","v":""},{"$f":"IF(ISBLANK(SRDB4[[#This Row],[SR-Nr]]),\"\",_xlfn.XLOOKUP(SRDB4[[#This Row],[SR-Nr]],SRDB[SR-Nr.],SRDB[Name],\"NA\",0))","v":""},{"$f":"IF(ISBLANK(SRDB4[[#This Row],[SR-Nr]]),\"\",IF(COUNTIF(Registration!$A$7:$A$204,SRDB4[[#This Row],[SR-Nr]])=1,TRUE,FALSE))","v":""}]
[null,{"$f":"IF(ISBLANK(SRDB4[[#This Row],[SR-Nr]]),\"\",_xlfn.XLOOKUP(SRDB4[[#This Row],[SR-Nr]],SRDB[SR-Nr.],SRDB[Vorname],\"NA\",0))","v":""},{"$f":"IF(ISBLANK(SRDB4[[#This Row],[SR-Nr]]),\"\",_xlfn.XLOOKUP(SRDB4[[#This Row],[SR-Nr]],SRDB[SR-Nr.],SRDB[Name],\"NA\",0))","v":""},{"$f":"IF(ISBLANK(SRDB4[[#This Row],[SR-Nr]]),\"\",IF(COUNTIF(Registration!$A$7:$A$204,SRDB4[[#This Row],[SR-Nr]])=1,TRUE,FALSE))","v":""}]
[null,{"$f":"IF(ISBLANK(SRDB4[[#This Row],[SR-Nr]]),\"\",_xlfn.XLOOKUP(SRDB4[[#This Row],[SR-Nr]],SRDB[SR-Nr.],SRDB[Vorname],\"NA\",0))","v":""},{"$f":"IF(ISBLANK(SRDB4[[#This Row],[SR-Nr]]),\"\",_xlfn.XLOOKUP(SRDB4[[#This Row],[SR-Nr]],SRDB[SR-Nr.],SRDB[Name],\"NA\",0))","v":""},{"$f":"IF(ISBLANK(SRDB4[[#This Row],[SR-Nr]]),\"\",IF(COUNTIF(Registration!$A$7:$A$204,SRDB4[[#This Row],[SR-Nr]])=1,TRUE,FALSE))","v":""}]
[null,{"$f":"IF(ISBLANK(SRDB4[[#This Row],[SR-Nr]]),\"\",_xlfn.XLOOKUP(SRDB4[[#This Row],[SR-Nr]],SRDB[SR-Nr.],SRDB[Vorname],\"NA\",0))","v":""},{"$f":"IF(ISBLANK(SRDB4[[#This Row],[SR-Nr]]),\"\",_xlfn.XLOOKUP(SRDB4[[#This Row],[SR-Nr]],SRDB[SR-Nr.],SRDB[Name],\"NA\",0))","v":""},{"$f":"IF(ISBLANK(SRDB4[[#This Row],[SR-Nr]]),\"\",IF(COUNTIF(Registration!$A$7:$A$204,SRDB4[[#This Row],[SR-Nr]])=1,TRUE,FALSE))","v":""}]
[null,{"$f":"IF(ISBLANK(SRDB4[[#This Row],[SR-Nr]]),\"\",_xlfn.XLOOKUP(SRDB4[[#This Row],[SR-Nr]],SRDB[SR-Nr.],SRDB[Vorname],\"NA\",0))","v":""},{"$f":"IF(ISBLANK(SRDB4[[#This Row],[SR-Nr]]),\"\",_xlfn.XLOOKUP(SRDB4[[#This Row],[SR-Nr]],SRDB[SR-Nr.],SRDB[Name],\"NA\",0))","v":""},{"$f":"IF(ISBLANK(SRDB4[[#This Row],[SR-Nr]]),\"\",IF(COUNTIF(Registration!$A$7:$A$204,SRDB4[[#This Row],[SR-Nr]])=1,TRUE,FALSE))","v":""}]
[null,{"$f":"IF(ISBLANK(SRDB4[[#This Row],[SR-Nr]]),\"\",_xlfn.XLOOKUP(SRDB4[[#This Row],[SR-Nr]],SRDB[SR-Nr.],SRDB[Vorname],\"NA\",0))","v":""},{"$f":"IF(ISBLANK(SRDB4[[#This Row],[SR-Nr]]),\"\",_xlfn.XLOOKUP(SRDB4[[#This Row],[SR-Nr]],SRDB[SR-Nr.],SRDB[Name],\"NA\",0))","v":""},{"$f":"IF(ISBLANK(SRDB4[[#This Row],[SR-Nr]]),\"\",IF(COUNTIF(Registration!$A$7:$A$204,SRDB4[[#This Row],[SR-Nr]])=1,TRUE,FALSE))","v":""}]
[null,{"$f":"IF(ISBLANK(SRDB4[[#This Row],[SR-Nr]]),\"\",_xlfn.XLOOKUP(SRDB4[[#This Row],[SR-Nr]],SRDB[SR-Nr.],SRDB[Vorname],\"NA\",0))","v":""},{"$f":"IF(ISBLANK(SRDB4[[#This Row],[SR-Nr]]),\"\",_xlfn.XLOOKUP(SRDB4[[#This Row],[SR-Nr]],SRDB[SR-Nr.],SRDB[Name],\"NA\",0))","v":""},{"$f":"IF(ISBLANK(SRDB4[[#This Row],[SR-Nr]]),\"\",IF(COUNTIF(Registration!$A$7:$A$204,SRDB4[[#This Row],[SR-Nr]])=1,TRUE,FALSE))","v":""}]
[null,{"$f":"IF(ISBLANK(SRDB4[[#This Row],[SR-Nr]]),\"\",_xlfn.XLOOKUP(SRDB4[[#This Row],[SR-Nr]],SRDB[SR-Nr.],SRDB[Vorname],\"NA\",0))","v":""},{"$f":"IF(ISBLANK(SRDB4[[#This Row],[SR-Nr]]),\"\",_xlfn.XLOOKUP(SRDB4[[#This Row],[SR-Nr]],SRDB[SR-Nr.],SRDB[Name],\"NA\",0))","v":""},{"$f":"IF(ISBLANK(SRDB4[[#This Row],[SR-Nr]]),\"\",IF(COUNTIF(Registration!$A$7:$A$204,SRDB4[[#This Row],[SR-Nr]])=1,TRUE,FALSE))","v":""}]
[null,{"$f":"IF(ISBLANK(SRDB4[[#This Row],[SR-Nr]]),\"\",_xlfn.XLOOKUP(SRDB4[[#This Row],[SR-Nr]],SRDB[SR-Nr.],SRDB[Vorname],\"NA\",0))","v":""},{"$f":"IF(ISBLANK(SRDB4[[#This Row],[SR-Nr]]),\"\",_xlfn.XLOOKUP(SRDB4[[#This Row],[SR-Nr]],SRDB[SR-Nr.],SRDB[Name],\"NA\",0))","v":""},{"$f":"IF(ISBLANK(SRDB4[[#This Row],[SR-Nr]]),\"\",IF(COUNTIF(Registration!$A$7:$A$204,SRDB4[[#This Row],[SR-Nr]])=1,TRUE,FALSE))","v":""}]
[null,{"$f":"IF(ISBLANK(SRDB4[[#This Row],[SR-Nr]]),\"\",_xlfn.XLOOKUP(SRDB4[[#This Row],[SR-Nr]],SRDB[SR-Nr.],SRDB[Vorname],\"NA\",0))","v":""},{"$f":"IF(ISBLANK(SRDB4[[#This Row],[SR-Nr]]),\"\",_xlfn.XLOOKUP(SRDB4[[#This Row],[SR-Nr]],SRDB[SR-Nr.],SRDB[Name],\"NA\",0))","v":""},{"$f":"IF(ISBLANK(SRDB4[[#This Row],[SR-Nr]]),\"\",IF(COUNTIF(Registration!$A$7:$A$204,SRDB4[[#This Row],[SR-Nr]])=1,TRUE,FALSE))","v":""}]
[null,{"$f":"IF(ISBLANK(SRDB4[[#This Row],[SR-Nr]]),\"\",_xlfn.XLOOKUP(SRDB4[[#This Row],[SR-Nr]],SRDB[SR-Nr.],SRDB[Vorname],\"NA\",0))","v":""},{"$f":"IF(ISBLANK(SRDB4[[#This Row],[SR-Nr]]),\"\",_xlfn.XLOOKUP(SRDB4[[#This Row],[SR-Nr]],SRDB[SR-Nr.],SRDB[Name],\"NA\",0))","v":""},{"$f":"IF(ISBLANK(SRDB4[[#This Row],[SR-Nr]]),\"\",IF(COUNTIF(Registration!$A$7:$A$204,SRDB4[[#This Row],[SR-Nr]])=1,TRUE,FALSE))","v":""}]
[null,{"$f":"IF(ISBLANK(SRDB4[[#This Row],[SR-Nr]]),\"\",_xlfn.XLOOKUP(SRDB4[[#This Row],[SR-Nr]],SRDB[SR-Nr.],SRDB[Vorname],\"NA\",0))","v":""},{"$f":"IF(ISBLANK(SRDB4[[#This Row],[SR-Nr]]),\"\",_xlfn.XLOOKUP(SRDB4[[#This Row],[SR-Nr]],SRDB[SR-Nr.],SRDB[Name],\"NA\",0))","v":""},{"$f":"IF(ISBLANK(SRDB4[[#This Row],[SR-Nr]]),\"\",IF(COUNTIF(Registration!$A$7:$A$204,SRDB4[[#This Row],[SR-Nr]])=1,TRUE,FALSE))","v":""}]
[null,{"$f":"IF(ISBLANK(SRDB4[[#This Row],[SR-Nr]]),\"\",_xlfn.XLOOKUP(SRDB4[[#This Row],[SR-Nr]],SRDB[SR-Nr.],SRDB[Vorname],\"NA\",0))","v":""},{"$f":"IF(ISBLANK(SRDB4[[#This Row],[SR-Nr]]),\"\",_xlfn.XLOOKUP(SRDB4[[#This Row],[SR-Nr]],SRDB[SR-Nr.],SRDB[Name],\"NA\",0))","v":""},{"$f":"IF(ISBLANK(SRDB4[[#This Row],[SR-Nr]]),\"\",IF(COUNTIF(Registration!$A$7:$A$204,SRDB4[[#This Row],[SR-Nr]])=1,TRUE,FALSE))","v":""}]
[null,{"$f":"IF(ISBLANK(SRDB4[[#This Row],[SR-Nr]]),\"\",_xlfn.XLOOKUP(SRDB4[[#This Row],[SR-Nr]],SRDB[SR-Nr.],SRDB[Vorname],\"NA\",0))","v":""},{"$f":"IF(ISBLANK(SRDB4[[#This Row],[SR-Nr]]),\"\",_xlfn.XLOOKUP(SRDB4[[#This Row],[SR-Nr]],SRDB[SR-Nr.],SRDB[Name],\"NA\",0))","v":""},{"$f":"IF(ISBLANK(SRDB4[[#This Row],[SR-Nr]]),\"\",IF(COUNTIF(Registration!$A$7:$A$204,SRDB4[[#This Row],[SR-Nr]])=1,TRUE,FALSE))","v":""}]
[null,{"$f":"IF(ISBLANK(SRDB4[[#This Row],[SR-Nr]]),\"\",_xlfn.XLOOKUP(SRDB4[[#This Row],[SR-Nr]],SRDB[SR-Nr.],SRDB[Vorname],\"NA\",0))","v":""},{"$f":"IF(ISBLANK(SRDB4[[#This Row],[SR-Nr]]),\"\",_xlfn.XLOOKUP(SRDB4[[#This Row],[SR-Nr]],SRDB[SR-Nr.],SRDB[Name],\"NA\",0))","v":""},{"$f":"IF(ISBLANK(SRDB4[[#This Row],[SR-Nr]]),\"\",IF(COUNTIF(Registration!$A$7:$A$204,SRDB4[[#This Row],[SR-Nr]])=1,TRUE,FALSE))","v":""}]
[null,{"$f":"IF(ISBLANK(SRDB4[[#This Row],[SR-Nr]]),\"\",_xlfn.XLOOKUP(SRDB4[[#This Row],[SR-Nr]],SRDB[SR-Nr.],SRDB[Vorname],\"NA\",0))","v":""},{"$f":"IF(ISBLANK(SRDB4[[#This Row],[SR-Nr]]),\"\",_xlfn.XLOOKUP(SRDB4[[#This Row],[SR-Nr]],SRDB[SR-Nr.],SRDB[Name],\"NA\",0))","v":""},{"$f":"IF(ISBLANK(SRDB4[[#This Row],[SR-Nr]]),\"\",IF(COUNTIF(Registration!$A$7:$A$204,SRDB4[[#This Row],[SR-Nr]])=1,TRUE,FALSE))","v":""}]
[null,{"$f":"IF(ISBLANK(SRDB4[[#This Row],[SR-Nr]]),\"\",_xlfn.XLOOKUP(SRDB4[[#This Row],[SR-Nr]],SRDB[SR-Nr.],SRDB[Vorname],\"NA\",0))","v":""},{"$f":"IF(ISBLANK(SRDB4[[#This Row],[SR-Nr]]),\"\",_xlfn.XLOOKUP(SRDB4[[#This Row],[SR-Nr]],SRDB[SR-Nr.],SRDB[Name],\"NA\",0))","v":""},{"$f":"IF(ISBLANK(SRDB4[[#This Row],[SR-Nr]]),\"\",IF(COUNTIF(Registration!$A$7:$A$204,SRDB4[[#This Row],[SR-Nr]])=1,TRUE,FALSE))","v":""}]
[null,{"$f":"IF(ISBLANK(SRDB4[[#This Row],[SR-Nr]]),\"\",_xlfn.XLOOKUP(SRDB4[[#This Row],[SR-Nr]],SRDB[SR-Nr.],SRDB[Vorname],\"NA\",0))","v":""},{"$f":"IF(ISBLANK(SRDB4[[#This Row],[SR-Nr]]),\"\",_xlfn.XLOOKUP(SRDB4[[#This Row],[SR-Nr]],SRDB[SR-Nr.],SRDB[Name],\"NA\",0))","v":""},{"$f":"IF(ISBLANK(SRDB4[[#This Row],[SR-Nr]]),\"\",IF(COUNTIF(Registration!$A$7:$A$204,SRDB4[[#This Row],[SR-Nr]])=1,TRUE,FALSE))","v":""}]
[null,{"$f":"IF(ISBLANK(SRDB4[[#This Row],[SR-Nr]]),\"\",_xlfn.XLOOKUP(SRDB4[[#This Row],[SR-Nr]],SRDB[SR-Nr.],SRDB[Vorname],\"NA\",0))","v":""},{"$f":"IF(ISBLANK(SRDB4[[#This Row],[SR-Nr]]),\"\",_xlfn.XLOOKUP(SRDB4[[#This Row],[SR-Nr]],SRDB[SR-Nr.],SRDB[Name],\"NA\",0))","v":""},{"$f":"IF(ISBLANK(SRDB4[[#This Row],[SR-Nr]]),\"\",IF(COUNTIF(Registration!$A$7:$A$204,SRDB4[[#This Row],[SR-Nr]])=1,TRUE,FALSE))","v":""}]
[null,{"$f":"IF(ISBLANK(SRDB4[[#This Row],[SR-Nr]]),\"\",_xlfn.XLOOKUP(SRDB4[[#This Row],[SR-Nr]],SRDB[SR-Nr.],SRDB[Vorname],\"NA\",0))","v":""},{"$f":"IF(ISBLANK(SRDB4[[#This Row],[SR-Nr]]),\"\",_xlfn.XLOOKUP(SRDB4[[#This Row],[SR-Nr]],SRDB[SR-Nr.],SRDB[Name],\"NA\",0))","v":""},{"$f":"IF(ISBLANK(SRDB4[[#This Row],[SR-Nr]]),\"\",IF(COUNTIF(Registration!$A$7:$A$204,SRDB4[[#This Row],[SR-Nr]])=1,TRUE,FALSE))","v":""}]
[null,{"$f":"IF(ISBLANK(SRDB4[[#This Row],[SR-Nr]]),\"\",_xlfn.XLOOKUP(SRDB4[[#This Row],[SR-Nr]],SRDB[SR-Nr.],SRDB[Vorname],\"NA\",0))","v":""},{"$f":"IF(ISBLANK(SRDB4[[#This Row],[SR-Nr]]),\"\",_xlfn.XLOOKUP(SRDB4[[#This Row],[SR-Nr]],SRDB[SR-Nr.],SRDB[Name],\"NA\",0))","v":""},{"$f":"IF(ISBLANK(SRDB4[[#This Row],[SR-Nr]]),\"\",IF(COUNTIF(Registration!$A$7:$A$204,SRDB4[[#This Row],[SR-Nr]])=1,TRUE,FALSE))","v":""}]
[null,{"$f":"IF(ISBLANK(SRDB4[[#This Row],[SR-Nr]]),\"\",_xlfn.XLOOKUP(SRDB4[[#This Row],[SR-Nr]],SRDB[SR-Nr.],SRDB[Vorname],\"NA\",0))","v":""},{"$f":"IF(ISBLANK(SRDB4[[#This Row],[SR-Nr]]),\"\",_xlfn.XLOOKUP(SRDB4[[#This Row],[SR-Nr]],SRDB[SR-Nr.],SRDB[Name],\"NA\",0))","v":""},{"$f":"IF(ISBLANK(SRDB4[[#This Row],[SR-Nr]]),\"\",IF(COUNTIF(Registration!$A$7:$A$204,SRDB4[[#This Row],[SR-Nr]])=1,TRUE,FALSE))","v":""}]
[null,{"$f":"IF(ISBLANK(SRDB4[[#This Row],[SR-Nr]]),\"\",_xlfn.XLOOKUP(SRDB4[[#This Row],[SR-Nr]],SRDB[SR-Nr.],SRDB[Vorname],\"NA\",0))","v":""},{"$f":"IF(ISBLANK(SRDB4[[#This Row],[SR-Nr]]),\"\",_xlfn.XLOOKUP(SRDB4[[#This Row],[SR-Nr]],SRDB[SR-Nr.],SRDB[Name],\"NA\",0))","v":""},{"$f":"IF(ISBLANK(SRDB4[[#This Row],[SR-Nr]]),\"\",IF(COUNTIF(Registration!$A$7:$A$204,SRDB4[[#This Row],[SR-Nr]])=1,TRUE,FALSE))","v":""}]
[null,{"$f":"IF(ISBLANK(SRDB4[[#This Row],[SR-Nr]]),\"\",_xlfn.XLOOKUP(SRDB4[[#This Row],[SR-Nr]],SRDB[SR-Nr.],SRDB[Vorname],\"NA\",0))","v":""},{"$f":"IF(ISBLANK(SRDB4[[#This Row],[SR-Nr]]),\"\",_xlfn.XLOOKUP(SRDB4[[#This Row],[SR-Nr]],SRDB[SR-Nr.],SRDB[Name],\"NA\",0))","v":""},{"$f":"IF(ISBLANK(SRDB4[[#This Row],[SR-Nr]]),\"\",IF(COUNTIF(Registration!$A$7:$A$204,SRDB4[[#This Row],[SR-Nr]])=1,TRUE,FALSE))","v":""}]
[null,{"$f":"IF(ISBLANK(SRDB4[[#This Row],[SR-Nr]]),\"\",_xlfn.XLOOKUP(SRDB4[[#This Row],[SR-Nr]],SRDB[SR-Nr.],SRDB[Vorname],\"NA\",0))","v":""},{"$f":"IF(ISBLANK(SRDB4[[#This Row],[SR-Nr]]),\"\",_xlfn.XLOOKUP(SRDB4[[#This Row],[SR-Nr]],SRDB[SR-Nr.],SRDB[Name],\"NA\",0))","v":""},{"$f":"IF(ISBLANK(SRDB4[[#This Row],[SR-Nr]]),\"\",IF(COUNTIF(Registration!$A$7:$A$204,SRDB4[[#This Row],[SR-Nr]])=1,TRUE,FALSE))","v":""}]
[null,{"$f":"IF(ISBLANK(SRDB4[[#This Row],[SR-Nr]]),\"\",_xlfn.XLOOKUP(SRDB4[[#This Row],[SR-Nr]],SRDB[SR-Nr.],SRDB[Vorname],\"NA\",0))","v":""},{"$f":"IF(ISBLANK(SRDB4[[#This Row],[SR-Nr]]),\"\",_xlfn.XLOOKUP(SRDB4[[#This Row],[SR-Nr]],SRDB[SR-Nr.],SRDB[Name],\"NA\",0))","v":""},{"$f":"IF(ISBLANK(SRDB4[[#This Row],[SR-Nr]]),\"\",IF(COUNTIF(Registration!$A$7:$A$204,SRDB4[[#This Row],[SR-Nr]])=1,TRUE,FALSE))","v":""}]
[null,{"$f":"IF(ISBLANK(SRDB4[[#This Row],[SR-Nr]]),\"\",_xlfn.XLOOKUP(SRDB4[[#This Row],[SR-Nr]],SRDB[SR-Nr.],SRDB[Vorname],\"NA\",0))","v":""},{"$f":"IF(ISBLANK(SRDB4[[#This Row],[SR-Nr]]),\"\",_xlfn.XLOOKUP(SRDB4[[#This Row],[SR-Nr]],SRDB[SR-Nr.],SRDB[Name],\"NA\",0))","v":""},{"$f":"IF(ISBLANK(SRDB4[[#This Row],[SR-Nr]]),\"\",IF(COUNTIF(Registration!$A$7:$A$204,SRDB4[[#This Row],[SR-Nr]])=1,TRUE,FALSE))","v":""}]
[null,{"$f":"IF(ISBLANK(SRDB4[[#This Row],[SR-Nr]]),\"\",_xlfn.XLOOKUP(SRDB4[[#This Row],[SR-Nr]],SRDB[SR-Nr.],SRDB[Vorname],\"NA\",0))","v":""},{"$f":"IF(ISBLANK(SRDB4[[#This Row],[SR-Nr]]),\"\",_xlfn.XLOOKUP(SRDB4[[#This Row],[SR-Nr]],SRDB[SR-Nr.],SRDB[Name],\"NA\",0))","v":""},{"$f":"IF(ISBLANK(SRDB4[[#This Row],[SR-Nr]]),\"\",IF(COUNTIF(Registration!$A$7:$A$204,SRDB4[[#This Row],[SR-Nr]])=1,TRUE,FALSE))","v":""}]
[null,{"$f":"IF(ISBLANK(SRDB4[[#This Row],[SR-Nr]]),\"\",_xlfn.XLOOKUP(SRDB4[[#This Row],[SR-Nr]],SRDB[SR-Nr.],SRDB[Vorname],\"NA\",0))","v":""},{"$f":"IF(ISBLANK(SRDB4[[#This Row],[SR-Nr]]),\"\",_xlfn.XLOOKUP(SRDB4[[#This Row],[SR-Nr]],SRDB[SR-Nr.],SRDB[Name],\"NA\",0))","v":""},{"$f":"IF(ISBLANK(SRDB4[[#This Row],[SR-Nr]]),\"\",IF(COUNTIF(Registration!$A$7:$A$204,SRDB4[[#This Row],[SR-Nr]])=1,TRUE,FALSE))","v":""}]
[null,{"$f":"IF(ISBLANK(SRDB4[[#This Row],[SR-Nr]]),\"\",_xlfn.XLOOKUP(SRDB4[[#This Row],[SR-Nr]],SRDB[SR-Nr.],SRDB[Vorname],\"NA\",0))","v":""},{"$f":"IF(ISBLANK(SRDB4[[#This Row],[SR-Nr]]),\"\",_xlfn.XLOOKUP(SRDB4[[#This Row],[SR-Nr]],SRDB[SR-Nr.],SRDB[Name],\"NA\",0))","v":""},{"$f":"IF(ISBLANK(SRDB4[[#This Row],[SR-Nr]]),\"\",IF(COUNTIF(Registration!$A$7:$A$204,SRDB4[[#This Row],[SR-Nr]])=1,TRUE,FALSE))","v":""}]
[null,{"$f":"IF(ISBLANK(SRDB4[[#This Row],[SR-Nr]]),\"\",_xlfn.XLOOKUP(SRDB4[[#This Row],[SR-Nr]],SRDB[SR-Nr.],SRDB[Vorname],\"NA\",0))","v":""},{"$f":"IF(ISBLANK(SRDB4[[#This Row],[SR-Nr]]),\"\",_xlfn.XLOOKUP(SRDB4[[#This Row],[SR-Nr]],SRDB[SR-Nr.],SRDB[Name],\"NA\",0))","v":""},{"$f":"IF(ISBLANK(SRDB4[[#This Row],[SR-Nr]]),\"\",IF(COUNTIF(Registration!$A$7:$A$204,SRDB4[[#This Row],[SR-Nr]])=1,TRUE,FALSE))","v":""}]
[null,{"$f":"IF(ISBLANK(SRDB4[[#This Row],[SR-Nr]]),\"\",_xlfn.XLOOKUP(SRDB4[[#This Row],[SR-Nr]],SRDB[SR-Nr.],SRDB[Vorname],\"NA\",0))","v":""},{"$f":"IF(ISBLANK(SRDB4[[#This Row],[SR-Nr]]),\"\",_xlfn.XLOOKUP(SRDB4[[#This Row],[SR-Nr]],SRDB[SR-Nr.],SRDB[Name],\"NA\",0))","v":""},{"$f":"IF(ISBLANK(SRDB4[[#This Row],[SR-Nr]]),\"\",IF(COUNTIF(Registration!$A$7:$A$204,SRDB4[[#This Row],[SR-Nr]])=1,TRUE,FALSE))","v":""}]
[null,{"$f":"IF(ISBLANK(SRDB4[[#This Row],[SR-Nr]]),\"\",_xlfn.XLOOKUP(SRDB4[[#This Row],[SR-Nr]],SRDB[SR-Nr.],SRDB[Vorname],\"NA\",0))","v":""},{"$f":"IF(ISBLANK(SRDB4[[#This Row],[SR-Nr]]),\"\",_xlfn.XLOOKUP(SRDB4[[#This Row],[SR-Nr]],SRDB[SR-Nr.],SRDB[Name],\"NA\",0))","v":""},{"$f":"IF(ISBLANK(SRDB4[[#This Row],[SR-Nr]]),\"\",IF(COUNTIF(Registration!$A$7:$A$204,SRDB4[[#This Row],[SR-Nr]])=1,TRUE,FALSE))","v":""}]
[null,{"$f":"IF(ISBLANK(SRDB4[[#This Row],[SR-Nr]]),\"\",_xlfn.XLOOKUP(SRDB4[[#This Row],[SR-Nr]],SRDB[SR-Nr.],SRDB[Vorname],\"NA\",0))","v":""},{"$f":"IF(ISBLANK(SRDB4[[#This Row],[SR-Nr]]),\"\",_xlfn.XLOOKUP(SRDB4[[#This Row],[SR-Nr]],SRDB[SR-Nr.],SRDB[Name],\"NA\",0))","v":""},{"$f":"IF(ISBLANK(SRDB4[[#This Row],[SR-Nr]]),\"\",IF(COUNTIF(Registration!$A$7:$A$204,SRDB4[[#This Row],[SR-Nr]])=1,TRUE,FALSE))","v":""}]
[null,{"$f":"IF(ISBLANK(SRDB4[[#This Row],[SR-Nr]]),\"\",_xlfn.XLOOKUP(SRDB4[[#This Row],[SR-Nr]],SRDB[SR-Nr.],SRDB[Vorname],\"NA\",0))","v":""},{"$f":"IF(ISBLANK(SRDB4[[#This Row],[SR-Nr]]),\"\",_xlfn.XLOOKUP(SRDB4[[#This Row],[SR-Nr]],SRDB[SR-Nr.],SRDB[Name],\"NA\",0))","v":""},{"$f":"IF(ISBLANK(SRDB4[[#This Row],[SR-Nr]]),\"\",IF(COUNTIF(Registration!$A$7:$A$204,SRDB4[[#This Row],[SR-Nr]])=1,TRUE,FALSE))","v":""}]
[null,{"$f":"IF(ISBLANK(SRDB4[[#This Row],[SR-Nr]]),\"\",_xlfn.XLOOKUP(SRDB4[[#This Row],[SR-Nr]],SRDB[SR-Nr.],SRDB[Vorname],\"NA\",0))","v":""},{"$f":"IF(ISBLANK(SRDB4[[#This Row],[SR-Nr]]),\"\",_xlfn.XLOOKUP(SRDB4[[#This Row],[SR-Nr]],SRDB[SR-Nr.],SRDB[Name],\"NA\",0))","v":""},{"$f":"IF(ISBLANK(SRDB4[[#This Row],[SR-Nr]]),\"\",IF(COUNTIF(Registration!$A$7:$A$204,SRDB4[[#This Row],[SR-Nr]])=1,TRUE,FALSE))","v":""}]
[null,{"$f":"IF(ISBLANK(SRDB4[[#This Row],[SR-Nr]]),\"\",_xlfn.XLOOKUP(SRDB4[[#This Row],[SR-Nr]],SRDB[SR-Nr.],SRDB[Vorname],\"NA\",0))","v":""},{"$f":"IF(ISBLANK(SRDB4[[#This Row],[SR-Nr]]),\"\",_xlfn.XLOOKUP(SRDB4[[#This Row],[SR-Nr]],SRDB[SR-Nr.],SRDB[Name],\"NA\",0))","v":""},{"$f":"IF(ISBLANK(SRDB4[[#This Row],[SR-Nr]]),\"\",IF(COUNTIF(Registration!$A$7:$A$204,SRDB4[[#This Row],[SR-Nr]])=1,TRUE,FALSE))","v":""}]
[null,{"$f":"IF(ISBLANK(SRDB4[[#This Row],[SR-Nr]]),\"\",_xlfn.XLOOKUP(SRDB4[[#This Row],[SR-Nr]],SRDB[SR-Nr.],SRDB[Vorname],\"NA\",0))","v":""},{"$f":"IF(ISBLANK(SRDB4[[#This Row],[SR-Nr]]),\"\",_xlfn.XLOOKUP(SRDB4[[#This Row],[SR-Nr]],SRDB[SR-Nr.],SRDB[Name],\"NA\",0))","v":""},{"$f":"IF(ISBLANK(SRDB4[[#This Row],[SR-Nr]]),\"\",IF(COUNTIF(Registration!$A$7:$A$204,SRDB4[[#This Row],[SR-Nr]])=1,TRUE,FALSE))","v":""}]
[null,{"$f":"IF(ISBLANK(SRDB4[[#This Row],[SR-Nr]]),\"\",_xlfn.XLOOKUP(SRDB4[[#This Row],[SR-Nr]],SRDB[SR-Nr.],SRDB[Vorname],\"NA\",0))","v":""},{"$f":"IF(ISBLANK(SRDB4[[#This Row],[SR-Nr]]),\"\",_xlfn.XLOOKUP(SRDB4[[#This Row],[SR-Nr]],SRDB[SR-Nr.],SRDB[Name],\"NA\",0))","v":""},{"$f":"IF(ISBLANK(SRDB4[[#This Row],[SR-Nr]]),\"\",IF(COUNTIF(Registration!$A$7:$A$204,SRDB4[[#This Row],[SR-Nr]])=1,TRUE,FALSE))","v":""}]
[null,{"$f":"IF(ISBLANK(SRDB4[[#This Row],[SR-Nr]]),\"\",_xlfn.XLOOKUP(SRDB4[[#This Row],[SR-Nr]],SRDB[SR-Nr.],SRDB[Vorname],\"NA\",0))","v":""},{"$f":"IF(ISBLANK(SRDB4[[#This Row],[SR-Nr]]),\"\",_xlfn.XLOOKUP(SRDB4[[#This Row],[SR-Nr]],SRDB[SR-Nr.],SRDB[Name],\"NA\",0))","v":""},{"$f":"IF(ISBLANK(SRDB4[[#This Row],[SR-Nr]]),\"\",IF(COUNTIF(Registration!$A$7:$A$204,SRDB4[[#This Row],[SR-Nr]])=1,TRUE,FALSE))","v":""}]
[null,{"$f":"IF(ISBLANK(SRDB4[[#This Row],[SR-Nr]]),\"\",_xlfn.XLOOKUP(SRDB4[[#This Row],[SR-Nr]],SRDB[SR-Nr.],SRDB[Vorname],\"NA\",0))","v":""},{"$f":"IF(ISBLANK(SRDB4[[#This Row],[SR-Nr]]),\"\",_xlfn.XLOOKUP(SRDB4[[#This Row],[SR-Nr]],SRDB[SR-Nr.],SRDB[Name],\"NA\",0))","v":""},{"$f":"IF(ISBLANK(SRDB4[[#This Row],[SR-Nr]]),\"\",IF(COUNTIF(Registration!$A$7:$A$204,SRDB4[[#This Row],[SR-Nr]])=1,TRUE,FALSE))","v":""}]
[null,{"$f":"IF(ISBLANK(SRDB4[[#This Row],[SR-Nr]]),\"\",_xlfn.XLOOKUP(SRDB4[[#This Row],[SR-Nr]],SRDB[SR-Nr.],SRDB[Vorname],\"NA\",0))","v":""},{"$f":"IF(ISBLANK(SRDB4[[#This Row],[SR-Nr]]),\"\",_xlfn.XLOOKUP(SRDB4[[#This Row],[SR-Nr]],SRDB[SR-Nr.],SRDB[Name],\"NA\",0))","v":""},{"$f":"IF(ISBLANK(SRDB4[[#This Row],[SR-Nr]]),\"\",IF(COUNTIF(Registration!$A$7:$A$204,SRDB4[[#This Row],[SR-Nr]])=1,TRUE,FALSE))","v":""}]
[null,{"$f":"IF(ISBLANK(SRDB4[[#This Row],[SR-Nr]]),\"\",_xlfn.XLOOKUP(SRDB4[[#This Row],[SR-Nr]],SRDB[SR-Nr.],SRDB[Vorname],\"NA\",0))","v":""},{"$f":"IF(ISBLANK(SRDB4[[#This Row],[SR-Nr]]),\"\",_xlfn.XLOOKUP(SRDB4[[#This Row],[SR-Nr]],SRDB[SR-Nr.],SRDB[Name],\"NA\",0))","v":""},{"$f":"IF(ISBLANK(SRDB4[[#This Row],[SR-Nr]]),\"\",IF(COUNTIF(Registration!$A$7:$A$204,SRDB4[[#This Row],[SR-Nr]])=1,TRUE,FALSE))","v":""}]
[null,{"$f":"IF(ISBLANK(SRDB4[[#This Row],[SR-Nr]]),\"\",_xlfn.XLOOKUP(SRDB4[[#This Row],[SR-Nr]],SRDB[SR-Nr.],SRDB[Vorname],\"NA\",0))","v":""},{"$f":"IF(ISBLANK(SRDB4[[#This Row],[SR-Nr]]),\"\",_xlfn.XLOOKUP(SRDB4[[#This Row],[SR-Nr]],SRDB[SR-Nr.],SRDB[Name],\"NA\",0))","v":""},{"$f":"IF(ISBLANK(SRDB4[[#This Row],[SR-Nr]]),\"\",IF(COUNTIF(Registration!$A$7:$A$204,SRDB4[[#This Row],[SR-Nr]])=1,TRUE,FALSE))","v":""}]
[null,{"$f":"IF(ISBLANK(SRDB4[[#This Row],[SR-Nr]]),\"\",_xlfn.XLOOKUP(SRDB4[[#This Row],[SR-Nr]],SRDB[SR-Nr.],SRDB[Vorname],\"NA\",0))","v":""},{"$f":"IF(ISBLANK(SRDB4[[#This Row],[SR-Nr]]),\"\",_xlfn.XLOOKUP(SRDB4[[#This Row],[SR-Nr]],SRDB[SR-Nr.],SRDB[Name],\"NA\",0))","v":""},{"$f":"IF(ISBLANK(SRDB4[[#This Row],[SR-Nr]]),\"\",IF(COUNTIF(Registration!$A$7:$A$204,SRDB4[[#This Row],[SR-Nr]])=1,TRUE,FALSE))","v":""}]
[null,{"$f":"IF(ISBLANK(SRDB4[[#This Row],[SR-Nr]]),\"\",_xlfn.XLOOKUP(SRDB4[[#This Row],[SR-Nr]],SRDB[SR-Nr.],SRDB[Vorname],\"NA\",0))","v":""},{"$f":"IF(ISBLANK(SRDB4[[#This Row],[SR-Nr]]),\"\",_xlfn.XLOOKUP(SRDB4[[#This Row],[SR-Nr]],SRDB[SR-Nr.],SRDB[Name],\"NA\",0))","v":""},{"$f":"IF(ISBLANK(SRDB4[[#This Row],[SR-Nr]]),\"\",IF(COUNTIF(Registration!$A$7:$A$204,SRDB4[[#This Row],[SR-Nr]])=1,TRUE,FALSE))","v":""}]
[null,{"$f":"IF(ISBLANK(SRDB4[[#This Row],[SR-Nr]]),\"\",_xlfn.XLOOKUP(SRDB4[[#This Row],[SR-Nr]],SRDB[SR-Nr.],SRDB[Vorname],\"NA\",0))","v":""},{"$f":"IF(ISBLANK(SRDB4[[#This Row],[SR-Nr]]),\"\",_xlfn.XLOOKUP(SRDB4[[#This Row],[SR-Nr]],SRDB[SR-Nr.],SRDB[Name],\"NA\",0))","v":""},{"$f":"IF(ISBLANK(SRDB4[[#This Row],[SR-Nr]]),\"\",IF(COUNTIF(Registration!$A$7:$A$204,SRDB4[[#This Row],[SR-Nr]])=1,TRUE,FALSE))","v":""}]
[null,{"$f":"IF(ISBLANK(SRDB4[[#This Row],[SR-Nr]]),\"\",_xlfn.XLOOKUP(SRDB4[[#This Row],[SR-Nr]],SRDB[SR-Nr.],SRDB[Vorname],\"NA\",0))","v":""},{"$f":"IF(ISBLANK(SRDB4[[#This Row],[SR-Nr]]),\"\",_xlfn.XLOOKUP(SRDB4[[#This Row],[SR-Nr]],SRDB[SR-Nr.],SRDB[Name],\"NA\",0))","v":""},{"$f":"IF(ISBLANK(SRDB4[[#This Row],[SR-Nr]]),\"\",IF(COUNTIF(Registration!$A$7:$A$204,SRDB4[[#This Row],[SR-Nr]])=1,TRUE,FALSE))","v":""}]
[null,{"$f":"IF(ISBLANK(SRDB4[[#This Row],[SR-Nr]]),\"\",_xlfn.XLOOKUP(SRDB4[[#This Row],[SR-Nr]],SRDB[SR-Nr.],SRDB[Vorname],\"NA\",0))","v":""},{"$f":"IF(ISBLANK(SRDB4[[#This Row],[SR-Nr]]),\"\",_xlfn.XLOOKUP(SRDB4[[#This Row],[SR-Nr]],SRDB[SR-Nr.],SRDB[Name],\"NA\",0))","v":""},{"$f":"IF(ISBLANK(SRDB4[[#This Row],[SR-Nr]]),\"\",IF(COUNTIF(Registration!$A$7:$A$204,SRDB4[[#This Row],[SR-Nr]])=1,TRUE,FALSE))","v":""}]
[null,{"$f":"IF(ISBLANK(SRDB4[[#This Row],[SR-Nr]]),\"\",_xlfn.XLOOKUP(SRDB4[[#This Row],[SR-Nr]],SRDB[SR-Nr.],SRDB[Vorname],\"NA\",0))","v":""},{"$f":"IF(ISBLANK(SRDB4[[#This Row],[SR-Nr]]),\"\",_xlfn.XLOOKUP(SRDB4[[#This Row],[SR-Nr]],SRDB[SR-Nr.],SRDB[Name],\"NA\",0))","v":""},{"$f":"IF(ISBLANK(SRDB4[[#This Row],[SR-Nr]]),\"\",IF(COUNTIF(Registration!$A$7:$A$204,SRDB4[[#This Row],[SR-Nr]])=1,TRUE,FALSE))","v":""}]
[null,{"$f":"IF(ISBLANK(SRDB4[[#This Row],[SR-Nr]]),\"\",_xlfn.XLOOKUP(SRDB4[[#This Row],[SR-Nr]],SRDB[SR-Nr.],SRDB[Vorname],\"NA\",0))","v":""},{"$f":"IF(ISBLANK(SRDB4[[#This Row],[SR-Nr]]),\"\",_xlfn.XLOOKUP(SRDB4[[#This Row],[SR-Nr]],SRDB[SR-Nr.],SRDB[Name],\"NA\",0))","v":""},{"$f":"IF(ISBLANK(SRDB4[[#This Row],[SR-Nr]]),\"\",IF(COUNTIF(Registration!$A$7:$A$204,SRDB4[[#This Row],[SR-Nr]])=1,TRUE,FALSE))","v":""}]
[null,{"$f":"IF(ISBLANK(SRDB4[[#This Row],[SR-Nr]]),\"\",_xlfn.XLOOKUP(SRDB4[[#This Row],[SR-Nr]],SRDB[SR-Nr.],SRDB[Vorname],\"NA\",0))","v":""},{"$f":"IF(ISBLANK(SRDB4[[#This Row],[SR-Nr]]),\"\",_xlfn.XLOOKUP(SRDB4[[#This Row],[SR-Nr]],SRDB[SR-Nr.],SRDB[Name],\"NA\",0))","v":""},{"$f":"IF(ISBLANK(SRDB4[[#This Row],[SR-Nr]]),\"\",IF(COUNTIF(Registration!$A$7:$A$204,SRDB4[[#This Row],[SR-Nr]])=1,TRUE,FALSE))","v":""}]
[null,{"$f":"IF(ISBLANK(SRDB4[[#This Row],[SR-Nr]]),\"\",_xlfn.XLOOKUP(SRDB4[[#This Row],[SR-Nr]],SRDB[SR-Nr.],SRDB[Vorname],\"NA\",0))","v":""},{"$f":"IF(ISBLANK(SRDB4[[#This Row],[SR-Nr]]),\"\",_xlfn.XLOOKUP(SRDB4[[#This Row],[SR-Nr]],SRDB[SR-Nr.],SRDB[Name],\"NA\",0))","v":""},{"$f":"IF(ISBLANK(SRDB4[[#This Row],[SR-Nr]]),\"\",IF(COUNTIF(Registration!$A$7:$A$204,SRDB4[[#This Row],[SR-Nr]])=1,TRUE,FALSE))","v":""}]
[null,{"$f":"IF(ISBLANK(SRDB4[[#This Row],[SR-Nr]]),\"\",_xlfn.XLOOKUP(SRDB4[[#This Row],[SR-Nr]],SRDB[SR-Nr.],SRDB[Vorname],\"NA\",0))","v":""},{"$f":"IF(ISBLANK(SRDB4[[#This Row],[SR-Nr]]),\"\",_xlfn.XLOOKUP(SRDB4[[#This Row],[SR-Nr]],SRDB[SR-Nr.],SRDB[Name],\"NA\",0))","v":""},{"$f":"IF(ISBLANK(SRDB4[[#This Row],[SR-Nr]]),\"\",IF(COUNTIF(Registration!$A$7:$A$204,SRDB4[[#This Row],[SR-Nr]])=1,TRUE,FALSE))","v":""}]
[null,{"$f":"IF(ISBLANK(SRDB4[[#This Row],[SR-Nr]]),\"\",_xlfn.XLOOKUP(SRDB4[[#This Row],[SR-Nr]],SRDB[SR-Nr.],SRDB[Vorname],\"NA\",0))","v":""},{"$f":"IF(ISBLANK(SRDB4[[#This Row],[SR-Nr]]),\"\",_xlfn.XLOOKUP(SRDB4[[#This Row],[SR-Nr]],SRDB[SR-Nr.],SRDB[Name],\"NA\",0))","v":""},{"$f":"IF(ISBLANK(SRDB4[[#This Row],[SR-Nr]]),\"\",IF(COUNTIF(Registration!$A$7:$A$204,SRDB4[[#This Row],[SR-Nr]])=1,TRUE,FALSE))","v":""}]
[null,{"$f":"IF(ISBLANK(SRDB4[[#This Row],[SR-Nr]]),\"\",_xlfn.XLOOKUP(SRDB4[[#This Row],[SR-Nr]],SRDB[SR-Nr.],SRDB[Vorname],\"NA\",0))","v":""},{"$f":"IF(ISBLANK(SRDB4[[#This Row],[SR-Nr]]),\"\",_xlfn.XLOOKUP(SRDB4[[#This Row],[SR-Nr]],SRDB[SR-Nr.],SRDB[Name],\"NA\",0))","v":""},{"$f":"IF(ISBLANK(SRDB4[[#This Row],[SR-Nr]]),\"\",IF(COUNTIF(Registration!$A$7:$A$204,SRDB4[[#This Row],[SR-Nr]])=1,TRUE,FALSE))","v":""}]
[null,{"$f":"IF(ISBLANK(SRDB4[[#This Row],[SR-Nr]]),\"\",_xlfn.XLOOKUP(SRDB4[[#This Row],[SR-Nr]],SRDB[SR-Nr.],SRDB[Vorname],\"NA\",0))","v":""},{"$f":"IF(ISBLANK(SRDB4[[#This Row],[SR-Nr]]),\"\",_xlfn.XLOOKUP(SRDB4[[#This Row],[SR-Nr]],SRDB[SR-Nr.],SRDB[Name],\"NA\",0))","v":""},{"$f":"IF(ISBLANK(SRDB4[[#This Row],[SR-Nr]]),\"\",IF(COUNTIF(Registration!$A$7:$A$204,SRDB4[[#This Row],[SR-Nr]])=1,TRUE,FALSE))","v":""}]
[null,{"$f":"IF(ISBLANK(SRDB4[[#This Row],[SR-Nr]]),\"\",_xlfn.XLOOKUP(SRDB4[[#This Row],[SR-Nr]],SRDB[SR-Nr.],SRDB[Vorname],\"NA\",0))","v":""},{"$f":"IF(ISBLANK(SRDB4[[#This Row],[SR-Nr]]),\"\",_xlfn.XLOOKUP(SRDB4[[#This Row],[SR-Nr]],SRDB[SR-Nr.],SRDB[Name],\"NA\",0))","v":""},{"$f":"IF(ISBLANK(SRDB4[[#This Row],[SR-Nr]]),\"\",IF(COUNTIF(Registration!$A$7:$A$204,SRDB4[[#This Row],[SR-Nr]])=1,TRUE,FALSE))","v":""}]
[null,{"$f":"IF(ISBLANK(SRDB4[[#This Row],[SR-Nr]]),\"\",_xlfn.XLOOKUP(SRDB4[[#This Row],[SR-Nr]],SRDB[SR-Nr.],SRDB[Vorname],\"NA\",0))","v":""},{"$f":"IF(ISBLANK(SRDB4[[#This Row],[SR-Nr]]),\"\",_xlfn.XLOOKUP(SRDB4[[#This Row],[SR-Nr]],SRDB[SR-Nr.],SRDB[Name],\"NA\",0))","v":""},{"$f":"IF(ISBLANK(SRDB4[[#This Row],[SR-Nr]]),\"\",IF(COUNTIF(Registration!$A$7:$A$204,SRDB4[[#This Row],[SR-Nr]])=1,TRUE,FALSE))","v":""}]
[null,{"$f":"IF(ISBLANK(SRDB4[[#This Row],[SR-Nr]]),\"\",_xlfn.XLOOKUP(SRDB4[[#This Row],[SR-Nr]],SRDB[SR-Nr.],SRDB[Vorname],\"NA\",0))","v":""},{"$f":"IF(ISBLANK(SRDB4[[#This Row],[SR-Nr]]),\"\",_xlfn.XLOOKUP(SRDB4[[#This Row],[SR-Nr]],SRDB[SR-Nr.],SRDB[Name],\"NA\",0))","v":""},{"$f":"IF(ISBLANK(SRDB4[[#This Row],[SR-Nr]]),\"\",IF(COUNTIF(Registration!$A$7:$A$204,SRDB4[[#This Row],[SR-Nr]])=1,TRUE,FALSE))","v":""}]
[null,{"$f":"IF(ISBLANK(SRDB4[[#This Row],[SR-Nr]]),\"\",_xlfn.XLOOKUP(SRDB4[[#This Row],[SR-Nr]],SRDB[SR-Nr.],SRDB[Vorname],\"NA\",0))","v":""},{"$f":"IF(ISBLANK(SRDB4[[#This Row],[SR-Nr]]),\"\",_xlfn.XLOOKUP(SRDB4[[#This Row],[SR-Nr]],SRDB[SR-Nr.],SRDB[Name],\"NA\",0))","v":""},{"$f":"IF(ISBLANK(SRDB4[[#This Row],[SR-Nr]]),\"\",IF(COUNTIF(Registration!$A$7:$A$204,SRDB4[[#This Row],[SR-Nr]])=1,TRUE,FALSE))","v":""}]
[null,{"$f":"IF(ISBLANK(SRDB4[[#This Row],[SR-Nr]]),\"\",_xlfn.XLOOKUP(SRDB4[[#This Row],[SR-Nr]],SRDB[SR-Nr.],SRDB[Vorname],\"NA\",0))","v":""},{"$f":"IF(ISBLANK(SRDB4[[#This Row],[SR-Nr]]),\"\",_xlfn.XLOOKUP(SRDB4[[#This Row],[SR-Nr]],SRDB[SR-Nr.],SRDB[Name],\"NA\",0))","v":""},{"$f":"IF(ISBLANK(SRDB4[[#This Row],[SR-Nr]]),\"\",IF(COUNTIF(Registration!$A$7:$A$204,SRDB4[[#This Row],[SR-Nr]])=1,TRUE,FALSE))","v":""}]
[null,{"$f":"IF(ISBLANK(SRDB4[[#This Row],[SR-Nr]]),\"\",_xlfn.XLOOKUP(SRDB4[[#This Row],[SR-Nr]],SRDB[SR-Nr.],SRDB[Vorname],\"NA\",0))","v":""},{"$f":"IF(ISBLANK(SRDB4[[#This Row],[SR-Nr]]),\"\",_xlfn.XLOOKUP(SRDB4[[#This Row],[SR-Nr]],SRDB[SR-Nr.],SRDB[Name],\"NA\",0))","v":""},{"$f":"IF(ISBLANK(SRDB4[[#This Row],[SR-Nr]]),\"\",IF(COUNTIF(Registration!$A$7:$A$204,SRDB4[[#This Row],[SR-Nr]])=1,TRUE,FALSE))","v":""}]
[null,{"$f":"IF(ISBLANK(SRDB4[[#This Row],[SR-Nr]]),\"\",_xlfn.XLOOKUP(SRDB4[[#This Row],[SR-Nr]],SRDB[SR-Nr.],SRDB[Vorname],\"NA\",0))","v":""},{"$f":"IF(ISBLANK(SRDB4[[#This Row],[SR-Nr]]),\"\",_xlfn.XLOOKUP(SRDB4[[#This Row],[SR-Nr]],SRDB[SR-Nr.],SRDB[Name],\"NA\",0))","v":""},{"$f":"IF(ISBLANK(SRDB4[[#This Row],[SR-Nr]]),\"\",IF(COUNTIF(Registration!$A$7:$A$204,SRDB4[[#This Row],[SR-Nr]])=1,TRUE,FALSE))","v":""}]
[null,{"$f":"IF(ISBLANK(SRDB4[[#This Row],[SR-Nr]]),\"\",_xlfn.XLOOKUP(SRDB4[[#This Row],[SR-Nr]],SRDB[SR-Nr.],SRDB[Vorname],\"NA\",0))","v":""},{"$f":"IF(ISBLANK(SRDB4[[#This Row],[SR-Nr]]),\"\",_xlfn.XLOOKUP(SRDB4[[#This Row],[SR-Nr]],SRDB[SR-Nr.],SRDB[Name],\"NA\",0))","v":""},{"$f":"IF(ISBLANK(SRDB4[[#This Row],[SR-Nr]]),\"\",IF(COUNTIF(Registration!$A$7:$A$204,SRDB4[[#This Row],[SR-Nr]])=1,TRUE,FALSE))","v":""}]
[null,{"$f":"IF(ISBLANK(SRDB4[[#This Row],[SR-Nr]]),\"\",_xlfn.XLOOKUP(SRDB4[[#This Row],[SR-Nr]],SRDB[SR-Nr.],SRDB[Vorname],\"NA\",0))","v":""},{"$f":"IF(ISBLANK(SRDB4[[#This Row],[SR-Nr]]),\"\",_xlfn.XLOOKUP(SRDB4[[#This Row],[SR-Nr]],SRDB[SR-Nr.],SRDB[Name],\"NA\",0))","v":""},{"$f":"IF(ISBLANK(SRDB4[[#This Row],[SR-Nr]]),\"\",IF(COUNTIF(Registration!$A$7:$A$204,SRDB4[[#This Row],[SR-Nr]])=1,TRUE,FALSE))","v":""}]
[null,{"$f":"IF(ISBLANK(SRDB4[[#This Row],[SR-Nr]]),\"\",_xlfn.XLOOKUP(SRDB4[[#This Row],[SR-Nr]],SRDB[SR-Nr.],SRDB[Vorname],\"NA\",0))","v":""},{"$f":"IF(ISBLANK(SRDB4[[#This Row],[SR-Nr]]),\"\",_xlfn.XLOOKUP(SRDB4[[#This Row],[SR-Nr]],SRDB[SR-Nr.],SRDB[Name],\"NA\",0))","v":""},{"$f":"IF(ISBLANK(SRDB4[[#This Row],[SR-Nr]]),\"\",IF(COUNTIF(Registration!$A$7:$A$204,SRDB4[[#This Row],[SR-Nr]])=1,TRUE,FALSE))","v":""}]
[null,{"$f":"IF(ISBLANK(SRDB4[[#This Row],[SR-Nr]]),\"\",_xlfn.XLOOKUP(SRDB4[[#This Row],[SR-Nr]],SRDB[SR-Nr.],SRDB[Vorname],\"NA\",0))","v":""},{"$f":"IF(ISBLANK(SRDB4[[#This Row],[SR-Nr]]),\"\",_xlfn.XLOOKUP(SRDB4[[#This Row],[SR-Nr]],SRDB[SR-Nr.],SRDB[Name],\"NA\",0))","v":""},{"$f":"IF(ISBLANK(SRDB4[[#This Row],[SR-Nr]]),\"\",IF(COUNTIF(Registration!$A$7:$A$204,SRDB4[[#This Row],[SR-Nr]])=1,TRUE,FALSE))","v":""}]
[null,{"$f":"IF(ISBLANK(SRDB4[[#This Row],[SR-Nr]]),\"\",_xlfn.XLOOKUP(SRDB4[[#This Row],[SR-Nr]],SRDB[SR-Nr.],SRDB[Vorname],\"NA\",0))","v":""},{"$f":"IF(ISBLANK(SRDB4[[#This Row],[SR-Nr]]),\"\",_xlfn.XLOOKUP(SRDB4[[#This Row],[SR-Nr]],SRDB[SR-Nr.],SRDB[Name],\"NA\",0))","v":""},{"$f":"IF(ISBLANK(SRDB4[[#This Row],[SR-Nr]]),\"\",IF(COUNTIF(Registration!$A$7:$A$204,SRDB4[[#This Row],[SR-Nr]])=1,TRUE,FALSE))","v":""}]
[null,{"$f":"IF(ISBLANK(SRDB4[[#This Row],[SR-Nr]]),\"\",_xlfn.XLOOKUP(SRDB4[[#This Row],[SR-Nr]],SRDB[SR-Nr.],SRDB[Vorname],\"NA\",0))","v":""},{"$f":"IF(ISBLANK(SRDB4[[#This Row],[SR-Nr]]),\"\",_xlfn.XLOOKUP(SRDB4[[#This Row],[SR-Nr]],SRDB[SR-Nr.],SRDB[Name],\"NA\",0))","v":""},{"$f":"IF(ISBLANK(SRDB4[[#This Row],[SR-Nr]]),\"\",IF(COUNTIF(Registration!$A$7:$A$204,SRDB4[[#This Row],[SR-Nr]])=1,TRUE,FALSE))","v":""}]
[null,{"$f":"IF(ISBLANK(SRDB4[[#This Row],[SR-Nr]]),\"\",_xlfn.XLOOKUP(SRDB4[[#This Row],[SR-Nr]],SRDB[SR-Nr.],SRDB[Vorname],\"NA\",0))","v":""},{"$f":"IF(ISBLANK(SRDB4[[#This Row],[SR-Nr]]),\"\",_xlfn.XLOOKUP(SRDB4[[#This Row],[SR-Nr]],SRDB[SR-Nr.],SRDB[Name],\"NA\",0))","v":""},{"$f":"IF(ISBLANK(SRDB4[[#This Row],[SR-Nr]]),\"\",IF(COUNTIF(Registration!$A$7:$A$204,SRDB4[[#This Row],[SR-Nr]])=1,TRUE,FALSE))","v":""}]
[null,{"$f":"IF(ISBLANK(SRDB4[[#This Row],[SR-Nr]]),\"\",_xlfn.XLOOKUP(SRDB4[[#This Row],[SR-Nr]],SRDB[SR-Nr.],SRDB[Vorname],\"NA\",0))","v":""},{"$f":"IF(ISBLANK(SRDB4[[#This Row],[SR-Nr]]),\"\",_xlfn.XLOOKUP(SRDB4[[#This Row],[SR-Nr]],SRDB[SR-Nr.],SRDB[Name],\"NA\",0))","v":""},{"$f":"IF(ISBLANK(SRDB4[[#This Row],[SR-Nr]]),\"\",IF(COUNTIF(Registration!$A$7:$A$204,SRDB4[[#This Row],[SR-Nr]])=1,TRUE,FALSE))","v":""}]
[null,{"$f":"IF(ISBLANK(SRDB4[[#This Row],[SR-Nr]]),\"\",_xlfn.XLOOKUP(SRDB4[[#This Row],[SR-Nr]],SRDB[SR-Nr.],SRDB[Vorname],\"NA\",0))","v":""},{"$f":"IF(ISBLANK(SRDB4[[#This Row],[SR-Nr]]),\"\",_xlfn.XLOOKUP(SRDB4[[#This Row],[SR-Nr]],SRDB[SR-Nr.],SRDB[Name],\"NA\",0))","v":""},{"$f":"IF(ISBLANK(SRDB4[[#This Row],[SR-Nr]]),\"\",IF(COUNTIF(Registration!$A$7:$A$204,SRDB4[[#This Row],[SR-Nr]])=1,TRUE,FALSE))","v":""}]
[null,{"$f":"IF(ISBLANK(SRDB4[[#This Row],[SR-Nr]]),\"\",_xlfn.XLOOKUP(SRDB4[[#This Row],[SR-Nr]],SRDB[SR-Nr.],SRDB[Vorname],\"NA\",0))","v":""},{"$f":"IF(ISBLANK(SRDB4[[#This Row],[SR-Nr]]),\"\",_xlfn.XLOOKUP(SRDB4[[#This Row],[SR-Nr]],SRDB[SR-Nr.],SRDB[Name],\"NA\",0))","v":""},{"$f":"IF(ISBLANK(SRDB4[[#This Row],[SR-Nr]]),\"\",IF(COUNTIF(Registration!$A$7:$A$204,SRDB4[[#This Row],[SR-Nr]])=1,TRUE,FALSE))","v":""}]
[null,{"$f":"IF(ISBLANK(SRDB4[[#This Row],[SR-Nr]]),\"\",_xlfn.XLOOKUP(SRDB4[[#This Row],[SR-Nr]],SRDB[SR-Nr.],SRDB[Vorname],\"NA\",0))","v":""},{"$f":"IF(ISBLANK(SRDB4[[#This Row],[SR-Nr]]),\"\",_xlfn.XLOOKUP(SRDB4[[#This Row],[SR-Nr]],SRDB[SR-Nr.],SRDB[Name],\"NA\",0))","v":""},{"$f":"IF(ISBLANK(SRDB4[[#This Row],[SR-Nr]]),\"\",IF(COUNTIF(Registration!$A$7:$A$204,SRDB4[[#This Row],[SR-Nr]])=1,TRUE,FALSE))","v":""}]
[null,{"$f":"IF(ISBLANK(SRDB4[[#This Row],[SR-Nr]]),\"\",_xlfn.XLOOKUP(SRDB4[[#This Row],[SR-Nr]],SRDB[SR-Nr.],SRDB[Vorname],\"NA\",0))","v":""},{"$f":"IF(ISBLANK(SRDB4[[#This Row],[SR-Nr]]),\"\",_xlfn.XLOOKUP(SRDB4[[#This Row],[SR-Nr]],SRDB[SR-Nr.],SRDB[Name],\"NA\",0))","v":""},{"$f":"IF(ISBLANK(SRDB4[[#This Row],[SR-Nr]]),\"\",IF(COUNTIF(Registration!$A$7:$A$204,SRDB4[[#This Row],[SR-Nr]])=1,TRUE,FALSE))","v":""}]
[null,{"$f":"IF(ISBLANK(SRDB4[[#This Row],[SR-Nr]]),\"\",_xlfn.XLOOKUP(SRDB4[[#This Row],[SR-Nr]],SRDB[SR-Nr.],SRDB[Vorname],\"NA\",0))","v":""},{"$f":"IF(ISBLANK(SRDB4[[#This Row],[SR-Nr]]),\"\",_xlfn.XLOOKUP(SRDB4[[#This Row],[SR-Nr]],SRDB[SR-Nr.],SRDB[Name],\"NA\",0))","v":""},{"$f":"IF(ISBLANK(SRDB4[[#This Row],[SR-Nr]]),\"\",IF(COUNTIF(Registration!$A$7:$A$204,SRDB4[[#This Row],[SR-Nr]])=1,TRUE,FALSE))","v":""}]
[null,{"$f":"IF(ISBLANK(SRDB4[[#This Row],[SR-Nr]]),\"\",_xlfn.XLOOKUP(SRDB4[[#This Row],[SR-Nr]],SRDB[SR-Nr.],SRDB[Vorname],\"NA\",0))","v":""},{"$f":"IF(ISBLANK(SRDB4[[#This Row],[SR-Nr]]),\"\",_xlfn.XLOOKUP(SRDB4[[#This Row],[SR-Nr]],SRDB[SR-Nr.],SRDB[Name],\"NA\",0))","v":""},{"$f":"IF(ISBLANK(SRDB4[[#This Row],[SR-Nr]]),\"\",IF(COUNTIF(Registration!$A$7:$A$204,SRDB4[[#This Row],[SR-Nr]])=1,TRUE,FALSE))","v":""}]
[null,{"$f":"IF(ISBLANK(SRDB4[[#This Row],[SR-Nr]]),\"\",_xlfn.XLOOKUP(SRDB4[[#This Row],[SR-Nr]],SRDB[SR-Nr.],SRDB[Vorname],\"NA\",0))","v":""},{"$f":"IF(ISBLANK(SRDB4[[#This Row],[SR-Nr]]),\"\",_xlfn.XLOOKUP(SRDB4[[#This Row],[SR-Nr]],SRDB[SR-Nr.],SRDB[Name],\"NA\",0))","v":""},{"$f":"IF(ISBLANK(SRDB4[[#This Row],[SR-Nr]]),\"\",IF(COUNTIF(Registration!$A$7:$A$204,SRDB4[[#This Row],[SR-Nr]])=1,TRUE,FALSE))","v":""}]
[null,{"$f":"IF(ISBLANK(SRDB4[[#This Row],[SR-Nr]]),\"\",_xlfn.XLOOKUP(SRDB4[[#This Row],[SR-Nr]],SRDB[SR-Nr.],SRDB[Vorname],\"NA\",0))","v":""},{"$f":"IF(ISBLANK(SRDB4[[#This Row],[SR-Nr]]),\"\",_xlfn.XLOOKUP(SRDB4[[#This Row],[SR-Nr]],SRDB[SR-Nr.],SRDB[Name],\"NA\",0))","v":""},{"$f":"IF(ISBLANK(SRDB4[[#This Row],[SR-Nr]]),\"\",IF(COUNTIF(Registration!$A$7:$A$204,SRDB4[[#This Row],[SR-Nr]])=1,TRUE,FALSE))","v":""}]
[null,{"$f":"IF(ISBLANK(SRDB4[[#This Row],[SR-Nr]]),\"\",_xlfn.XLOOKUP(SRDB4[[#This Row],[SR-Nr]],SRDB[SR-Nr.],SRDB[Vorname],\"NA\",0))","v":""},{"$f":"IF(ISBLANK(SRDB4[[#This Row],[SR-Nr]]),\"\",_xlfn.XLOOKUP(SRDB4[[#This Row],[SR-Nr]],SRDB[SR-Nr.],SRDB[Name],\"NA\",0))","v":""},{"$f":"IF(ISBLANK(SRDB4[[#This Row],[SR-Nr]]),\"\",IF(COUNTIF(Registration!$A$7:$A$204,SRDB4[[#This Row],[SR-Nr]])=1,TRUE,FALSE))","v":""}]
[null,{"$f":"IF(ISBLANK(SRDB4[[#This Row],[SR-Nr]]),\"\",_xlfn.XLOOKUP(SRDB4[[#This Row],[SR-Nr]],SRDB[SR-Nr.],SRDB[Vorname],\"NA\",0))","v":""},{"$f":"IF(ISBLANK(SRDB4[[#This Row],[SR-Nr]]),\"\",_xlfn.XLOOKUP(SRDB4[[#This Row],[SR-Nr]],SRDB[SR-Nr.],SRDB[Name],\"NA\",0))","v":""},{"$f":"IF(ISBLANK(SRDB4[[#This Row],[SR-Nr]]),\"\",IF(COUNTIF(Registration!$A$7:$A$204,SRDB4[[#This Row],[SR-Nr]])=1,TRUE,FALSE))","v":""}]
[null,{"$f":"IF(ISBLANK(SRDB4[[#This Row],[SR-Nr]]),\"\",_xlfn.XLOOKUP(SRDB4[[#This Row],[SR-Nr]],SRDB[SR-Nr.],SRDB[Vorname],\"NA\",0))","v":""},{"$f":"IF(ISBLANK(SRDB4[[#This Row],[SR-Nr]]),\"\",_xlfn.XLOOKUP(SRDB4[[#This Row],[SR-Nr]],SRDB[SR-Nr.],SRDB[Name],\"NA\",0))","v":""},{"$f":"IF(ISBLANK(SRDB4[[#This Row],[SR-Nr]]),\"\",IF(COUNTIF(Registration!$A$7:$A$204,SRDB4[[#This Row],[SR-Nr]])=1,TRUE,FALSE))","v":""}]
[null,{"$f":"IF(ISBLANK(SRDB4[[#This Row],[SR-Nr]]),\"\",_xlfn.XLOOKUP(SRDB4[[#This Row],[SR-Nr]],SRDB[SR-Nr.],SRDB[Vorname],\"NA\",0))","v":""},{"$f":"IF(ISBLANK(SRDB4[[#This Row],[SR-Nr]]),\"\",_xlfn.XLOOKUP(SRDB4[[#This Row],[SR-Nr]],SRDB[SR-Nr.],SRDB[Name],\"NA\",0))","v":""},{"$f":"IF(ISBLANK(SRDB4[[#This Row],[SR-Nr]]),\"\",IF(COUNTIF(Registration!$A$7:$A$204,SRDB4[[#This Row],[SR-Nr]])=1,TRUE,FALSE))","v":""}]
[null,{"$f":"IF(ISBLANK(SRDB4[[#This Row],[SR-Nr]]),\"\",_xlfn.XLOOKUP(SRDB4[[#This Row],[SR-Nr]],SRDB[SR-Nr.],SRDB[Vorname],\"NA\",0))","v":""},{"$f":"IF(ISBLANK(SRDB4[[#This Row],[SR-Nr]]),\"\",_xlfn.XLOOKUP(SRDB4[[#This Row],[SR-Nr]],SRDB[SR-Nr.],SRDB[Name],\"NA\",0))","v":""},{"$f":"IF(ISBLANK(SRDB4[[#This Row],[SR-Nr]]),\"\",IF(COUNTIF(Registration!$A$7:$A$204,SRDB4[[#This Row],[SR-Nr]])=1,TRUE,FALSE))","v":""}]
[null,{"$f":"IF(ISBLANK(SRDB4[[#This Row],[SR-Nr]]),\"\",_xlfn.XLOOKUP(SRDB4[[#This Row],[SR-Nr]],SRDB[SR-Nr.],SRDB[Vorname],\"NA\",0))","v":""},{"$f":"IF(ISBLANK(SRDB4[[#This Row],[SR-Nr]]),\"\",_xlfn.XLOOKUP(SRDB4[[#This Row],[SR-Nr]],SRDB[SR-Nr.],SRDB[Name],\"NA\",0))","v":""},{"$f":"IF(ISBLANK(SRDB4[[#This Row],[SR-Nr]]),\"\",IF(COUNTIF(Registration!$A$7:$A$204,SRDB4[[#This Row],[SR-Nr]])=1,TRUE,FALSE))","v":""}]
[null,{"$f":"IF(ISBLANK(SRDB4[[#This Row],[SR-Nr]]),\"\",_xlfn.XLOOKUP(SRDB4[[#This Row],[SR-Nr]],SRDB[SR-Nr.],SRDB[Vorname],\"NA\",0))","v":""},{"$f":"IF(ISBLANK(SRDB4[[#This Row],[SR-Nr]]),\"\",_xlfn.XLOOKUP(SRDB4[[#This Row],[SR-Nr]],SRDB[SR-Nr.],SRDB[Name],\"NA\",0))","v":""},{"$f":"IF(ISBLANK(SRDB4[[#This Row],[SR-Nr]]),\"\",IF(COUNTIF(Registration!$A$7:$A$204,SRDB4[[#This Row],[SR-Nr]])=1,TRUE,FALSE))","v":""}]
[null,{"$f":"IF(ISBLANK(SRDB4[[#This Row],[SR-Nr]]),\"\",_xlfn.XLOOKUP(SRDB4[[#This Row],[SR-Nr]],SRDB[SR-Nr.],SRDB[Vorname],\"NA\",0))","v":""},{"$f":"IF(ISBLANK(SRDB4[[#This Row],[SR-Nr]]),\"\",_xlfn.XLOOKUP(SRDB4[[#This Row],[SR-Nr]],SRDB[SR-Nr.],SRDB[Name],\"NA\",0))","v":""},{"$f":"IF(ISBLANK(SRDB4[[#This Row],[SR-Nr]]),\"\",IF(COUNTIF(Registration!$A$7:$A$204,SRDB4[[#This Row],[SR-Nr]])=1,TRUE,FALSE))","v":""}]
[null,{"$f":"IF(ISBLANK(SRDB4[[#This Row],[SR-Nr]]),\"\",_xlfn.XLOOKUP(SRDB4[[#This Row],[SR-Nr]],SRDB[SR-Nr.],SRDB[Vorname],\"NA\",0))","v":""},{"$f":"IF(ISBLANK(SRDB4[[#This Row],[SR-Nr]]),\"\",_xlfn.XLOOKUP(SRDB4[[#This Row],[SR-Nr]],SRDB[SR-Nr.],SRDB[Name],\"NA\",0))","v":""},{"$f":"IF(ISBLANK(SRDB4[[#This Row],[SR-Nr]]),\"\",IF(COUNTIF(Registration!$A$7:$A$204,SRDB4[[#This Row],[SR-Nr]])=1,TRUE,FALSE))","v":""}]
[null,{"$f":"IF(ISBLANK(SRDB4[[#This Row],[SR-Nr]]),\"\",_xlfn.XLOOKUP(SRDB4[[#This Row],[SR-Nr]],SRDB[SR-Nr.],SRDB[Vorname],\"NA\",0))","v":""},{"$f":"IF(ISBLANK(SRDB4[[#This Row],[SR-Nr]]),\"\",_xlfn.XLOOKUP(SRDB4[[#This Row],[SR-Nr]],SRDB[SR-Nr.],SRDB[Name],\"NA\",0))","v":""},{"$f":"IF(ISBLANK(SRDB4[[#This Row],[SR-Nr]]),\"\",IF(COUNTIF(Registration!$A$7:$A$204,SRDB4[[#This Row],[SR-Nr]])=1,TRUE,FALSE))","v":""}]
[null,{"$f":"IF(ISBLANK(SRDB4[[#This Row],[SR-Nr]]),\"\",_xlfn.XLOOKUP(SRDB4[[#This Row],[SR-Nr]],SRDB[SR-Nr.],SRDB[Vorname],\"NA\",0))","v":""},{"$f":"IF(ISBLANK(SRDB4[[#This Row],[SR-Nr]]),\"\",_xlfn.XLOOKUP(SRDB4[[#This Row],[SR-Nr]],SRDB[SR-Nr.],SRDB[Name],\"NA\",0))","v":""},{"$f":"IF(ISBLANK(SRDB4[[#This Row],[SR-Nr]]),\"\",IF(COUNTIF(Registration!$A$7:$A$204,SRDB4[[#This Row],[SR-Nr]])=1,TRUE,FALSE))","v":""}]
[null,{"$f":"IF(ISBLANK(SRDB4[[#This Row],[SR-Nr]]),\"\",_xlfn.XLOOKUP(SRDB4[[#This Row],[SR-Nr]],SRDB[SR-Nr.],SRDB[Vorname],\"NA\",0))","v":""},{"$f":"IF(ISBLANK(SRDB4[[#This Row],[SR-Nr]]),\"\",_xlfn.XLOOKUP(SRDB4[[#This Row],[SR-Nr]],SRDB[SR-Nr.],SRDB[Name],\"NA\",0))","v":""},{"$f":"IF(ISBLANK(SRDB4[[#This Row],[SR-Nr]]),\"\",IF(COUNTIF(Registration!$A$7:$A$204,SRDB4[[#This Row],[SR-Nr]])=1,TRUE,FALSE))","v":""}]
[null,{"$f":"IF(ISBLANK(SRDB4[[#This Row],[SR-Nr]]),\"\",_xlfn.XLOOKUP(SRDB4[[#This Row],[SR-Nr]],SRDB[SR-Nr.],SRDB[Vorname],\"NA\",0))","v":""},{"$f":"IF(ISBLANK(SRDB4[[#This Row],[SR-Nr]]),\"\",_xlfn.XLOOKUP(SRDB4[[#This Row],[SR-Nr]],SRDB[SR-Nr.],SRDB[Name],\"NA\",0))","v":""},{"$f":"IF(ISBLANK(SRDB4[[#This Row],[SR-Nr]]),\"\",IF(COUNTIF(Registration!$A$7:$A$204,SRDB4[[#This Row],[SR-Nr]])=1,TRUE,FALSE))","v":""}]
[null,{"$f":"IF(ISBLANK(SRDB4[[#This Row],[SR-Nr]]),\"\",_xlfn.XLOOKUP(SRDB4[[#This Row],[SR-Nr]],SRDB[SR-Nr.],SRDB[Vorname],\"NA\",0))","v":""},{"$f":"IF(ISBLANK(SRDB4[[#This Row],[SR-Nr]]),\"\",_xlfn.XLOOKUP(SRDB4[[#This Row],[SR-Nr]],SRDB[SR-Nr.],SRDB[Name],\"NA\",0))","v":""},{"$f":"IF(ISBLANK(SRDB4[[#This Row],[SR-Nr]]),\"\",IF(COUNTIF(Registration!$A$7:$A$204,SRDB4[[#This Row],[SR-Nr]])=1,TRUE,FALSE))","v":""}]
[null,{"$f":"IF(ISBLANK(SRDB4[[#This Row],[SR-Nr]]),\"\",_xlfn.XLOOKUP(SRDB4[[#This Row],[SR-Nr]],SRDB[SR-Nr.],SRDB[Vorname],\"NA\",0))","v":""},{"$f":"IF(ISBLANK(SRDB4[[#This Row],[SR-Nr]]),\"\",_xlfn.XLOOKUP(SRDB4[[#This Row],[SR-Nr]],SRDB[SR-Nr.],SRDB[Name],\"NA\",0))","v":""},{"$f":"IF(ISBLANK(SRDB4[[#This Row],[SR-Nr]]),\"\",IF(COUNTIF(Registration!$A$7:$A$204,SRDB4[[#This Row],[SR-Nr]])=1,TRUE,FALSE))","v":""}]
[null,{"$f":"IF(ISBLANK(SRDB4[[#This Row],[SR-Nr]]),\"\",_xlfn.XLOOKUP(SRDB4[[#This Row],[SR-Nr]],SRDB[SR-Nr.],SRDB[Vorname],\"NA\",0))","v":""},{"$f":"IF(ISBLANK(SRDB4[[#This Row],[SR-Nr]]),\"\",_xlfn.XLOOKUP(SRDB4[[#This Row],[SR-Nr]],SRDB[SR-Nr.],SRDB[Name],\"NA\",0))","v":""},{"$f":"IF(ISBLANK(SRDB4[[#This Row],[SR-Nr]]),\"\",IF(COUNTIF(Registration!$A$7:$A$204,SRDB4[[#This Row],[SR-Nr]])=1,TRUE,FALSE))","v":""}]
[null,{"$f":"IF(ISBLANK(SRDB4[[#This Row],[SR-Nr]]),\"\",_xlfn.XLOOKUP(SRDB4[[#This Row],[SR-Nr]],SRDB[SR-Nr.],SRDB[Vorname],\"NA\",0))","v":""},{"$f":"IF(ISBLANK(SRDB4[[#This Row],[SR-Nr]]),\"\",_xlfn.XLOOKUP(SRDB4[[#This Row],[SR-Nr]],SRDB[SR-Nr.],SRDB[Name],\"NA\",0))","v":""},{"$f":"IF(ISBLANK(SRDB4[[#This Row],[SR-Nr]]),\"\",IF(COUNTIF(Registration!$A$7:$A$204,SRDB4[[#This Row],[SR-Nr]])=1,TRUE,FALSE))","v":""}]
[null,{"$f":"IF(ISBLANK(SRDB4[[#This Row],[SR-Nr]]),\"\",_xlfn.XLOOKUP(SRDB4[[#This Row],[SR-Nr]],SRDB[SR-Nr.],SRDB[Vorname],\"NA\",0))","v":""},{"$f":"IF(ISBLANK(SRDB4[[#This Row],[SR-Nr]]),\"\",_xlfn.XLOOKUP(SRDB4[[#This Row],[SR-Nr]],SRDB[SR-Nr.],SRDB[Name],\"NA\",0))","v":""},{"$f":"IF(ISBLANK(SRDB4[[#This Row],[SR-Nr]]),\"\",IF(COUNTIF(Registration!$A$7:$A$204,SRDB4[[#This Row],[SR-Nr]])=1,TRUE,FALSE))","v":""}]
[null,{"$f":"IF(ISBLANK(SRDB4[[#This Row],[SR-Nr]]),\"\",_xlfn.XLOOKUP(SRDB4[[#This Row],[SR-Nr]],SRDB[SR-Nr.],SRDB[Vorname],\"NA\",0))","v":""},{"$f":"IF(ISBLANK(SRDB4[[#This Row],[SR-Nr]]),\"\",_xlfn.XLOOKUP(SRDB4[[#This Row],[SR-Nr]],SRDB[SR-Nr.],SRDB[Name],\"NA\",0))","v":""},{"$f":"IF(ISBLANK(SRDB4[[#This Row],[SR-Nr]]),\"\",IF(COUNTIF(Registration!$A$7:$A$204,SRDB4[[#This Row],[SR-Nr]])=1,TRUE,FALSE))","v":""}]
[null,{"$f":"IF(ISBLANK(SRDB4[[#This Row],[SR-Nr]]),\"\",_xlfn.XLOOKUP(SRDB4[[#This Row],[SR-Nr]],SRDB[SR-Nr.],SRDB[Vorname],\"NA\",0))","v":""},{"$f":"IF(ISBLANK(SRDB4[[#This Row],[SR-Nr]]),\"\",_xlfn.XLOOKUP(SRDB4[[#This Row],[SR-Nr]],SRDB[SR-Nr.],SRDB[Name],\"NA\",0))","v":""},{"$f":"IF(ISBLANK(SRDB4[[#This Row],[SR-Nr]]),\"\",IF(COUNTIF(Registration!$A$7:$A$204,SRDB4[[#This Row],[SR-Nr]])=1,TRUE,FALSE))","v":""}]
[null,{"$f":"IF(ISBLANK(SRDB4[[#This Row],[SR-Nr]]),\"\",_xlfn.XLOOKUP(SRDB4[[#This Row],[SR-Nr]],SRDB[SR-Nr.],SRDB[Vorname],\"NA\",0))","v":""},{"$f":"IF(ISBLANK(SRDB4[[#This Row],[SR-Nr]]),\"\",_xlfn.XLOOKUP(SRDB4[[#This Row],[SR-Nr]],SRDB[SR-Nr.],SRDB[Name],\"NA\",0))","v":""},{"$f":"IF(ISBLANK(SRDB4[[#This Row],[SR-Nr]]),\"\",IF(COUNTIF(Registration!$A$7:$A$204,SRDB4[[#This Row],[SR-Nr]])=1,TRUE,FALSE))","v":""}]
[null,{"$f":"IF(ISBLANK(SRDB4[[#This Row],[SR-Nr]]),\"\",_xlfn.XLOOKUP(SRDB4[[#This Row],[SR-Nr]],SRDB[SR-Nr.],SRDB[Vorname],\"NA\",0))","v":""},{"$f":"IF(ISBLANK(SRDB4[[#This Row],[SR-Nr]]),\"\",_xlfn.XLOOKUP(SRDB4[[#This Row],[SR-Nr]],SRDB[SR-Nr.],SRDB[Name],\"NA\",0))","v":""},{"$f":"IF(ISBLANK(SRDB4[[#This Row],[SR-Nr]]),\"\",IF(COUNTIF(Registration!$A$7:$A$204,SRDB4[[#This Row],[SR-Nr]])=1,TRUE,FALSE))","v":""}]
[null,{"$f":"IF(ISBLANK(SRDB4[[#This Row],[SR-Nr]]),\"\",_xlfn.XLOOKUP(SRDB4[[#This Row],[SR-Nr]],SRDB[SR-Nr.],SRDB[Vorname],\"NA\",0))","v":""},{"$f":"IF(ISBLANK(SRDB4[[#This Row],[SR-Nr]]),\"\",_xlfn.XLOOKUP(SRDB4[[#This Row],[SR-Nr]],SRDB[SR-Nr.],SRDB[Name],\"NA\",0))","v":""},{"$f":"IF(ISBLANK(SRDB4[[#This Row],[SR-Nr]]),\"\",IF(COUNTIF(Registration!$A$7:$A$204,SRDB4[[#This Row],[SR-Nr]])=1,TRUE,FALSE))","v":""}]
[null,{"$f":"IF(ISBLANK(SRDB4[[#This Row],[SR-Nr]]),\"\",_xlfn.XLOOKUP(SRDB4[[#This Row],[SR-Nr]],SRDB[SR-Nr.],SRDB[Vorname],\"NA\",0))","v":""},{"$f":"IF(ISBLANK(SRDB4[[#This Row],[SR-Nr]]),\"\",_xlfn.XLOOKUP(SRDB4[[#This Row],[SR-Nr]],SRDB[SR-Nr.],SRDB[Name],\"NA\",0))","v":""},{"$f":"IF(ISBLANK(SRDB4[[#This Row],[SR-Nr]]),\"\",IF(COUNTIF(Registration!$A$7:$A$204,SRDB4[[#This Row],[SR-Nr]])=1,TRUE,FALSE))","v":""}]
[null,{"$f":"IF(ISBLANK(SRDB4[[#This Row],[SR-Nr]]),\"\",_xlfn.XLOOKUP(SRDB4[[#This Row],[SR-Nr]],SRDB[SR-Nr.],SRDB[Vorname],\"NA\",0))","v":""},{"$f":"IF(ISBLANK(SRDB4[[#This Row],[SR-Nr]]),\"\",_xlfn.XLOOKUP(SRDB4[[#This Row],[SR-Nr]],SRDB[SR-Nr.],SRDB[Name],\"NA\",0))","v":""},{"$f":"IF(ISBLANK(SRDB4[[#This Row],[SR-Nr]]),\"\",IF(COUNTIF(Registration!$A$7:$A$204,SRDB4[[#This Row],[SR-Nr]])=1,TRUE,FALSE))","v":""}]
[null,{"$f":"IF(ISBLANK(SRDB4[[#This Row],[SR-Nr]]),\"\",_xlfn.XLOOKUP(SRDB4[[#This Row],[SR-Nr]],SRDB[SR-Nr.],SRDB[Vorname],\"NA\",0))","v":""},{"$f":"IF(ISBLANK(SRDB4[[#This Row],[SR-Nr]]),\"\",_xlfn.XLOOKUP(SRDB4[[#This Row],[SR-Nr]],SRDB[SR-Nr.],SRDB[Name],\"NA\",0))","v":""},{"$f":"IF(ISBLANK(SRDB4[[#This Row],[SR-Nr]]),\"\",IF(COUNTIF(Registration!$A$7:$A$204,SRDB4[[#This Row],[SR-Nr]])=1,TRUE,FALSE))","v":""}]
[null,{"$f":"IF(ISBLANK(SRDB4[[#This Row],[SR-Nr]]),\"\",_xlfn.XLOOKUP(SRDB4[[#This Row],[SR-Nr]],SRDB[SR-Nr.],SRDB[Vorname],\"NA\",0))","v":""},{"$f":"IF(ISBLANK(SRDB4[[#This Row],[SR-Nr]]),\"\",_xlfn.XLOOKUP(SRDB4[[#This Row],[SR-Nr]],SRDB[SR-Nr.],SRDB[Name],\"NA\",0))","v":""},{"$f":"IF(ISBLANK(SRDB4[[#This Row],[SR-Nr]]),\"\",IF(COUNTIF(Registration!$A$7:$A$204,SRDB4[[#This Row],[SR-Nr]])=1,TRUE,FALSE))","v":""}]
[null,{"$f":"IF(ISBLANK(SRDB4[[#This Row],[SR-Nr]]),\"\",_xlfn.XLOOKUP(SRDB4[[#This Row],[SR-Nr]],SRDB[SR-Nr.],SRDB[Vorname],\"NA\",0))","v":""},{"$f":"IF(ISBLANK(SRDB4[[#This Row],[SR-Nr]]),\"\",_xlfn.XLOOKUP(SRDB4[[#This Row],[SR-Nr]],SRDB[SR-Nr.],SRDB[Name],\"NA\",0))","v":""},{"$f":"IF(ISBLANK(SRDB4[[#This Row],[SR-Nr]]),\"\",IF(COUNTIF(Registration!$A$7:$A$204,SRDB4[[#This Row],[SR-Nr]])=1,TRUE,FALSE))","v":""}]
[null,{"$f":"IF(ISBLANK(SRDB4[[#This Row],[SR-Nr]]),\"\",_xlfn.XLOOKUP(SRDB4[[#This Row],[SR-Nr]],SRDB[SR-Nr.],SRDB[Vorname],\"NA\",0))","v":""},{"$f":"IF(ISBLANK(SRDB4[[#This Row],[SR-Nr]]),\"\",_xlfn.XLOOKUP(SRDB4[[#This Row],[SR-Nr]],SRDB[SR-Nr.],SRDB[Name],\"NA\",0))","v":""},{"$f":"IF(ISBLANK(SRDB4[[#This Row],[SR-Nr]]),\"\",IF(COUNTIF(Registration!$A$7:$A$204,SRDB4[[#This Row],[SR-Nr]])=1,TRUE,FALSE))","v":""}]
[null,{"$f":"IF(ISBLANK(SRDB4[[#This Row],[SR-Nr]]),\"\",_xlfn.XLOOKUP(SRDB4[[#This Row],[SR-Nr]],SRDB[SR-Nr.],SRDB[Vorname],\"NA\",0))","v":""},{"$f":"IF(ISBLANK(SRDB4[[#This Row],[SR-Nr]]),\"\",_xlfn.XLOOKUP(SRDB4[[#This Row],[SR-Nr]],SRDB[SR-Nr.],SRDB[Name],\"NA\",0))","v":""},{"$f":"IF(ISBLANK(SRDB4[[#This Row],[SR-Nr]]),\"\",IF(COUNTIF(Registration!$A$7:$A$204,SRDB4[[#This Row],[SR-Nr]])=1,TRUE,FALSE))","v":""}]
[null,{"$f":"IF(ISBLANK(SRDB4[[#This Row],[SR-Nr]]),\"\",_xlfn.XLOOKUP(SRDB4[[#This Row],[SR-Nr]],SRDB[SR-Nr.],SRDB[Vorname],\"NA\",0))","v":""},{"$f":"IF(ISBLANK(SRDB4[[#This Row],[SR-Nr]]),\"\",_xlfn.XLOOKUP(SRDB4[[#This Row],[SR-Nr]],SRDB[SR-Nr.],SRDB[Name],\"NA\",0))","v":""},{"$f":"IF(ISBLANK(SRDB4[[#This Row],[SR-Nr]]),\"\",IF(COUNTIF(Registration!$A$7:$A$204,SRDB4[[#This Row],[SR-Nr]])=1,TRUE,FALSE))","v":""}]
[null,{"$f":"IF(ISBLANK(SRDB4[[#This Row],[SR-Nr]]),\"\",_xlfn.XLOOKUP(SRDB4[[#This Row],[SR-Nr]],SRDB[SR-Nr.],SRDB[Vorname],\"NA\",0))","v":""},{"$f":"IF(ISBLANK(SRDB4[[#This Row],[SR-Nr]]),\"\",_xlfn.XLOOKUP(SRDB4[[#This Row],[SR-Nr]],SRDB[SR-Nr.],SRDB[Name],\"NA\",0))","v":""},{"$f":"IF(ISBLANK(SRDB4[[#This Row],[SR-Nr]]),\"\",IF(COUNTIF(Registration!$A$7:$A$204,SRDB4[[#This Row],[SR-Nr]])=1,TRUE,FALSE))","v":""}]
[null,{"$f":"IF(ISBLANK(SRDB4[[#This Row],[SR-Nr]]),\"\",_xlfn.XLOOKUP(SRDB4[[#This Row],[SR-Nr]],SRDB[SR-Nr.],SRDB[Vorname],\"NA\",0))","v":""},{"$f":"IF(ISBLANK(SRDB4[[#This Row],[SR-Nr]]),\"\",_xlfn.XLOOKUP(SRDB4[[#This Row],[SR-Nr]],SRDB[SR-Nr.],SRDB[Name],\"NA\",0))","v":""},{"$f":"IF(ISBLANK(SRDB4[[#This Row],[SR-Nr]]),\"\",IF(COUNTIF(Registration!$A$7:$A$204,SRDB4[[#This Row],[SR-Nr]])=1,TRUE,FALSE))","v":""}]
[null,{"$f":"IF(ISBLANK(SRDB4[[#This Row],[SR-Nr]]),\"\",_xlfn.XLOOKUP(SRDB4[[#This Row],[SR-Nr]],SRDB[SR-Nr.],SRDB[Vorname],\"NA\",0))","v":""},{"$f":"IF(ISBLANK(SRDB4[[#This Row],[SR-Nr]]),\"\",_xlfn.XLOOKUP(SRDB4[[#This Row],[SR-Nr]],SRDB[SR-Nr.],SRDB[Name],\"NA\",0))","v":""},{"$f":"IF(ISBLANK(SRDB4[[#This Row],[SR-Nr]]),\"\",IF(COUNTIF(Registration!$A$7:$A$204,SRDB4[[#This Row],[SR-Nr]])=1,TRUE,FALSE))","v":""}]
[null,{"$f":"IF(ISBLANK(SRDB4[[#This Row],[SR-Nr]]),\"\",_xlfn.XLOOKUP(SRDB4[[#This Row],[SR-Nr]],SRDB[SR-Nr.],SRDB[Vorname],\"NA\",0))","v":""},{"$f":"IF(ISBLANK(SRDB4[[#This Row],[SR-Nr]]),\"\",_xlfn.XLOOKUP(SRDB4[[#This Row],[SR-Nr]],SRDB[SR-Nr.],SRDB[Name],\"NA\",0))","v":""},{"$f":"IF(ISBLANK(SRDB4[[#This Row],[SR-Nr]]),\"\",IF(COUNTIF(Registration!$A$7:$A$204,SRDB4[[#This Row],[SR-Nr]])=1,TRUE,FALSE))","v":""}]
[null,{"$f":"IF(ISBLANK(SRDB4[[#This Row],[SR-Nr]]),\"\",_xlfn.XLOOKUP(SRDB4[[#This Row],[SR-Nr]],SRDB[SR-Nr.],SRDB[Vorname],\"NA\",0))","v":""},{"$f":"IF(ISBLANK(SRDB4[[#This Row],[SR-Nr]]),\"\",_xlfn.XLOOKUP(SRDB4[[#This Row],[SR-Nr]],SRDB[SR-Nr.],SRDB[Name],\"NA\",0))","v":""},{"$f":"IF(ISBLANK(SRDB4[[#This Row],[SR-Nr]]),\"\",IF(COUNTIF(Registration!$A$7:$A$204,SRDB4[[#This Row],[SR-Nr]])=1,TRUE,FALSE))","v":""}]
[null,{"$f":"IF(ISBLANK(SRDB4[[#This Row],[SR-Nr]]),\"\",_xlfn.XLOOKUP(SRDB4[[#This Row],[SR-Nr]],SRDB[SR-Nr.],SRDB[Vorname],\"NA\",0))","v":""},{"$f":"IF(ISBLANK(SRDB4[[#This Row],[SR-Nr]]),\"\",_xlfn.XLOOKUP(SRDB4[[#This Row],[SR-Nr]],SRDB[SR-Nr.],SRDB[Name],\"NA\",0))","v":""},{"$f":"IF(ISBLANK(SRDB4[[#This Row],[SR-Nr]]),\"\",IF(COUNTIF(Registration!$A$7:$A$204,SRDB4[[#This Row],[SR-Nr]])=1,TRUE,FALSE))","v":""}]
[null,{"$f":"IF(ISBLANK(SRDB4[[#This Row],[SR-Nr]]),\"\",_xlfn.XLOOKUP(SRDB4[[#This Row],[SR-Nr]],SRDB[SR-Nr.],SRDB[Vorname],\"NA\",0))","v":""},{"$f":"IF(ISBLANK(SRDB4[[#This Row],[SR-Nr]]),\"\",_xlfn.XLOOKUP(SRDB4[[#This Row],[SR-Nr]],SRDB[SR-Nr.],SRDB[Name],\"NA\",0))","v":""},{"$f":"IF(ISBLANK(SRDB4[[#This Row],[SR-Nr]]),\"\",IF(COUNTIF(Registration!$A$7:$A$204,SRDB4[[#This Row],[SR-Nr]])=1,TRUE,FALSE))","v":""}]
[null,{"$f":"IF(ISBLANK(SRDB4[[#This Row],[SR-Nr]]),\"\",_xlfn.XLOOKUP(SRDB4[[#This Row],[SR-Nr]],SRDB[SR-Nr.],SRDB[Vorname],\"NA\",0))","v":""},{"$f":"IF(ISBLANK(SRDB4[[#This Row],[SR-Nr]]),\"\",_xlfn.XLOOKUP(SRDB4[[#This Row],[SR-Nr]],SRDB[SR-Nr.],SRDB[Name],\"NA\",0))","v":""},{"$f":"IF(ISBLANK(SRDB4[[#This Row],[SR-Nr]]),\"\",IF(COUNTIF(Registration!$A$7:$A$204,SRDB4[[#This Row],[SR-Nr]])=1,TRUE,FALSE))","v":""}]
[null,{"$f":"IF(ISBLANK(SRDB4[[#This Row],[SR-Nr]]),\"\",_xlfn.XLOOKUP(SRDB4[[#This Row],[SR-Nr]],SRDB[SR-Nr.],SRDB[Vorname],\"NA\",0))","v":""},{"$f":"IF(ISBLANK(SRDB4[[#This Row],[SR-Nr]]),\"\",_xlfn.XLOOKUP(SRDB4[[#This Row],[SR-Nr]],SRDB[SR-Nr.],SRDB[Name],\"NA\",0))","v":""},{"$f":"IF(ISBLANK(SRDB4[[#This Row],[SR-Nr]]),\"\",IF(COUNTIF(Registration!$A$7:$A$204,SRDB4[[#This Row],[SR-Nr]])=1,TRUE,FALSE))","v":""}]
[null,{"$f":"IF(ISBLANK(SRDB4[[#This Row],[SR-Nr]]),\"\",_xlfn.XLOOKUP(SRDB4[[#This Row],[SR-Nr]],SRDB[SR-Nr.],SRDB[Vorname],\"NA\",0))","v":""},{"$f":"IF(ISBLANK(SRDB4[[#This Row],[SR-Nr]]),\"\",_xlfn.XLOOKUP(SRDB4[[#This Row],[SR-Nr]],SRDB[SR-Nr.],SRDB[Name],\"NA\",0))","v":""},{"$f":"IF(ISBLANK(SRDB4[[#This Row],[SR-Nr]]),\"\",IF(COUNTIF(Registration!$A$7:$A$204,SRDB4[[#This Row],[SR-Nr]])=1,TRUE,FALSE))","v":""}]
[null,{"$f":"IF(ISBLANK(SRDB4[[#This Row],[SR-Nr]]),\"\",_xlfn.XLOOKUP(SRDB4[[#This Row],[SR-Nr]],SRDB[SR-Nr.],SRDB[Vorname],\"NA\",0))","v":""},{"$f":"IF(ISBLANK(SRDB4[[#This Row],[SR-Nr]]),\"\",_xlfn.XLOOKUP(SRDB4[[#This Row],[SR-Nr]],SRDB[SR-Nr.],SRDB[Name],\"NA\",0))","v":""},{"$f":"IF(ISBLANK(SRDB4[[#This Row],[SR-Nr]]),\"\",IF(COUNTIF(Registration!$A$7:$A$204,SRDB4[[#This Row],[SR-Nr]])=1,TRUE,FALSE))","v":""}]
[null,{"$f":"IF(ISBLANK(SRDB4[[#This Row],[SR-Nr]]),\"\",_xlfn.XLOOKUP(SRDB4[[#This Row],[SR-Nr]],SRDB[SR-Nr.],SRDB[Vorname],\"NA\",0))","v":""},{"$f":"IF(ISBLANK(SRDB4[[#This Row],[SR-Nr]]),\"\",_xlfn.XLOOKUP(SRDB4[[#This Row],[SR-Nr]],SRDB[SR-Nr.],SRDB[Name],\"NA\",0))","v":""},{"$f":"IF(ISBLANK(SRDB4[[#This Row],[SR-Nr]]),\"\",IF(COUNTIF(Registration!$A$7:$A$204,SRDB4[[#This Row],[SR-Nr]])=1,TRUE,FALSE))","v":""}]
[null,{"$f":"IF(ISBLANK(SRDB4[[#This Row],[SR-Nr]]),\"\",_xlfn.XLOOKUP(SRDB4[[#This Row],[SR-Nr]],SRDB[SR-Nr.],SRDB[Vorname],\"NA\",0))","v":""},{"$f":"IF(ISBLANK(SRDB4[[#This Row],[SR-Nr]]),\"\",_xlfn.XLOOKUP(SRDB4[[#This Row],[SR-Nr]],SRDB[SR-Nr.],SRDB[Name],\"NA\",0))","v":""},{"$f":"IF(ISBLANK(SRDB4[[#This Row],[SR-Nr]]),\"\",IF(COUNTIF(Registration!$A$7:$A$204,SRDB4[[#This Row],[SR-Nr]])=1,TRUE,FALSE))","v":""}]
[null,{"$f":"IF(ISBLANK(SRDB4[[#This Row],[SR-Nr]]),\"\",_xlfn.XLOOKUP(SRDB4[[#This Row],[SR-Nr]],SRDB[SR-Nr.],SRDB[Vorname],\"NA\",0))","v":""},{"$f":"IF(ISBLANK(SRDB4[[#This Row],[SR-Nr]]),\"\",_xlfn.XLOOKUP(SRDB4[[#This Row],[SR-Nr]],SRDB[SR-Nr.],SRDB[Name],\"NA\",0))","v":""},{"$f":"IF(ISBLANK(SRDB4[[#This Row],[SR-Nr]]),\"\",IF(COUNTIF(Registration!$A$7:$A$204,SRDB4[[#This Row],[SR-Nr]])=1,TRUE,FALSE))","v":""}]
[null,{"$f":"IF(ISBLANK(SRDB4[[#This Row],[SR-Nr]]),\"\",_xlfn.XLOOKUP(SRDB4[[#This Row],[SR-Nr]],SRDB[SR-Nr.],SRDB[Vorname],\"NA\",0))","v":""},{"$f":"IF(ISBLANK(SRDB4[[#This Row],[SR-Nr]]),\"\",_xlfn.XLOOKUP(SRDB4[[#This Row],[SR-Nr]],SRDB[SR-Nr.],SRDB[Name],\"NA\",0))","v":""},{"$f":"IF(ISBLANK(SRDB4[[#This Row],[SR-Nr]]),\"\",IF(COUNTIF(Registration!$A$7:$A$204,SRDB4[[#This Row],[SR-Nr]])=1,TRUE,FALSE))","v":""}]
[null,{"$f":"IF(ISBLANK(SRDB4[[#This Row],[SR-Nr]]),\"\",_xlfn.XLOOKUP(SRDB4[[#This Row],[SR-Nr]],SRDB[SR-Nr.],SRDB[Vorname],\"NA\",0))","v":""},{"$f":"IF(ISBLANK(SRDB4[[#This Row],[SR-Nr]]),\"\",_xlfn.XLOOKUP(SRDB4[[#This Row],[SR-Nr]],SRDB[SR-Nr.],SRDB[Name],\"NA\",0))","v":""},{"$f":"IF(ISBLANK(SRDB4[[#This Row],[SR-Nr]]),\"\",IF(COUNTIF(Registration!$A$7:$A$204,SRDB4[[#This Row],[SR-Nr]])=1,TRUE,FALSE))","v":""}]
[null,{"$f":"IF(ISBLANK(SRDB4[[#This Row],[SR-Nr]]),\"\",_xlfn.XLOOKUP(SRDB4[[#This Row],[SR-Nr]],SRDB[SR-Nr.],SRDB[Vorname],\"NA\",0))","v":""},{"$f":"IF(ISBLANK(SRDB4[[#This Row],[SR-Nr]]),\"\",_xlfn.XLOOKUP(SRDB4[[#This Row],[SR-Nr]],SRDB[SR-Nr.],SRDB[Name],\"NA\",0))","v":""},{"$f":"IF(ISBLANK(SRDB4[[#This Row],[SR-Nr]]),\"\",IF(COUNTIF(Registration!$A$7:$A$204,SRDB4[[#This Row],[SR-Nr]])=1,TRUE,FALSE))","v":""}]
[null,{"$f":"IF(ISBLANK(SRDB4[[#This Row],[SR-Nr]]),\"\",_xlfn.XLOOKUP(SRDB4[[#This Row],[SR-Nr]],SRDB[SR-Nr.],SRDB[Vorname],\"NA\",0))","v":""},{"$f":"IF(ISBLANK(SRDB4[[#This Row],[SR-Nr]]),\"\",_xlfn.XLOOKUP(SRDB4[[#This Row],[SR-Nr]],SRDB[SR-Nr.],SRDB[Name],\"NA\",0))","v":""},{"$f":"IF(ISBLANK(SRDB4[[#This Row],[SR-Nr]]),\"\",IF(COUNTIF(Registration!$A$7:$A$204,SRDB4[[#This Row],[SR-Nr]])=1,TRUE,FALSE))","v":""}]
[null,{"$f":"IF(ISBLANK(SRDB4[[#This Row],[SR-Nr]]),\"\",_xlfn.XLOOKUP(SRDB4[[#This Row],[SR-Nr]],SRDB[SR-Nr.],SRDB[Vorname],\"NA\",0))","v":""},{"$f":"IF(ISBLANK(SRDB4[[#This Row],[SR-Nr]]),\"\",_xlfn.XLOOKUP(SRDB4[[#This Row],[SR-Nr]],SRDB[SR-Nr.],SRDB[Name],\"NA\",0))","v":""},{"$f":"IF(ISBLANK(SRDB4[[#This Row],[SR-Nr]]),\"\",IF(COUNTIF(Registration!$A$7:$A$204,SRDB4[[#This Row],[SR-Nr]])=1,TRUE,FALSE))","v":""}]
[null,{"$f":"IF(ISBLANK(SRDB4[[#This Row],[SR-Nr]]),\"\",_xlfn.XLOOKUP(SRDB4[[#This Row],[SR-Nr]],SRDB[SR-Nr.],SRDB[Vorname],\"NA\",0))","v":""},{"$f":"IF(ISBLANK(SRDB4[[#This Row],[SR-Nr]]),\"\",_xlfn.XLOOKUP(SRDB4[[#This Row],[SR-Nr]],SRDB[SR-Nr.],SRDB[Name],\"NA\",0))","v":""},{"$f":"IF(ISBLANK(SRDB4[[#This Row],[SR-Nr]]),\"\",IF(COUNTIF(Registration!$A$7:$A$204,SRDB4[[#This Row],[SR-Nr]])=1,TRUE,FALSE))","v":""}]
[null,{"$f":"IF(ISBLANK(SRDB4[[#This Row],[SR-Nr]]),\"\",_xlfn.XLOOKUP(SRDB4[[#This Row],[SR-Nr]],SRDB[SR-Nr.],SRDB[Vorname],\"NA\",0))","v":""},{"$f":"IF(ISBLANK(SRDB4[[#This Row],[SR-Nr]]),\"\",_xlfn.XLOOKUP(SRDB4[[#This Row],[SR-Nr]],SRDB[SR-Nr.],SRDB[Name],\"NA\",0))","v":""},{"$f":"IF(ISBLANK(SRDB4[[#This Row],[SR-Nr]]),\"\",IF(COUNTIF(Registration!$A$7:$A$204,SRDB4[[#This Row],[SR-Nr]])=1,TRUE,FALSE))","v":""}]
[null,{"$f":"IF(ISBLANK(SRDB4[[#This Row],[SR-Nr]]),\"\",_xlfn.XLOOKUP(SRDB4[[#This Row],[SR-Nr]],SRDB[SR-Nr.],SRDB[Vorname],\"NA\",0))","v":""},{"$f":"IF(ISBLANK(SRDB4[[#This Row],[SR-Nr]]),\"\",_xlfn.XLOOKUP(SRDB4[[#This Row],[SR-Nr]],SRDB[SR-Nr.],SRDB[Name],\"NA\",0))","v":""},{"$f":"IF(ISBLANK(SRDB4[[#This Row],[SR-Nr]]),\"\",IF(COUNTIF(Registration!$A$7:$A$204,SRDB4[[#This Row],[SR-Nr]])=1,TRUE,FALSE))","v":""}]
[null,{"$f":"IF(ISBLANK(SRDB4[[#This Row],[SR-Nr]]),\"\",_xlfn.XLOOKUP(SRDB4[[#This Row],[SR-Nr]],SRDB[SR-Nr.],SRDB[Vorname],\"NA\",0))","v":""},{"$f":"IF(ISBLANK(SRDB4[[#This Row],[SR-Nr]]),\"\",_xlfn.XLOOKUP(SRDB4[[#This Row],[SR-Nr]],SRDB[SR-Nr.],SRDB[Name],\"NA\",0))","v":""},{"$f":"IF(ISBLANK(SRDB4[[#This Row],[SR-Nr]]),\"\",IF(COUNTIF(Registration!$A$7:$A$204,SRDB4[[#This Row],[SR-Nr]])=1,TRUE,FALSE))","v":""}]
[null,{"$f":"IF(ISBLANK(SRDB4[[#This Row],[SR-Nr]]),\"\",_xlfn.XLOOKUP(SRDB4[[#This Row],[SR-Nr]],SRDB[SR-Nr.],SRDB[Vorname],\"NA\",0))","v":""},{"$f":"IF(ISBLANK(SRDB4[[#This Row],[SR-Nr]]),\"\",_xlfn.XLOOKUP(SRDB4[[#This Row],[SR-Nr]],SRDB[SR-Nr.],SRDB[Name],\"NA\",0))","v":""},{"$f":"IF(ISBLANK(SRDB4[[#This Row],[SR-Nr]]),\"\",IF(COUNTIF(Registration!$A$7:$A$204,SRDB4[[#This Row],[SR-Nr]])=1,TRUE,FALSE))","v":""}]
[null,{"$f":"IF(ISBLANK(SRDB4[[#This Row],[SR-Nr]]),\"\",_xlfn.XLOOKUP(SRDB4[[#This Row],[SR-Nr]],SRDB[SR-Nr.],SRDB[Vorname],\"NA\",0))","v":""},{"$f":"IF(ISBLANK(SRDB4[[#This Row],[SR-Nr]]),\"\",_xlfn.XLOOKUP(SRDB4[[#This Row],[SR-Nr]],SRDB[SR-Nr.],SRDB[Name],\"NA\",0))","v":""},{"$f":"IF(ISBLANK(SRDB4[[#This Row],[SR-Nr]]),\"\",IF(COUNTIF(Registration!$A$7:$A$204,SRDB4[[#This Row],[SR-Nr]])=1,TRUE,FALSE))","v":""}]
[null,{"$f":"IF(ISBLANK(SRDB4[[#This Row],[SR-Nr]]),\"\",_xlfn.XLOOKUP(SRDB4[[#This Row],[SR-Nr]],SRDB[SR-Nr.],SRDB[Vorname],\"NA\",0))","v":""},{"$f":"IF(ISBLANK(SRDB4[[#This Row],[SR-Nr]]),\"\",_xlfn.XLOOKUP(SRDB4[[#This Row],[SR-Nr]],SRDB[SR-Nr.],SRDB[Name],\"NA\",0))","v":""},{"$f":"IF(ISBLANK(SRDB4[[#This Row],[SR-Nr]]),\"\",IF(COUNTIF(Registration!$A$7:$A$204,SRDB4[[#This Row],[SR-Nr]])=1,TRUE,FALSE))","v":""}]
[null,{"$f":"IF(ISBLANK(SRDB4[[#This Row],[SR-Nr]]),\"\",_xlfn.XLOOKUP(SRDB4[[#This Row],[SR-Nr]],SRDB[SR-Nr.],SRDB[Vorname],\"NA\",0))","v":""},{"$f":"IF(ISBLANK(SRDB4[[#This Row],[SR-Nr]]),\"\",_xlfn.XLOOKUP(SRDB4[[#This Row],[SR-Nr]],SRDB[SR-Nr.],SRDB[Name],\"NA\",0))","v":""},{"$f":"IF(ISBLANK(SRDB4[[#This Row],[SR-Nr]]),\"\",IF(COUNTIF(Registration!$A$7:$A$204,SRDB4[[#This Row],[SR-Nr]])=1,TRUE,FALSE))","v":""}]
[null,{"$f":"IF(ISBLANK(SRDB4[[#This Row],[SR-Nr]]),\"\",_xlfn.XLOOKUP(SRDB4[[#This Row],[SR-Nr]],SRDB[SR-Nr.],SRDB[Vorname],\"NA\",0))","v":""},{"$f":"IF(ISBLANK(SRDB4[[#This Row],[SR-Nr]]),\"\",_xlfn.XLOOKUP(SRDB4[[#This Row],[SR-Nr]],SRDB[SR-Nr.],SRDB[Name],\"NA\",0))","v":""},{"$f":"IF(ISBLANK(SRDB4[[#This Row],[SR-Nr]]),\"\",IF(COUNTIF(Registration!$A$7:$A$204,SRDB4[[#This Row],[SR-Nr]])=1,TRUE,FALSE))","v":""}]
[null,{"$f":"IF(ISBLANK(SRDB4[[#This Row],[SR-Nr]]),\"\",_xlfn.XLOOKUP(SRDB4[[#This Row],[SR-Nr]],SRDB[SR-Nr.],SRDB[Vorname],\"NA\",0))","v":""},{"$f":"IF(ISBLANK(SRDB4[[#This Row],[SR-Nr]]),\"\",_xlfn.XLOOKUP(SRDB4[[#This Row],[SR-Nr]],SRDB[SR-Nr.],SRDB[Name],\"NA\",0))","v":""},{"$f":"IF(ISBLANK(SRDB4[[#This Row],[SR-Nr]]),\"\",IF(COUNTIF(Registration!$A$7:$A$204,SRDB4[[#This Row],[SR-Nr]])=1,TRUE,FALSE))","v":""}]
[null,{"$f":"IF(ISBLANK(SRDB4[[#This Row],[SR-Nr]]),\"\",_xlfn.XLOOKUP(SRDB4[[#This Row],[SR-Nr]],SRDB[SR-Nr.],SRDB[Vorname],\"NA\",0))","v":""},{"$f":"IF(ISBLANK(SRDB4[[#This Row],[SR-Nr]]),\"\",_xlfn.XLOOKUP(SRDB4[[#This Row],[SR-Nr]],SRDB[SR-Nr.],SRDB[Name],\"NA\",0))","v":""},{"$f":"IF(ISBLANK(SRDB4[[#This Row],[SR-Nr]]),\"\",IF(COUNTIF(Registration!$A$7:$A$204,SRDB4[[#This Row],[SR-Nr]])=1,TRUE,FALSE))","v":""}]
[null,{"$f":"IF(ISBLANK(SRDB4[[#This Row],[SR-Nr]]),\"\",_xlfn.XLOOKUP(SRDB4[[#This Row],[SR-Nr]],SRDB[SR-Nr.],SRDB[Vorname],\"NA\",0))","v":""},{"$f":"IF(ISBLANK(SRDB4[[#This Row],[SR-Nr]]),\"\",_xlfn.XLOOKUP(SRDB4[[#This Row],[SR-Nr]],SRDB[SR-Nr.],SRDB[Name],\"NA\",0))","v":""},{"$f":"IF(ISBLANK(SRDB4[[#This Row],[SR-Nr]]),\"\",IF(COUNTIF(Registration!$A$7:$A$204,SRDB4[[#This Row],[SR-Nr]])=1,TRUE,FALSE))","v":""}]
[null,{"$f":"IF(ISBLANK(SRDB4[[#This Row],[SR-Nr]]),\"\",_xlfn.XLOOKUP(SRDB4[[#This Row],[SR-Nr]],SRDB[SR-Nr.],SRDB[Vorname],\"NA\",0))","v":""},{"$f":"IF(ISBLANK(SRDB4[[#This Row],[SR-Nr]]),\"\",_xlfn.XLOOKUP(SRDB4[[#This Row],[SR-Nr]],SRDB[SR-Nr.],SRDB[Name],\"NA\",0))","v":""},{"$f":"IF(ISBLANK(SRDB4[[#This Row],[SR-Nr]]),\"\",IF(COUNTIF(Registration!$A$7:$A$204,SRDB4[[#This Row],[SR-Nr]])=1,TRUE,FALSE))","v":""}]
[null,{"$f":"IF(ISBLANK(SRDB4[[#This Row],[SR-Nr]]),\"\",_xlfn.XLOOKUP(SRDB4[[#This Row],[SR-Nr]],SRDB[SR-Nr.],SRDB[Vorname],\"NA\",0))","v":""},{"$f":"IF(ISBLANK(SRDB4[[#This Row],[SR-Nr]]),\"\",_xlfn.XLOOKUP(SRDB4[[#This Row],[SR-Nr]],SRDB[SR-Nr.],SRDB[Name],\"NA\",0))","v":""},{"$f":"IF(ISBLANK(SRDB4[[#This Row],[SR-Nr]]),\"\",IF(COUNTIF(Registration!$A$7:$A$204,SRDB4[[#This Row],[SR-Nr]])=1,TRUE,FALSE))","v":""}]
[null,{"$f":"IF(ISBLANK(SRDB4[[#This Row],[SR-Nr]]),\"\",_xlfn.XLOOKUP(SRDB4[[#This Row],[SR-Nr]],SRDB[SR-Nr.],SRDB[Vorname],\"NA\",0))","v":""},{"$f":"IF(ISBLANK(SRDB4[[#This Row],[SR-Nr]]),\"\",_xlfn.XLOOKUP(SRDB4[[#This Row],[SR-Nr]],SRDB[SR-Nr.],SRDB[Name],\"NA\",0))","v":""},{"$f":"IF(ISBLANK(SRDB4[[#This Row],[SR-Nr]]),\"\",IF(COUNTIF(Registration!$A$7:$A$204,SRDB4[[#This Row],[SR-Nr]])=1,TRUE,FALSE))","v":""}]
[null,{"$f":"IF(ISBLANK(SRDB4[[#This Row],[SR-Nr]]),\"\",_xlfn.XLOOKUP(SRDB4[[#This Row],[SR-Nr]],SRDB[SR-Nr.],SRDB[Vorname],\"NA\",0))","v":""},{"$f":"IF(ISBLANK(SRDB4[[#This Row],[SR-Nr]]),\"\",_xlfn.XLOOKUP(SRDB4[[#This Row],[SR-Nr]],SRDB[SR-Nr.],SRDB[Name],\"NA\",0))","v":""},{"$f":"IF(ISBLANK(SRDB4[[#This Row],[SR-Nr]]),\"\",IF(COUNTIF(Registration!$A$7:$A$204,SRDB4[[#This Row],[SR-Nr]])=1,TRUE,FALSE))","v":""}]
[null,{"$f":"IF(ISBLANK(SRDB4[[#This Row],[SR-Nr]]),\"\",_xlfn.XLOOKUP(SRDB4[[#This Row],[SR-Nr]],SRDB[SR-Nr.],SRDB[Vorname],\"NA\",0))","v":""},{"$f":"IF(ISBLANK(SRDB4[[#This Row],[SR-Nr]]),\"\",_xlfn.XLOOKUP(SRDB4[[#This Row],[SR-Nr]],SRDB[SR-Nr.],SRDB[Name],\"NA\",0))","v":""},{"$f":"IF(ISBLANK(SRDB4[[#This Row],[SR-Nr]]),\"\",IF(COUNTIF(Registration!$A$7:$A$204,SRDB4[[#This Row],[SR-Nr]])=1,TRUE,FALSE))","v":""}]
[null,{"$f":"IF(ISBLANK(SRDB4[[#This Row],[SR-Nr]]),\"\",_xlfn.XLOOKUP(SRDB4[[#This Row],[SR-Nr]],SRDB[SR-Nr.],SRDB[Vorname],\"NA\",0))","v":""},{"$f":"IF(ISBLANK(SRDB4[[#This Row],[SR-Nr]]),\"\",_xlfn.XLOOKUP(SRDB4[[#This Row],[SR-Nr]],SRDB[SR-Nr.],SRDB[Name],\"NA\",0))","v":""},{"$f":"IF(ISBLANK(SRDB4[[#This Row],[SR-Nr]]),\"\",IF(COUNTIF(Registration!$A$7:$A$204,SRDB4[[#This Row],[SR-Nr]])=1,TRUE,FALSE))","v":""}]
[null,{"$f":"IF(ISBLANK(SRDB4[[#This Row],[SR-Nr]]),\"\",_xlfn.XLOOKUP(SRDB4[[#This Row],[SR-Nr]],SRDB[SR-Nr.],SRDB[Vorname],\"NA\",0))","v":""},{"$f":"IF(ISBLANK(SRDB4[[#This Row],[SR-Nr]]),\"\",_xlfn.XLOOKUP(SRDB4[[#This Row],[SR-Nr]],SRDB[SR-Nr.],SRDB[Name],\"NA\",0))","v":""},{"$f":"IF(ISBLANK(SRDB4[[#This Row],[SR-Nr]]),\"\",IF(COUNTIF(Registration!$A$7:$A$204,SRDB4[[#This Row],[SR-Nr]])=1,TRUE,FALSE))","v":""}]
[null,{"$f":"IF(ISBLANK(SRDB4[[#This Row],[SR-Nr]]),\"\",_xlfn.XLOOKUP(SRDB4[[#This Row],[SR-Nr]],SRDB[SR-Nr.],SRDB[Vorname],\"NA\",0))","v":""},{"$f":"IF(ISBLANK(SRDB4[[#This Row],[SR-Nr]]),\"\",_xlfn.XLOOKUP(SRDB4[[#This Row],[SR-Nr]],SRDB[SR-Nr.],SRDB[Name],\"NA\",0))","v":""},{"$f":"IF(ISBLANK(SRDB4[[#This Row],[SR-Nr]]),\"\",IF(COUNTIF(Registration!$A$7:$A$204,SRDB4[[#This Row],[SR-Nr]])=1,TRUE,FALSE))","v":""}]
[null,{"$f":"IF(ISBLANK(SRDB4[[#This Row],[SR-Nr]]),\"\",_xlfn.XLOOKUP(SRDB4[[#This Row],[SR-Nr]],SRDB[SR-Nr.],SRDB[Vorname],\"NA\",0))","v":""},{"$f":"IF(ISBLANK(SRDB4[[#This Row],[SR-Nr]]),\"\",_xlfn.XLOOKUP(SRDB4[[#This Row],[SR-Nr]],SRDB[SR-Nr.],SRDB[Name],\"NA\",0))","v":""},{"$f":"IF(ISBLANK(SRDB4[[#This Row],[SR-Nr]]),\"\",IF(COUNTIF(Registration!$A$7:$A$204,SRDB4[[#This Row],[SR-Nr]])=1,TRUE,FALSE))","v":""}]
[null,{"$f":"IF(ISBLANK(SRDB4[[#This Row],[SR-Nr]]),\"\",_xlfn.XLOOKUP(SRDB4[[#This Row],[SR-Nr]],SRDB[SR-Nr.],SRDB[Vorname],\"NA\",0))","v":""},{"$f":"IF(ISBLANK(SRDB4[[#This Row],[SR-Nr]]),\"\",_xlfn.XLOOKUP(SRDB4[[#This Row],[SR-Nr]],SRDB[SR-Nr.],SRDB[Name],\"NA\",0))","v":""},{"$f":"IF(ISBLANK(SRDB4[[#This Row],[SR-Nr]]),\"\",IF(COUNTIF(Registration!$A$7:$A$204,SRDB4[[#This Row],[SR-Nr]])=1,TRUE,FALSE))","v":""}]
[null,{"$f":"IF(ISBLANK(SRDB4[[#This Row],[SR-Nr]]),\"\",_xlfn.XLOOKUP(SRDB4[[#This Row],[SR-Nr]],SRDB[SR-Nr.],SRDB[Vorname],\"NA\",0))","v":""},{"$f":"IF(ISBLANK(SRDB4[[#This Row],[SR-Nr]]),\"\",_xlfn.XLOOKUP(SRDB4[[#This Row],[SR-Nr]],SRDB[SR-Nr.],SRDB[Name],\"NA\",0))","v":""},{"$f":"IF(ISBLANK(SRDB4[[#This Row],[SR-Nr]]),\"\",IF(COUNTIF(Registration!$A$7:$A$204,SRDB4[[#This Row],[SR-Nr]])=1,TRUE,FALSE))","v":""}]
[null,{"$f":"IF(ISBLANK(SRDB4[[#This Row],[SR-Nr]]),\"\",_xlfn.XLOOKUP(SRDB4[[#This Row],[SR-Nr]],SRDB[SR-Nr.],SRDB[Vorname],\"NA\",0))","v":""},{"$f":"IF(ISBLANK(SRDB4[[#This Row],[SR-Nr]]),\"\",_xlfn.XLOOKUP(SRDB4[[#This Row],[SR-Nr]],SRDB[SR-Nr.],SRDB[Name],\"NA\",0))","v":""},{"$f":"IF(ISBLANK(SRDB4[[#This Row],[SR-Nr]]),\"\",IF(COUNTIF(Registration!$A$7:$A$204,SRDB4[[#This Row],[SR-Nr]])=1,TRUE,FALSE))","v":""}]
[null,{"$f":"IF(ISBLANK(SRDB4[[#This Row],[SR-Nr]]),\"\",_xlfn.XLOOKUP(SRDB4[[#This Row],[SR-Nr]],SRDB[SR-Nr.],SRDB[Vorname],\"NA\",0))","v":""},{"$f":"IF(ISBLANK(SRDB4[[#This Row],[SR-Nr]]),\"\",_xlfn.XLOOKUP(SRDB4[[#This Row],[SR-Nr]],SRDB[SR-Nr.],SRDB[Name],\"NA\",0))","v":""},{"$f":"IF(ISBLANK(SRDB4[[#This Row],[SR-Nr]]),\"\",IF(COUNTIF(Registration!$A$7:$A$204,SRDB4[[#This Row],[SR-Nr]])=1,TRUE,FALSE))","v":""}]
[null,{"$f":"IF(ISBLANK(SRDB4[[#This Row],[SR-Nr]]),\"\",_xlfn.XLOOKUP(SRDB4[[#This Row],[SR-Nr]],SRDB[SR-Nr.],SRDB[Vorname],\"NA\",0))","v":""},{"$f":"IF(ISBLANK(SRDB4[[#This Row],[SR-Nr]]),\"\",_xlfn.XLOOKUP(SRDB4[[#This Row],[SR-Nr]],SRDB[SR-Nr.],SRDB[Name],\"NA\",0))","v":""},{"$f":"IF(ISBLANK(SRDB4[[#This Row],[SR-Nr]]),\"\",IF(COUNTIF(Registration!$A$7:$A$204,SRDB4[[#This Row],[SR-Nr]])=1,TRUE,FALSE))","v":""}]
[null,{"$f":"IF(ISBLANK(SRDB4[[#This Row],[SR-Nr]]),\"\",_xlfn.XLOOKUP(SRDB4[[#This Row],[SR-Nr]],SRDB[SR-Nr.],SRDB[Vorname],\"NA\",0))","v":""},{"$f":"IF(ISBLANK(SRDB4[[#This Row],[SR-Nr]]),\"\",_xlfn.XLOOKUP(SRDB4[[#This Row],[SR-Nr]],SRDB[SR-Nr.],SRDB[Name],\"NA\",0))","v":""},{"$f":"IF(ISBLANK(SRDB4[[#This Row],[SR-Nr]]),\"\",IF(COUNTIF(Registration!$A$7:$A$204,SRDB4[[#This Row],[SR-Nr]])=1,TRUE,FALSE))","v":""}]
[null,{"$f":"IF(ISBLANK(SRDB4[[#This Row],[SR-Nr]]),\"\",_xlfn.XLOOKUP(SRDB4[[#This Row],[SR-Nr]],SRDB[SR-Nr.],SRDB[Vorname],\"NA\",0))","v":""},{"$f":"IF(ISBLANK(SRDB4[[#This Row],[SR-Nr]]),\"\",_xlfn.XLOOKUP(SRDB4[[#This Row],[SR-Nr]],SRDB[SR-Nr.],SRDB[Name],\"NA\",0))","v":""},{"$f":"IF(ISBLANK(SRDB4[[#This Row],[SR-Nr]]),\"\",IF(COUNTIF(Registration!$A$7:$A$204,SRDB4[[#This Row],[SR-Nr]])=1,TRUE,FALSE))","v":""}]
[null,{"$f":"IF(ISBLANK(SRDB4[[#This Row],[SR-Nr]]),\"\",_xlfn.XLOOKUP(SRDB4[[#This Row],[SR-Nr]],SRDB[SR-Nr.],SRDB[Vorname],\"NA\",0))","v":""},{"$f":"IF(ISBLANK(SRDB4[[#This Row],[SR-Nr]]),\"\",_xlfn.XLOOKUP(SRDB4[[#This Row],[SR-Nr]],SRDB[SR-Nr.],SRDB[Name],\"NA\",0))","v":""},{"$f":"IF(ISBLANK(SRDB4[[#This Row],[SR-Nr]]),\"\",IF(COUNTIF(Registration!$A$7:$A$204,SRDB4[[#This Row],[SR-Nr]])=1,TRUE,FALSE))","v":""}]
[null,{"$f":"IF(ISBLANK(SRDB4[[#This Row],[SR-Nr]]),\"\",_xlfn.XLOOKUP(SRDB4[[#This Row],[SR-Nr]],SRDB[SR-Nr.],SRDB[Vorname],\"NA\",0))","v":""},{"$f":"IF(ISBLANK(SRDB4[[#This Row],[SR-Nr]]),\"\",_xlfn.XLOOKUP(SRDB4[[#This Row],[SR-Nr]],SRDB[SR-Nr.],SRDB[Name],\"NA\",0))","v":""},{"$f":"IF(ISBLANK(SRDB4[[#This Row],[SR-Nr]]),\"\",IF(COUNTIF(Registration!$A$7:$A$204,SRDB4[[#This Row],[SR-Nr]])=1,TRUE,FALSE))","v":""}]
[null,{"$f":"IF(ISBLANK(SRDB4[[#This Row],[SR-Nr]]),\"\",_xlfn.XLOOKUP(SRDB4[[#This Row],[SR-Nr]],SRDB[SR-Nr.],SRDB[Vorname],\"NA\",0))","v":""},{"$f":"IF(ISBLANK(SRDB4[[#This Row],[SR-Nr]]),\"\",_xlfn.XLOOKUP(SRDB4[[#This Row],[SR-Nr]],SRDB[SR-Nr.],SRDB[Name],\"NA\",0))","v":""},{"$f":"IF(ISBLANK(SRDB4[[#This Row],[SR-Nr]]),\"\",IF(COUNTIF(Registration!$A$7:$A$204,SRDB4[[#This Row],[SR-Nr]])=1,TRUE,FALSE))","v":""}]
[null,{"$f":"IF(ISBLANK(SRDB4[[#This Row],[SR-Nr]]),\"\",_xlfn.XLOOKUP(SRDB4[[#This Row],[SR-Nr]],SRDB[SR-Nr.],SRDB[Vorname],\"NA\",0))","v":""},{"$f":"IF(ISBLANK(SRDB4[[#This Row],[SR-Nr]]),\"\",_xlfn.XLOOKUP(SRDB4[[#This Row],[SR-Nr]],SRDB[SR-Nr.],SRDB[Name],\"NA\",0))","v":""},{"$f":"IF(ISBLANK(SRDB4[[#This Row],[SR-Nr]]),\"\",IF(COUNTIF(Registration!$A$7:$A$204,SRDB4[[#This Row],[SR-Nr]])=1,TRUE,FALSE))","v":""}]
[null,{"$f":"IF(ISBLANK(SRDB4[[#This Row],[SR-Nr]]),\"\",_xlfn.XLOOKUP(SRDB4[[#This Row],[SR-Nr]],SRDB[SR-Nr.],SRDB[Vorname],\"NA\",0))","v":""},{"$f":"IF(ISBLANK(SRDB4[[#This Row],[SR-Nr]]),\"\",_xlfn.XLOOKUP(SRDB4[[#This Row],[SR-Nr]],SRDB[SR-Nr.],SRDB[Name],\"NA\",0))","v":""},{"$f":"IF(ISBLANK(SRDB4[[#This Row],[SR-Nr]]),\"\",IF(COUNTIF(Registration!$A$7:$A$204,SRDB4[[#This Row],[SR-Nr]])=1,TRUE,FALSE))","v":""}]
[null,{"$f":"IF(ISBLANK(SRDB4[[#This Row],[SR-Nr]]),\"\",_xlfn.XLOOKUP(SRDB4[[#This Row],[SR-Nr]],SRDB[SR-Nr.],SRDB[Vorname],\"NA\",0))","v":""},{"$f":"IF(ISBLANK(SRDB4[[#This Row],[SR-Nr]]),\"\",_xlfn.XLOOKUP(SRDB4[[#This Row],[SR-Nr]],SRDB[SR-Nr.],SRDB[Name],\"NA\",0))","v":""},{"$f":"IF(ISBLANK(SRDB4[[#This Row],[SR-Nr]]),\"\",IF(COUNTIF(Registration!$A$7:$A$204,SRDB4[[#This Row],[SR-Nr]])=1,TRUE,FALSE))","v":""}]
[null,{"$f":"IF(ISBLANK(SRDB4[[#This Row],[SR-Nr]]),\"\",_xlfn.XLOOKUP(SRDB4[[#This Row],[SR-Nr]],SRDB[SR-Nr.],SRDB[Vorname],\"NA\",0))","v":""},{"$f":"IF(ISBLANK(SRDB4[[#This Row],[SR-Nr]]),\"\",_xlfn.XLOOKUP(SRDB4[[#This Row],[SR-Nr]],SRDB[SR-Nr.],SRDB[Name],\"NA\",0))","v":""},{"$f":"IF(ISBLANK(SRDB4[[#This Row],[SR-Nr]]),\"\",IF(COUNTIF(Registration!$A$7:$A$204,SRDB4[[#This Row],[SR-Nr]])=1,TRUE,FALSE))","v":""}]
[null,{"$f":"IF(ISBLANK(SRDB4[[#This Row],[SR-Nr]]),\"\",_xlfn.XLOOKUP(SRDB4[[#This Row],[SR-Nr]],SRDB[SR-Nr.],SRDB[Vorname],\"NA\",0))","v":""},{"$f":"IF(ISBLANK(SRDB4[[#This Row],[SR-Nr]]),\"\",_xlfn.XLOOKUP(SRDB4[[#This Row],[SR-Nr]],SRDB[SR-Nr.],SRDB[Name],\"NA\",0))","v":""},{"$f":"IF(ISBLANK(SRDB4[[#This Row],[SR-Nr]]),\"\",IF(COUNTIF(Registration!$A$7:$A$204,SRDB4[[#This Row],[SR-Nr]])=1,TRUE,FALSE))","v":""}]
[null,{"$f":"IF(ISBLANK(SRDB4[[#This Row],[SR-Nr]]),\"\",_xlfn.XLOOKUP(SRDB4[[#This Row],[SR-Nr]],SRDB[SR-Nr.],SRDB[Vorname],\"NA\",0))","v":""},{"$f":"IF(ISBLANK(SRDB4[[#This Row],[SR-Nr]]),\"\",_xlfn.XLOOKUP(SRDB4[[#This Row],[SR-Nr]],SRDB[SR-Nr.],SRDB[Name],\"NA\",0))","v":""},{"$f":"IF(ISBLANK(SRDB4[[#This Row],[SR-Nr]]),\"\",IF(COUNTIF(Registration!$A$7:$A$204,SRDB4[[#This Row],[SR-Nr]])=1,TRUE,FALSE))","v":""}]
[null,{"$f":"IF(ISBLANK(SRDB4[[#This Row],[SR-Nr]]),\"\",_xlfn.XLOOKUP(SRDB4[[#This Row],[SR-Nr]],SRDB[SR-Nr.],SRDB[Vorname],\"NA\",0))","v":""},{"$f":"IF(ISBLANK(SRDB4[[#This Row],[SR-Nr]]),\"\",_xlfn.XLOOKUP(SRDB4[[#This Row],[SR-Nr]],SRDB[SR-Nr.],SRDB[Name],\"NA\",0))","v":""},{"$f":"IF(ISBLANK(SRDB4[[#This Row],[SR-Nr]]),\"\",IF(COUNTIF(Registration!$A$7:$A$204,SRDB4[[#This Row],[SR-Nr]])=1,TRUE,FALSE))","v":""}]
[null,{"$f":"IF(ISBLANK(SRDB4[[#This Row],[SR-Nr]]),\"\",_xlfn.XLOOKUP(SRDB4[[#This Row],[SR-Nr]],SRDB[SR-Nr.],SRDB[Vorname],\"NA\",0))","v":""},{"$f":"IF(ISBLANK(SRDB4[[#This Row],[SR-Nr]]),\"\",_xlfn.XLOOKUP(SRDB4[[#This Row],[SR-Nr]],SRDB[SR-Nr.],SRDB[Name],\"NA\",0))","v":""},{"$f":"IF(ISBLANK(SRDB4[[#This Row],[SR-Nr]]),\"\",IF(COUNTIF(Registration!$A$7:$A$204,SRDB4[[#This Row],[SR-Nr]])=1,TRUE,FALSE))","v":""}]
[null,{"$f":"IF(ISBLANK(SRDB4[[#This Row],[SR-Nr]]),\"\",_xlfn.XLOOKUP(SRDB4[[#This Row],[SR-Nr]],SRDB[SR-Nr.],SRDB[Vorname],\"NA\",0))","v":""},{"$f":"IF(ISBLANK(SRDB4[[#This Row],[SR-Nr]]),\"\",_xlfn.XLOOKUP(SRDB4[[#This Row],[SR-Nr]],SRDB[SR-Nr.],SRDB[Name],\"NA\",0))","v":""},{"$f":"IF(ISBLANK(SRDB4[[#This Row],[SR-Nr]]),\"\",IF(COUNTIF(Registration!$A$7:$A$204,SRDB4[[#This Row],[SR-Nr]])=1,TRUE,FALSE))","v":""}]
[null,{"$f":"IF(ISBLANK(SRDB4[[#This Row],[SR-Nr]]),\"\",_xlfn.XLOOKUP(SRDB4[[#This Row],[SR-Nr]],SRDB[SR-Nr.],SRDB[Vorname],\"NA\",0))","v":""},{"$f":"IF(ISBLANK(SRDB4[[#This Row],[SR-Nr]]),\"\",_xlfn.XLOOKUP(SRDB4[[#This Row],[SR-Nr]],SRDB[SR-Nr.],SRDB[Name],\"NA\",0))","v":""},{"$f":"IF(ISBLANK(SRDB4[[#This Row],[SR-Nr]]),\"\",IF(COUNTIF(Registration!$A$7:$A$204,SRDB4[[#This Row],[SR-Nr]])=1,TRUE,FALSE))","v":""}]
[null,{"$f":"IF(ISBLANK(SRDB4[[#This Row],[SR-Nr]]),\"\",_xlfn.XLOOKUP(SRDB4[[#This Row],[SR-Nr]],SRDB[SR-Nr.],SRDB[Vorname],\"NA\",0))","v":""},{"$f":"IF(ISBLANK(SRDB4[[#This Row],[SR-Nr]]),\"\",_xlfn.XLOOKUP(SRDB4[[#This Row],[SR-Nr]],SRDB[SR-Nr.],SRDB[Name],\"NA\",0))","v":""},{"$f":"IF(ISBLANK(SRDB4[[#This Row],[SR-Nr]]),\"\",IF(COUNTIF(Registration!$A$7:$A$204,SRDB4[[#This Row],[SR-Nr]])=1,TRUE,FALSE))","v":""}]
[null,{"$f":"IF(ISBLANK(SRDB4[[#This Row],[SR-Nr]]),\"\",_xlfn.XLOOKUP(SRDB4[[#This Row],[SR-Nr]],SRDB[SR-Nr.],SRDB[Vorname],\"NA\",0))","v":""},{"$f":"IF(ISBLANK(SRDB4[[#This Row],[SR-Nr]]),\"\",_xlfn.XLOOKUP(SRDB4[[#This Row],[SR-Nr]],SRDB[SR-Nr.],SRDB[Name],\"NA\",0))","v":""},{"$f":"IF(ISBLANK(SRDB4[[#This Row],[SR-Nr]]),\"\",IF(COUNTIF(Registration!$A$7:$A$204,SRDB4[[#This Row],[SR-Nr]])=1,TRUE,FALSE))","v":""}]
[null,{"$f":"IF(ISBLANK(SRDB4[[#This Row],[SR-Nr]]),\"\",_xlfn.XLOOKUP(SRDB4[[#This Row],[SR-Nr]],SRDB[SR-Nr.],SRDB[Vorname],\"NA\",0))","v":""},{"$f":"IF(ISBLANK(SRDB4[[#This Row],[SR-Nr]]),\"\",_xlfn.XLOOKUP(SRDB4[[#This Row],[SR-Nr]],SRDB[SR-Nr.],SRDB[Name],\"NA\",0))","v":""},{"$f":"IF(ISBLANK(SRDB4[[#This Row],[SR-Nr]]),\"\",IF(COUNTIF(Registration!$A$7:$A$204,SRDB4[[#This Row],[SR-Nr]])=1,TRUE,FALSE))","v":""}]
[null,{"$f":"IF(ISBLANK(SRDB4[[#This Row],[SR-Nr]]),\"\",_xlfn.XLOOKUP(SRDB4[[#This Row],[SR-Nr]],SRDB[SR-Nr.],SRDB[Vorname],\"NA\",0))","v":""},{"$f":"IF(ISBLANK(SRDB4[[#This Row],[SR-Nr]]),\"\",_xlfn.XLOOKUP(SRDB4[[#This Row],[SR-Nr]],SRDB[SR-Nr.],SRDB[Name],\"NA\",0))","v":""},{"$f":"IF(ISBLANK(SRDB4[[#This Row],[SR-Nr]]),\"\",IF(COUNTIF(Registration!$A$7:$A$204,SRDB4[[#This Row],[SR-Nr]])=1,TRUE,FALSE))","v":""}]
[null,{"$f":"IF(ISBLANK(SRDB4[[#This Row],[SR-Nr]]),\"\",_xlfn.XLOOKUP(SRDB4[[#This Row],[SR-Nr]],SRDB[SR-Nr.],SRDB[Vorname],\"NA\",0))","v":""},{"$f":"IF(ISBLANK(SRDB4[[#This Row],[SR-Nr]]),\"\",_xlfn.XLOOKUP(SRDB4[[#This Row],[SR-Nr]],SRDB[SR-Nr.],SRDB[Name],\"NA\",0))","v":""},{"$f":"IF(ISBLANK(SRDB4[[#This Row],[SR-Nr]]),\"\",IF(COUNTIF(Registration!$A$7:$A$204,SRDB4[[#This Row],[SR-Nr]])=1,TRUE,FALSE))","v":""}]
[null,{"$f":"IF(ISBLANK(SRDB4[[#This Row],[SR-Nr]]),\"\",_xlfn.XLOOKUP(SRDB4[[#This Row],[SR-Nr]],SRDB[SR-Nr.],SRDB[Vorname],\"NA\",0))","v":""},{"$f":"IF(ISBLANK(SRDB4[[#This Row],[SR-Nr]]),\"\",_xlfn.XLOOKUP(SRDB4[[#This Row],[SR-Nr]],SRDB[SR-Nr.],SRDB[Name],\"NA\",0))","v":""},{"$f":"IF(ISBLANK(SRDB4[[#This Row],[SR-Nr]]),\"\",IF(COUNTIF(Registration!$A$7:$A$204,SRDB4[[#This Row],[SR-Nr]])=1,TRUE,FALSE))","v":""}]
[null,{"$f":"IF(ISBLANK(SRDB4[[#This Row],[SR-Nr]]),\"\",_xlfn.XLOOKUP(SRDB4[[#This Row],[SR-Nr]],SRDB[SR-Nr.],SRDB[Vorname],\"NA\",0))","v":""},{"$f":"IF(ISBLANK(SRDB4[[#This Row],[SR-Nr]]),\"\",_xlfn.XLOOKUP(SRDB4[[#This Row],[SR-Nr]],SRDB[SR-Nr.],SRDB[Name],\"NA\",0))","v":""},{"$f":"IF(ISBLANK(SRDB4[[#This Row],[SR-Nr]]),\"\",IF(COUNTIF(Registration!$A$7:$A$204,SRDB4[[#This Row],[SR-Nr]])=1,TRUE,FALSE))","v":""}]
[null,{"$f":"IF(ISBLANK(SRDB4[[#This Row],[SR-Nr]]),\"\",_xlfn.XLOOKUP(SRDB4[[#This Row],[SR-Nr]],SRDB[SR-Nr.],SRDB[Vorname],\"NA\",0))","v":""},{"$f":"IF(ISBLANK(SRDB4[[#This Row],[SR-Nr]]),\"\",_xlfn.XLOOKUP(SRDB4[[#This Row],[SR-Nr]],SRDB[SR-Nr.],SRDB[Name],\"NA\",0))","v":""},{"$f":"IF(ISBLANK(SRDB4[[#This Row],[SR-Nr]]),\"\",IF(COUNTIF(Registration!$A$7:$A$204,SRDB4[[#This Row],[SR-Nr]])=1,TRUE,FALSE))","v":""}]
[null,{"$f":"IF(ISBLANK(SRDB4[[#This Row],[SR-Nr]]),\"\",_xlfn.XLOOKUP(SRDB4[[#This Row],[SR-Nr]],SRDB[SR-Nr.],SRDB[Vorname],\"NA\",0))","v":""},{"$f":"IF(ISBLANK(SRDB4[[#This Row],[SR-Nr]]),\"\",_xlfn.XLOOKUP(SRDB4[[#This Row],[SR-Nr]],SRDB[SR-Nr.],SRDB[Name],\"NA\",0))","v":""},{"$f":"IF(ISBLANK(SRDB4[[#This Row],[SR-Nr]]),\"\",IF(COUNTIF(Registration!$A$7:$A$204,SRDB4[[#This Row],[SR-Nr]])=1,TRUE,FALSE))","v":""}]
[null,{"$f":"IF(ISBLANK(SRDB4[[#This Row],[SR-Nr]]),\"\",_xlfn.XLOOKUP(SRDB4[[#This Row],[SR-Nr]],SRDB[SR-Nr.],SRDB[Vorname],\"NA\",0))","v":""},{"$f":"IF(ISBLANK(SRDB4[[#This Row],[SR-Nr]]),\"\",_xlfn.XLOOKUP(SRDB4[[#This Row],[SR-Nr]],SRDB[SR-Nr.],SRDB[Name],\"NA\",0))","v":""},{"$f":"IF(ISBLANK(SRDB4[[#This Row],[SR-Nr]]),\"\",IF(COUNTIF(Registration!$A$7:$A$204,SRDB4[[#This Row],[SR-Nr]])=1,TRUE,FALSE))","v":""}]
[null,{"$f":"IF(ISBLANK(SRDB4[[#This Row],[SR-Nr]]),\"\",_xlfn.XLOOKUP(SRDB4[[#This Row],[SR-Nr]],SRDB[SR-Nr.],SRDB[Vorname],\"NA\",0))","v":""},{"$f":"IF(ISBLANK(SRDB4[[#This Row],[SR-Nr]]),\"\",_xlfn.XLOOKUP(SRDB4[[#This Row],[SR-Nr]],SRDB[SR-Nr.],SRDB[Name],\"NA\",0))","v":""},{"$f":"IF(ISBLANK(SRDB4[[#This Row],[SR-Nr]]),\"\",IF(COUNTIF(Registration!$A$7:$A$204,SRDB4[[#This Row],[SR-Nr]])=1,TRUE,FALSE))","v":""}]
[null,{"$f":"IF(ISBLANK(SRDB4[[#This Row],[SR-Nr]]),\"\",_xlfn.XLOOKUP(SRDB4[[#This Row],[SR-Nr]],SRDB[SR-Nr.],SRDB[Vorname],\"NA\",0))","v":""},{"$f":"IF(ISBLANK(SRDB4[[#This Row],[SR-Nr]]),\"\",_xlfn.XLOOKUP(SRDB4[[#This Row],[SR-Nr]],SRDB[SR-Nr.],SRDB[Name],\"NA\",0))","v":""},{"$f":"IF(ISBLANK(SRDB4[[#This Row],[SR-Nr]]),\"\",IF(COUNTIF(Registration!$A$7:$A$204,SRDB4[[#This Row],[SR-Nr]])=1,TRUE,FALSE))","v":""}]
[null,{"$f":"IF(ISBLANK(SRDB4[[#This Row],[SR-Nr]]),\"\",_xlfn.XLOOKUP(SRDB4[[#This Row],[SR-Nr]],SRDB[SR-Nr.],SRDB[Vorname],\"NA\",0))","v":""},{"$f":"IF(ISBLANK(SRDB4[[#This Row],[SR-Nr]]),\"\",_xlfn.XLOOKUP(SRDB4[[#This Row],[SR-Nr]],SRDB[SR-Nr.],SRDB[Name],\"NA\",0))","v":""},{"$f":"IF(ISBLANK(SRDB4[[#This Row],[SR-Nr]]),\"\",IF(COUNTIF(Registration!$A$7:$A$204,SRDB4[[#This Row],[SR-Nr]])=1,TRUE,FALSE))","v":""}]
[null,{"$f":"IF(ISBLANK(SRDB4[[#This Row],[SR-Nr]]),\"\",_xlfn.XLOOKUP(SRDB4[[#This Row],[SR-Nr]],SRDB[SR-Nr.],SRDB[Vorname],\"NA\",0))","v":""},{"$f":"IF(ISBLANK(SRDB4[[#This Row],[SR-Nr]]),\"\",_xlfn.XLOOKUP(SRDB4[[#This Row],[SR-Nr]],SRDB[SR-Nr.],SRDB[Name],\"NA\",0))","v":""},{"$f":"IF(ISBLANK(SRDB4[[#This Row],[SR-Nr]]),\"\",IF(COUNTIF(Registration!$A$7:$A$204,SRDB4[[#This Row],[SR-Nr]])=1,TRUE,FALSE))","v":""}]
[null,{"$f":"IF(ISBLANK(SRDB4[[#This Row],[SR-Nr]]),\"\",_xlfn.XLOOKUP(SRDB4[[#This Row],[SR-Nr]],SRDB[SR-Nr.],SRDB[Vorname],\"NA\",0))","v":""},{"$f":"IF(ISBLANK(SRDB4[[#This Row],[SR-Nr]]),\"\",_xlfn.XLOOKUP(SRDB4[[#This Row],[SR-Nr]],SRDB[SR-Nr.],SRDB[Name],\"NA\",0))","v":""},{"$f":"IF(ISBLANK(SRDB4[[#This Row],[SR-Nr]]),\"\",IF(COUNTIF(Registration!$A$7:$A$204,SRDB4[[#This Row],[SR-Nr]])=1,TRUE,FALSE))","v":""}]
[null,{"$f":"IF(ISBLANK(SRDB4[[#This Row],[SR-Nr]]),\"\",_xlfn.XLOOKUP(SRDB4[[#This Row],[SR-Nr]],SRDB[SR-Nr.],SRDB[Vorname],\"NA\",0))","v":""},{"$f":"IF(ISBLANK(SRDB4[[#This Row],[SR-Nr]]),\"\",_xlfn.XLOOKUP(SRDB4[[#This Row],[SR-Nr]],SRDB[SR-Nr.],SRDB[Name],\"NA\",0))","v":""},{"$f":"IF(ISBLANK(SRDB4[[#This Row],[SR-Nr]]),\"\",IF(COUNTIF(Registration!$A$7:$A$204,SRDB4[[#This Row],[SR-Nr]])=1,TRUE,FALSE))","v":""}]
[null,{"$f":"IF(ISBLANK(SRDB4[[#This Row],[SR-Nr]]),\"\",_xlfn.XLOOKUP(SRDB4[[#This Row],[SR-Nr]],SRDB[SR-Nr.],SRDB[Vorname],\"NA\",0))","v":""},{"$f":"IF(ISBLANK(SRDB4[[#This Row],[SR-Nr]]),\"\",_xlfn.XLOOKUP(SRDB4[[#This Row],[SR-Nr]],SRDB[SR-Nr.],SRDB[Name],\"NA\",0))","v":""},{"$f":"IF(ISBLANK(SRDB4[[#This Row],[SR-Nr]]),\"\",IF(COUNTIF(Registration!$A$7:$A$204,SRDB4[[#This Row],[SR-Nr]])=1,TRUE,FALSE))","v":""}]
[null,{"$f":"IF(ISBLANK(SRDB4[[#This Row],[SR-Nr]]),\"\",_xlfn.XLOOKUP(SRDB4[[#This Row],[SR-Nr]],SRDB[SR-Nr.],SRDB[Vorname],\"NA\",0))","v":""},{"$f":"IF(ISBLANK(SRDB4[[#This Row],[SR-Nr]]),\"\",_xlfn.XLOOKUP(SRDB4[[#This Row],[SR-Nr]],SRDB[SR-Nr.],SRDB[Name],\"NA\",0))","v":""},{"$f":"IF(ISBLANK(SRDB4[[#This Row],[SR-Nr]]),\"\",IF(COUNTIF(Registration!$A$7:$A$204,SRDB4[[#This Row],[SR-Nr]])=1,TRUE,FALSE))","v":""}]
[null,{"$f":"IF(ISBLANK(SRDB4[[#This Row],[SR-Nr]]),\"\",_xlfn.XLOOKUP(SRDB4[[#This Row],[SR-Nr]],SRDB[SR-Nr.],SRDB[Vorname],\"NA\",0))","v":""},{"$f":"IF(ISBLANK(SRDB4[[#This Row],[SR-Nr]]),\"\",_xlfn.XLOOKUP(SRDB4[[#This Row],[SR-Nr]],SRDB[SR-Nr.],SRDB[Name],\"NA\",0))","v":""},{"$f":"IF(ISBLANK(SRDB4[[#This Row],[SR-Nr]]),\"\",IF(COUNTIF(Registration!$A$7:$A$204,SRDB4[[#This Row],[SR-Nr]])=1,TRUE,FALSE))","v":""}]
[null,{"$f":"IF(ISBLANK(SRDB4[[#This Row],[SR-Nr]]),\"\",_xlfn.XLOOKUP(SRDB4[[#This Row],[SR-Nr]],SRDB[SR-Nr.],SRDB[Vorname],\"NA\",0))","v":""},{"$f":"IF(ISBLANK(SRDB4[[#This Row],[SR-Nr]]),\"\",_xlfn.XLOOKUP(SRDB4[[#This Row],[SR-Nr]],SRDB[SR-Nr.],SRDB[Name],\"NA\",0))","v":""},{"$f":"IF(ISBLANK(SRDB4[[#This Row],[SR-Nr]]),\"\",IF(COUNTIF(Registration!$A$7:$A$204,SRDB4[[#This Row],[SR-Nr]])=1,TRUE,FALSE))","v":""}]
[null,{"$f":"IF(ISBLANK(SRDB4[[#This Row],[SR-Nr]]),\"\",_xlfn.XLOOKUP(SRDB4[[#This Row],[SR-Nr]],SRDB[SR-Nr.],SRDB[Vorname],\"NA\",0))","v":""},{"$f":"IF(ISBLANK(SRDB4[[#This Row],[SR-Nr]]),\"\",_xlfn.XLOOKUP(SRDB4[[#This Row],[SR-Nr]],SRDB[SR-Nr.],SRDB[Name],\"NA\",0))","v":""},{"$f":"IF(ISBLANK(SRDB4[[#This Row],[SR-Nr]]),\"\",IF(COUNTIF(Registration!$A$7:$A$204,SRDB4[[#This Row],[SR-Nr]])=1,TRUE,FALSE))","v":""}]
[null,{"$f":"IF(ISBLANK(SRDB4[[#This Row],[SR-Nr]]),\"\",_xlfn.XLOOKUP(SRDB4[[#This Row],[SR-Nr]],SRDB[SR-Nr.],SRDB[Vorname],\"NA\",0))","v":""},{"$f":"IF(ISBLANK(SRDB4[[#This Row],[SR-Nr]]),\"\",_xlfn.XLOOKUP(SRDB4[[#This Row],[SR-Nr]],SRDB[SR-Nr.],SRDB[Name],\"NA\",0))","v":""},{"$f":"IF(ISBLANK(SRDB4[[#This Row],[SR-Nr]]),\"\",IF(COUNTIF(Registration!$A$7:$A$204,SRDB4[[#This Row],[SR-Nr]])=1,TRUE,FALSE))","v":""}]
[null,{"$f":"IF(ISBLANK(SRDB4[[#This Row],[SR-Nr]]),\"\",_xlfn.XLOOKUP(SRDB4[[#This Row],[SR-Nr]],SRDB[SR-Nr.],SRDB[Vorname],\"NA\",0))","v":""},{"$f":"IF(ISBLANK(SRDB4[[#This Row],[SR-Nr]]),\"\",_xlfn.XLOOKUP(SRDB4[[#This Row],[SR-Nr]],SRDB[SR-Nr.],SRDB[Name],\"NA\",0))","v":""},{"$f":"IF(ISBLANK(SRDB4[[#This Row],[SR-Nr]]),\"\",IF(COUNTIF(Registration!$A$7:$A$204,SRDB4[[#This Row],[SR-Nr]])=1,TRUE,FALSE))","v":""}]
[null,{"$f":"IF(ISBLANK(SRDB4[[#This Row],[SR-Nr]]),\"\",_xlfn.XLOOKUP(SRDB4[[#This Row],[SR-Nr]],SRDB[SR-Nr.],SRDB[Vorname],\"NA\",0))","v":""},{"$f":"IF(ISBLANK(SRDB4[[#This Row],[SR-Nr]]),\"\",_xlfn.XLOOKUP(SRDB4[[#This Row],[SR-Nr]],SRDB[SR-Nr.],SRDB[Name],\"NA\",0))","v":""},{"$f":"IF(ISBLANK(SRDB4[[#This Row],[SR-Nr]]),\"\",IF(COUNTIF(Registration!$A$7:$A$204,SRDB4[[#This Row],[SR-Nr]])=1,TRUE,FALSE))","v":""}]
[null,{"$f":"IF(ISBLANK(SRDB4[[#This Row],[SR-Nr]]),\"\",_xlfn.XLOOKUP(SRDB4[[#This Row],[SR-Nr]],SRDB[SR-Nr.],SRDB[Vorname],\"NA\",0))","v":""},{"$f":"IF(ISBLANK(SRDB4[[#This Row],[SR-Nr]]),\"\",_xlfn.XLOOKUP(SRDB4[[#This Row],[SR-Nr]],SRDB[SR-Nr.],SRDB[Name],\"NA\",0))","v":""},{"$f":"IF(ISBLANK(SRDB4[[#This Row],[SR-Nr]]),\"\",IF(COUNTIF(Registration!$A$7:$A$204,SRDB4[[#This Row],[SR-Nr]])=1,TRUE,FALSE))","v":""}]
[null,{"$f":"IF(ISBLANK(SRDB4[[#This Row],[SR-Nr]]),\"\",_xlfn.XLOOKUP(SRDB4[[#This Row],[SR-Nr]],SRDB[SR-Nr.],SRDB[Vorname],\"NA\",0))","v":""},{"$f":"IF(ISBLANK(SRDB4[[#This Row],[SR-Nr]]),\"\",_xlfn.XLOOKUP(SRDB4[[#This Row],[SR-Nr]],SRDB[SR-Nr.],SRDB[Name],\"NA\",0))","v":""},{"$f":"IF(ISBLANK(SRDB4[[#This Row],[SR-Nr]]),\"\",IF(COUNTIF(Registration!$A$7:$A$204,SRDB4[[#This Row],[SR-Nr]])=1,TRUE,FALSE))","v":""}]
[null,{"$f":"IF(ISBLANK(SRDB4[[#This Row],[SR-Nr]]),\"\",_xlfn.XLOOKUP(SRDB4[[#This Row],[SR-Nr]],SRDB[SR-Nr.],SRDB[Vorname],\"NA\",0))","v":""},{"$f":"IF(ISBLANK(SRDB4[[#This Row],[SR-Nr]]),\"\",_xlfn.XLOOKUP(SRDB4[[#This Row],[SR-Nr]],SRDB[SR-Nr.],SRDB[Name],\"NA\",0))","v":""},{"$f":"IF(ISBLANK(SRDB4[[#This Row],[SR-Nr]]),\"\",IF(COUNTIF(Registration!$A$7:$A$204,SRDB4[[#This Row],[SR-Nr]])=1,TRUE,FALSE))","v":""}]
[null,{"$f":"IF(ISBLANK(SRDB4[[#This Row],[SR-Nr]]),\"\",_xlfn.XLOOKUP(SRDB4[[#This Row],[SR-Nr]],SRDB[SR-Nr.],SRDB[Vorname],\"NA\",0))","v":""},{"$f":"IF(ISBLANK(SRDB4[[#This Row],[SR-Nr]]),\"\",_xlfn.XLOOKUP(SRDB4[[#This Row],[SR-Nr]],SRDB[SR-Nr.],SRDB[Name],\"NA\",0))","v":""},{"$f":"IF(ISBLANK(SRDB4[[#This Row],[SR-Nr]]),\"\",IF(COUNTIF(Registration!$A$7:$A$204,SRDB4[[#This Row],[SR-Nr]])=1,TRUE,FALSE))","v":""}]
[null,{"$f":"IF(ISBLANK(SRDB4[[#This Row],[SR-Nr]]),\"\",_xlfn.XLOOKUP(SRDB4[[#This Row],[SR-Nr]],SRDB[SR-Nr.],SRDB[Vorname],\"NA\",0))","v":""},{"$f":"IF(ISBLANK(SRDB4[[#This Row],[SR-Nr]]),\"\",_xlfn.XLOOKUP(SRDB4[[#This Row],[SR-Nr]],SRDB[SR-Nr.],SRDB[Name],\"NA\",0))","v":""},{"$f":"IF(ISBLANK(SRDB4[[#This Row],[SR-Nr]]),\"\",IF(COUNTIF(Registration!$A$7:$A$204,SRDB4[[#This Row],[SR-Nr]])=1,TRUE,FALSE))","v":""}]
[null,{"$f":"IF(ISBLANK(SRDB4[[#This Row],[SR-Nr]]),\"\",_xlfn.XLOOKUP(SRDB4[[#This Row],[SR-Nr]],SRDB[SR-Nr.],SRDB[Vorname],\"NA\",0))","v":""},{"$f":"IF(ISBLANK(SRDB4[[#This Row],[SR-Nr]]),\"\",_xlfn.XLOOKUP(SRDB4[[#This Row],[SR-Nr]],SRDB[SR-Nr.],SRDB[Name],\"NA\",0))","v":""},{"$f":"IF(ISBLANK(SRDB4[[#This Row],[SR-Nr]]),\"\",IF(COUNTIF(Registration!$A$7:$A$204,SRDB4[[#This Row],[SR-Nr]])=1,TRUE,FALSE))","v":""}]
[null,{"$f":"IF(ISBLANK(SRDB4[[#This Row],[SR-Nr]]),\"\",_xlfn.XLOOKUP(SRDB4[[#This Row],[SR-Nr]],SRDB[SR-Nr.],SRDB[Vorname],\"NA\",0))","v":""},{"$f":"IF(ISBLANK(SRDB4[[#This Row],[SR-Nr]]),\"\",_xlfn.XLOOKUP(SRDB4[[#This Row],[SR-Nr]],SRDB[SR-Nr.],SRDB[Name],\"NA\",0))","v":""},{"$f":"IF(ISBLANK(SRDB4[[#This Row],[SR-Nr]]),\"\",IF(COUNTIF(Registration!$A$7:$A$204,SRDB4[[#This Row],[SR-Nr]])=1,TRUE,FALSE))","v":""}]
[null,{"$f":"IF(ISBLANK(SRDB4[[#This Row],[SR-Nr]]),\"\",_xlfn.XLOOKUP(SRDB4[[#This Row],[SR-Nr]],SRDB[SR-Nr.],SRDB[Vorname],\"NA\",0))","v":""},{"$f":"IF(ISBLANK(SRDB4[[#This Row],[SR-Nr]]),\"\",_xlfn.XLOOKUP(SRDB4[[#This Row],[SR-Nr]],SRDB[SR-Nr.],SRDB[Name],\"NA\",0))","v":""},{"$f":"IF(ISBLANK(SRDB4[[#This Row],[SR-Nr]]),\"\",IF(COUNTIF(Registration!$A$7:$A$204,SRDB4[[#This Row],[SR-Nr]])=1,TRUE,FALSE))","v":""}]
[null,{"$f":"IF(ISBLANK(SRDB4[[#This Row],[SR-Nr]]),\"\",_xlfn.XLOOKUP(SRDB4[[#This Row],[SR-Nr]],SRDB[SR-Nr.],SRDB[Vorname],\"NA\",0))","v":""},{"$f":"IF(ISBLANK(SRDB4[[#This Row],[SR-Nr]]),\"\",_xlfn.XLOOKUP(SRDB4[[#This Row],[SR-Nr]],SRDB[SR-Nr.],SRDB[Name],\"NA\",0))","v":""},{"$f":"IF(ISBLANK(SRDB4[[#This Row],[SR-Nr]]),\"\",IF(COUNTIF(Registration!$A$7:$A$204,SRDB4[[#This Row],[SR-Nr]])=1,TRUE,FALSE))","v":""}]
[null,{"$f":"IF(ISBLANK(SRDB4[[#This Row],[SR-Nr]]),\"\",_xlfn.XLOOKUP(SRDB4[[#This Row],[SR-Nr]],SRDB[SR-Nr.],SRDB[Vorname],\"NA\",0))","v":""},{"$f":"IF(ISBLANK(SRDB4[[#This Row],[SR-Nr]]),\"\",_xlfn.XLOOKUP(SRDB4[[#This Row],[SR-Nr]],SRDB[SR-Nr.],SRDB[Name],\"NA\",0))","v":""},{"$f":"IF(ISBLANK(SRDB4[[#This Row],[SR-Nr]]),\"\",IF(COUNTIF(Registration!$A$7:$A$204,SRDB4[[#This Row],[SR-Nr]])=1,TRUE,FALSE))","v":""}]
[null,{"$f":"IF(ISBLANK(SRDB4[[#This Row],[SR-Nr]]),\"\",_xlfn.XLOOKUP(SRDB4[[#This Row],[SR-Nr]],SRDB[SR-Nr.],SRDB[Vorname],\"NA\",0))","v":""},{"$f":"IF(ISBLANK(SRDB4[[#This Row],[SR-Nr]]),\"\",_xlfn.XLOOKUP(SRDB4[[#This Row],[SR-Nr]],SRDB[SR-Nr.],SRDB[Name],\"NA\",0))","v":""},{"$f":"IF(ISBLANK(SRDB4[[#This Row],[SR-Nr]]),\"\",IF(COUNTIF(Registration!$A$7:$A$204,SRDB4[[#This Row],[SR-Nr]])=1,TRUE,FALSE))","v":""}]
[null,{"$f":"IF(ISBLANK(SRDB4[[#This Row],[SR-Nr]]),\"\",_xlfn.XLOOKUP(SRDB4[[#This Row],[SR-Nr]],SRDB[SR-Nr.],SRDB[Vorname],\"NA\",0))","v":""},{"$f":"IF(ISBLANK(SRDB4[[#This Row],[SR-Nr]]),\"\",_xlfn.XLOOKUP(SRDB4[[#This Row],[SR-Nr]],SRDB[SR-Nr.],SRDB[Name],\"NA\",0))","v":""},{"$f":"IF(ISBLANK(SRDB4[[#This Row],[SR-Nr]]),\"\",IF(COUNTIF(Registration!$A$7:$A$204,SRDB4[[#This Row],[SR-Nr]])=1,TRUE,FALSE))","v":""}]
[null,{"$f":"IF(ISBLANK(SRDB4[[#This Row],[SR-Nr]]),\"\",_xlfn.XLOOKUP(SRDB4[[#This Row],[SR-Nr]],SRDB[SR-Nr.],SRDB[Vorname],\"NA\",0))","v":""},{"$f":"IF(ISBLANK(SRDB4[[#This Row],[SR-Nr]]),\"\",_xlfn.XLOOKUP(SRDB4[[#This Row],[SR-Nr]],SRDB[SR-Nr.],SRDB[Name],\"NA\",0))","v":""},{"$f":"IF(ISBLANK(SRDB4[[#This Row],[SR-Nr]]),\"\",IF(COUNTIF(Registration!$A$7:$A$204,SRDB4[[#This Row],[SR-Nr]])=1,TRUE,FALSE))","v":""}]
[null,{"$f":"IF(ISBLANK(SRDB4[[#This Row],[SR-Nr]]),\"\",_xlfn.XLOOKUP(SRDB4[[#This Row],[SR-Nr]],SRDB[SR-Nr.],SRDB[Vorname],\"NA\",0))","v":""},{"$f":"IF(ISBLANK(SRDB4[[#This Row],[SR-Nr]]),\"\",_xlfn.XLOOKUP(SRDB4[[#This Row],[SR-Nr]],SRDB[SR-Nr.],SRDB[Name],\"NA\",0))","v":""},{"$f":"IF(ISBLANK(SRDB4[[#This Row],[SR-Nr]]),\"\",IF(COUNTIF(Registration!$A$7:$A$204,SRDB4[[#This Row],[SR-Nr]])=1,TRUE,FALSE))","v":""}]
[null,{"$f":"IF(ISBLANK(SRDB4[[#This Row],[SR-Nr]]),\"\",_xlfn.XLOOKUP(SRDB4[[#This Row],[SR-Nr]],SRDB[SR-Nr.],SRDB[Vorname],\"NA\",0))","v":""},{"$f":"IF(ISBLANK(SRDB4[[#This Row],[SR-Nr]]),\"\",_xlfn.XLOOKUP(SRDB4[[#This Row],[SR-Nr]],SRDB[SR-Nr.],SRDB[Name],\"NA\",0))","v":""},{"$f":"IF(ISBLANK(SRDB4[[#This Row],[SR-Nr]]),\"\",IF(COUNTIF(Registration!$A$7:$A$204,SRDB4[[#This Row],[SR-Nr]])=1,TRUE,FALSE))","v":""}]
[null,{"$f":"IF(ISBLANK(SRDB4[[#This Row],[SR-Nr]]),\"\",_xlfn.XLOOKUP(SRDB4[[#This Row],[SR-Nr]],SRDB[SR-Nr.],SRDB[Vorname],\"NA\",0))","v":""},{"$f":"IF(ISBLANK(SRDB4[[#This Row],[SR-Nr]]),\"\",_xlfn.XLOOKUP(SRDB4[[#This Row],[SR-Nr]],SRDB[SR-Nr.],SRDB[Name],\"NA\",0))","v":""},{"$f":"IF(ISBLANK(SRDB4[[#This Row],[SR-Nr]]),\"\",IF(COUNTIF(Registration!$A$7:$A$204,SRDB4[[#This Row],[SR-Nr]])=1,TRUE,FALSE))","v":""}]
[null,{"$f":"IF(ISBLANK(SRDB4[[#This Row],[SR-Nr]]),\"\",_xlfn.XLOOKUP(SRDB4[[#This Row],[SR-Nr]],SRDB[SR-Nr.],SRDB[Vorname],\"NA\",0))","v":""},{"$f":"IF(ISBLANK(SRDB4[[#This Row],[SR-Nr]]),\"\",_xlfn.XLOOKUP(SRDB4[[#This Row],[SR-Nr]],SRDB[SR-Nr.],SRDB[Name],\"NA\",0))","v":""},{"$f":"IF(ISBLANK(SRDB4[[#This Row],[SR-Nr]]),\"\",IF(COUNTIF(Registration!$A$7:$A$204,SRDB4[[#This Row],[SR-Nr]])=1,TRUE,FALSE))","v":""}]
[null,{"$f":"IF(ISBLANK(SRDB4[[#This Row],[SR-Nr]]),\"\",_xlfn.XLOOKUP(SRDB4[[#This Row],[SR-Nr]],SRDB[SR-Nr.],SRDB[Vorname],\"NA\",0))","v":""},{"$f":"IF(ISBLANK(SRDB4[[#This Row],[SR-Nr]]),\"\",_xlfn.XLOOKUP(SRDB4[[#This Row],[SR-Nr]],SRDB[SR-Nr.],SRDB[Name],\"NA\",0))","v":""},{"$f":"IF(ISBLANK(SRDB4[[#This Row],[SR-Nr]]),\"\",IF(COUNTIF(Registration!$A$7:$A$204,SRDB4[[#This Row],[SR-Nr]])=1,TRUE,FALSE))","v":""}]
[null,{"$f":"IF(ISBLANK(SRDB4[[#This Row],[SR-Nr]]),\"\",_xlfn.XLOOKUP(SRDB4[[#This Row],[SR-Nr]],SRDB[SR-Nr.],SRDB[Vorname],\"NA\",0))","v":""},{"$f":"IF(ISBLANK(SRDB4[[#This Row],[SR-Nr]]),\"\",_xlfn.XLOOKUP(SRDB4[[#This Row],[SR-Nr]],SRDB[SR-Nr.],SRDB[Name],\"NA\",0))","v":""},{"$f":"IF(ISBLANK(SRDB4[[#This Row],[SR-Nr]]),\"\",IF(COUNTIF(Registration!$A$7:$A$204,SRDB4[[#This Row],[SR-Nr]])=1,TRUE,FALSE))","v":""}]
[null,{"$f":"IF(ISBLANK(SRDB4[[#This Row],[SR-Nr]]),\"\",_xlfn.XLOOKUP(SRDB4[[#This Row],[SR-Nr]],SRDB[SR-Nr.],SRDB[Vorname],\"NA\",0))","v":""},{"$f":"IF(ISBLANK(SRDB4[[#This Row],[SR-Nr]]),\"\",_xlfn.XLOOKUP(SRDB4[[#This Row],[SR-Nr]],SRDB[SR-Nr.],SRDB[Name],\"NA\",0))","v":""},{"$f":"IF(ISBLANK(SRDB4[[#This Row],[SR-Nr]]),\"\",IF(COUNTIF(Registration!$A$7:$A$204,SRDB4[[#This Row],[SR-Nr]])=1,TRUE,FALSE))","v":""}]
[null,{"$f":"IF(ISBLANK(SRDB4[[#This Row],[SR-Nr]]),\"\",_xlfn.XLOOKUP(SRDB4[[#This Row],[SR-Nr]],SRDB[SR-Nr.],SRDB[Vorname],\"NA\",0))","v":""},{"$f":"IF(ISBLANK(SRDB4[[#This Row],[SR-Nr]]),\"\",_xlfn.XLOOKUP(SRDB4[[#This Row],[SR-Nr]],SRDB[SR-Nr.],SRDB[Name],\"NA\",0))","v":""},{"$f":"IF(ISBLANK(SRDB4[[#This Row],[SR-Nr]]),\"\",IF(COUNTIF(Registration!$A$7:$A$204,SRDB4[[#This Row],[SR-Nr]])=1,TRUE,FALSE))","v":""}]
[null,{"$f":"IF(ISBLANK(SRDB4[[#This Row],[SR-Nr]]),\"\",_xlfn.XLOOKUP(SRDB4[[#This Row],[SR-Nr]],SRDB[SR-Nr.],SRDB[Vorname],\"NA\",0))","v":""},{"$f":"IF(ISBLANK(SRDB4[[#This Row],[SR-Nr]]),\"\",_xlfn.XLOOKUP(SRDB4[[#This Row],[SR-Nr]],SRDB[SR-Nr.],SRDB[Name],\"NA\",0))","v":""},{"$f":"IF(ISBLANK(SRDB4[[#This Row],[SR-Nr]]),\"\",IF(COUNTIF(Registration!$A$7:$A$204,SRDB4[[#This Row],[SR-Nr]])=1,TRUE,FALSE))","v":""}]
[null,{"$f":"IF(ISBLANK(SRDB4[[#This Row],[SR-Nr]]),\"\",_xlfn.XLOOKUP(SRDB4[[#This Row],[SR-Nr]],SRDB[SR-Nr.],SRDB[Vorname],\"NA\",0))","v":""},{"$f":"IF(ISBLANK(SRDB4[[#This Row],[SR-Nr]]),\"\",_xlfn.XLOOKUP(SRDB4[[#This Row],[SR-Nr]],SRDB[SR-Nr.],SRDB[Name],\"NA\",0))","v":""},{"$f":"IF(ISBLANK(SRDB4[[#This Row],[SR-Nr]]),\"\",IF(COUNTIF(Registration!$A$7:$A$204,SRDB4[[#This Row],[SR-Nr]])=1,TRUE,FALSE))","v":""}]
[null,{"$f":"IF(ISBLANK(SRDB4[[#This Row],[SR-Nr]]),\"\",_xlfn.XLOOKUP(SRDB4[[#This Row],[SR-Nr]],SRDB[SR-Nr.],SRDB[Vorname],\"NA\",0))","v":""},{"$f":"IF(ISBLANK(SRDB4[[#This Row],[SR-Nr]]),\"\",_xlfn.XLOOKUP(SRDB4[[#This Row],[SR-Nr]],SRDB[SR-Nr.],SRDB[Name],\"NA\",0))","v":""},{"$f":"IF(ISBLANK(SRDB4[[#This Row],[SR-Nr]]),\"\",IF(COUNTIF(Registration!$A$7:$A$204,SRDB4[[#This Row],[SR-Nr]])=1,TRUE,FALSE))","v":""}]
[null,{"$f":"IF(ISBLANK(SRDB4[[#This Row],[SR-Nr]]),\"\",_xlfn.XLOOKUP(SRDB4[[#This Row],[SR-Nr]],SRDB[SR-Nr.],SRDB[Vorname],\"NA\",0))","v":""},{"$f":"IF(ISBLANK(SRDB4[[#This Row],[SR-Nr]]),\"\",_xlfn.XLOOKUP(SRDB4[[#This Row],[SR-Nr]],SRDB[SR-Nr.],SRDB[Name],\"NA\",0))","v":""},{"$f":"IF(ISBLANK(SRDB4[[#This Row],[SR-Nr]]),\"\",IF(COUNTIF(Registration!$A$7:$A$204,SRDB4[[#This Row],[SR-Nr]])=1,TRUE,FALSE))","v":""}]
[null,{"$f":"IF(ISBLANK(SRDB4[[#This Row],[SR-Nr]]),\"\",_xlfn.XLOOKUP(SRDB4[[#This Row],[SR-Nr]],SRDB[SR-Nr.],SRDB[Vorname],\"NA\",0))","v":""},{"$f":"IF(ISBLANK(SRDB4[[#This Row],[SR-Nr]]),\"\",_xlfn.XLOOKUP(SRDB4[[#This Row],[SR-Nr]],SRDB[SR-Nr.],SRDB[Name],\"NA\",0))","v":""},{"$f":"IF(ISBLANK(SRDB4[[#This Row],[SR-Nr]]),\"\",IF(COUNTIF(Registration!$A$7:$A$204,SRDB4[[#This Row],[SR-Nr]])=1,TRUE,FALSE))","v":""}]
[null,{"$f":"IF(ISBLANK(SRDB4[[#This Row],[SR-Nr]]),\"\",_xlfn.XLOOKUP(SRDB4[[#This Row],[SR-Nr]],SRDB[SR-Nr.],SRDB[Vorname],\"NA\",0))","v":""},{"$f":"IF(ISBLANK(SRDB4[[#This Row],[SR-Nr]]),\"\",_xlfn.XLOOKUP(SRDB4[[#This Row],[SR-Nr]],SRDB[SR-Nr.],SRDB[Name],\"NA\",0))","v":""},{"$f":"IF(ISBLANK(SRDB4[[#This Row],[SR-Nr]]),\"\",IF(COUNTIF(Registration!$A$7:$A$204,SRDB4[[#This Row],[SR-Nr]])=1,TRUE,FALSE))","v":""}]
[null,{"$f":"IF(ISBLANK(SRDB4[[#This Row],[SR-Nr]]),\"\",_xlfn.XLOOKUP(SRDB4[[#This Row],[SR-Nr]],SRDB[SR-Nr.],SRDB[Vorname],\"NA\",0))","v":""},{"$f":"IF(ISBLANK(SRDB4[[#This Row],[SR-Nr]]),\"\",_xlfn.XLOOKUP(SRDB4[[#This Row],[SR-Nr]],SRDB[SR-Nr.],SRDB[Name],\"NA\",0))","v":""},{"$f":"IF(ISBLANK(SRDB4[[#This Row],[SR-Nr]]),\"\",IF(COUNTIF(Registration!$A$7:$A$204,SRDB4[[#This Row],[SR-Nr]])=1,TRUE,FALSE))","v":""}]
[null,{"$f":"IF(ISBLANK(SRDB4[[#This Row],[SR-Nr]]),\"\",_xlfn.XLOOKUP(SRDB4[[#This Row],[SR-Nr]],SRDB[SR-Nr.],SRDB[Vorname],\"NA\",0))","v":""},{"$f":"IF(ISBLANK(SRDB4[[#This Row],[SR-Nr]]),\"\",_xlfn.XLOOKUP(SRDB4[[#This Row],[SR-Nr]],SRDB[SR-Nr.],SRDB[Name],\"NA\",0))","v":""},{"$f":"IF(ISBLANK(SRDB4[[#This Row],[SR-Nr]]),\"\",IF(COUNTIF(Registration!$A$7:$A$204,SRDB4[[#This Row],[SR-Nr]])=1,TRUE,FALSE))","v":""}]
[null,{"$f":"IF(ISBLANK(SRDB4[[#This Row],[SR-Nr]]),\"\",_xlfn.XLOOKUP(SRDB4[[#This Row],[SR-Nr]],SRDB[SR-Nr.],SRDB[Vorname],\"NA\",0))","v":""},{"$f":"IF(ISBLANK(SRDB4[[#This Row],[SR-Nr]]),\"\",_xlfn.XLOOKUP(SRDB4[[#This Row],[SR-Nr]],SRDB[SR-Nr.],SRDB[Name],\"NA\",0))","v":""},{"$f":"IF(ISBLANK(SRDB4[[#This Row],[SR-Nr]]),\"\",IF(COUNTIF(Registration!$A$7:$A$204,SRDB4[[#This Row],[SR-Nr]])=1,TRUE,FALSE))","v":""}]
[null,{"$f":"IF(ISBLANK(SRDB4[[#This Row],[SR-Nr]]),\"\",_xlfn.XLOOKUP(SRDB4[[#This Row],[SR-Nr]],SRDB[SR-Nr.],SRDB[Vorname],\"NA\",0))","v":""},{"$f":"IF(ISBLANK(SRDB4[[#This Row],[SR-Nr]]),\"\",_xlfn.XLOOKUP(SRDB4[[#This Row],[SR-Nr]],SRDB[SR-Nr.],SRDB[Name],\"NA\",0))","v":""},{"$f":"IF(ISBLANK(SRDB4[[#This Row],[SR-Nr]]),\"\",IF(COUNTIF(Registration!$A$7:$A$204,SRDB4[[#This Row],[SR-Nr]])=1,TRUE,FALSE))","v":""}]
[null,{"$f":"IF(ISBLANK(SRDB4[[#This Row],[SR-Nr]]),\"\",_xlfn.XLOOKUP(SRDB4[[#This Row],[SR-Nr]],SRDB[SR-Nr.],SRDB[Vorname],\"NA\",0))","v":""},{"$f":"IF(ISBLANK(SRDB4[[#This Row],[SR-Nr]]),\"\",_xlfn.XLOOKUP(SRDB4[[#This Row],[SR-Nr]],SRDB[SR-Nr.],SRDB[Name],\"NA\",0))","v":""},{"$f":"IF(ISBLANK(SRDB4[[#This Row],[SR-Nr]]),\"\",IF(COUNTIF(Registration!$A$7:$A$204,SRDB4[[#This Row],[SR-Nr]])=1,TRUE,FALSE))","v":""}]
[null,{"$f":"IF(ISBLANK(SRDB4[[#This Row],[SR-Nr]]),\"\",_xlfn.XLOOKUP(SRDB4[[#This Row],[SR-Nr]],SRDB[SR-Nr.],SRDB[Vorname],\"NA\",0))","v":""},{"$f":"IF(ISBLANK(SRDB4[[#This Row],[SR-Nr]]),\"\",_xlfn.XLOOKUP(SRDB4[[#This Row],[SR-Nr]],SRDB[SR-Nr.],SRDB[Name],\"NA\",0))","v":""},{"$f":"IF(ISBLANK(SRDB4[[#This Row],[SR-Nr]]),\"\",IF(COUNTIF(Registration!$A$7:$A$204,SRDB4[[#This Row],[SR-Nr]])=1,TRUE,FALSE))","v":""}]
[null,{"$f":"IF(ISBLANK(SRDB4[[#This Row],[SR-Nr]]),\"\",_xlfn.XLOOKUP(SRDB4[[#This Row],[SR-Nr]],SRDB[SR-Nr.],SRDB[Vorname],\"NA\",0))","v":""},{"$f":"IF(ISBLANK(SRDB4[[#This Row],[SR-Nr]]),\"\",_xlfn.XLOOKUP(SRDB4[[#This Row],[SR-Nr]],SRDB[SR-Nr.],SRDB[Name],\"NA\",0))","v":""},{"$f":"IF(ISBLANK(SRDB4[[#This Row],[SR-Nr]]),\"\",IF(COUNTIF(Registration!$A$7:$A$204,SRDB4[[#This Row],[SR-Nr]])=1,TRUE,FALSE))","v":""}]
[null,{"$f":"IF(ISBLANK(SRDB4[[#This Row],[SR-Nr]]),\"\",_xlfn.XLOOKUP(SRDB4[[#This Row],[SR-Nr]],SRDB[SR-Nr.],SRDB[Vorname],\"NA\",0))","v":""},{"$f":"IF(ISBLANK(SRDB4[[#This Row],[SR-Nr]]),\"\",_xlfn.XLOOKUP(SRDB4[[#This Row],[SR-Nr]],SRDB[SR-Nr.],SRDB[Name],\"NA\",0))","v":""},{"$f":"IF(ISBLANK(SRDB4[[#This Row],[SR-Nr]]),\"\",IF(COUNTIF(Registration!$A$7:$A$204,SRDB4[[#This Row],[SR-Nr]])=1,TRUE,FALSE))","v":""}]
[null,{"$f":"IF(ISBLANK(SRDB4[[#This Row],[SR-Nr]]),\"\",_xlfn.XLOOKUP(SRDB4[[#This Row],[SR-Nr]],SRDB[SR-Nr.],SRDB[Vorname],\"NA\",0))","v":""},{"$f":"IF(ISBLANK(SRDB4[[#This Row],[SR-Nr]]),\"\",_xlfn.XLOOKUP(SRDB4[[#This Row],[SR-Nr]],SRDB[SR-Nr.],SRDB[Name],\"NA\",0))","v":""},{"$f":"IF(ISBLANK(SRDB4[[#This Row],[SR-Nr]]),\"\",IF(COUNTIF(Registration!$A$7:$A$204,SRDB4[[#This Row],[SR-Nr]])=1,TRUE,FALSE))","v":""}]
[null,{"$f":"IF(ISBLANK(SRDB4[[#This Row],[SR-Nr]]),\"\",_xlfn.XLOOKUP(SRDB4[[#This Row],[SR-Nr]],SRDB[SR-Nr.],SRDB[Vorname],\"NA\",0))","v":""},{"$f":"IF(ISBLANK(SRDB4[[#This Row],[SR-Nr]]),\"\",_xlfn.XLOOKUP(SRDB4[[#This Row],[SR-Nr]],SRDB[SR-Nr.],SRDB[Name],\"NA\",0))","v":""},{"$f":"IF(ISBLANK(SRDB4[[#This Row],[SR-Nr]]),\"\",IF(COUNTIF(Registration!$A$7:$A$204,SRDB4[[#This Row],[SR-Nr]])=1,TRUE,FALSE))","v":""}]
[null,{"$f":"IF(ISBLANK(SRDB4[[#This Row],[SR-Nr]]),\"\",_xlfn.XLOOKUP(SRDB4[[#This Row],[SR-Nr]],SRDB[SR-Nr.],SRDB[Vorname],\"NA\",0))","v":""},{"$f":"IF(ISBLANK(SRDB4[[#This Row],[SR-Nr]]),\"\",_xlfn.XLOOKUP(SRDB4[[#This Row],[SR-Nr]],SRDB[SR-Nr.],SRDB[Name],\"NA\",0))","v":""},{"$f":"IF(ISBLANK(SRDB4[[#This Row],[SR-Nr]]),\"\",IF(COUNTIF(Registration!$A$7:$A$204,SRDB4[[#This Row],[SR-Nr]])=1,TRUE,FALSE))","v":""}]
[null,{"$f":"IF(ISBLANK(SRDB4[[#This Row],[SR-Nr]]),\"\",_xlfn.XLOOKUP(SRDB4[[#This Row],[SR-Nr]],SRDB[SR-Nr.],SRDB[Vorname],\"NA\",0))","v":""},{"$f":"IF(ISBLANK(SRDB4[[#This Row],[SR-Nr]]),\"\",_xlfn.XLOOKUP(SRDB4[[#This Row],[SR-Nr]],SRDB[SR-Nr.],SRDB[Name],\"NA\",0))","v":""},{"$f":"IF(ISBLANK(SRDB4[[#This Row],[SR-Nr]]),\"\",IF(COUNTIF(Registration!$A$7:$A$204,SRDB4[[#This Row],[SR-Nr]])=1,TRUE,FALSE))","v":""}]
[null,{"$f":"IF(ISBLANK(SRDB4[[#This Row],[SR-Nr]]),\"\",_xlfn.XLOOKUP(SRDB4[[#This Row],[SR-Nr]],SRDB[SR-Nr.],SRDB[Vorname],\"NA\",0))","v":""},{"$f":"IF(ISBLANK(SRDB4[[#This Row],[SR-Nr]]),\"\",_xlfn.XLOOKUP(SRDB4[[#This Row],[SR-Nr]],SRDB[SR-Nr.],SRDB[Name],\"NA\",0))","v":""},{"$f":"IF(ISBLANK(SRDB4[[#This Row],[SR-Nr]]),\"\",IF(COUNTIF(Registration!$A$7:$A$204,SRDB4[[#This Row],[SR-Nr]])=1,TRUE,FALSE))","v":""}]
[null,{"$f":"IF(ISBLANK(SRDB4[[#This Row],[SR-Nr]]),\"\",_xlfn.XLOOKUP(SRDB4[[#This Row],[SR-Nr]],SRDB[SR-Nr.],SRDB[Vorname],\"NA\",0))","v":""},{"$f":"IF(ISBLANK(SRDB4[[#This Row],[SR-Nr]]),\"\",_xlfn.XLOOKUP(SRDB4[[#This Row],[SR-Nr]],SRDB[SR-Nr.],SRDB[Name],\"NA\",0))","v":""},{"$f":"IF(ISBLANK(SRDB4[[#This Row],[SR-Nr]]),\"\",IF(COUNTIF(Registration!$A$7:$A$204,SRDB4[[#This Row],[SR-Nr]])=1,TRUE,FALSE))","v":""}]
[null,{"$f":"IF(ISBLANK(SRDB4[[#This Row],[SR-Nr]]),\"\",_xlfn.XLOOKUP(SRDB4[[#This Row],[SR-Nr]],SRDB[SR-Nr.],SRDB[Vorname],\"NA\",0))","v":""},{"$f":"IF(ISBLANK(SRDB4[[#This Row],[SR-Nr]]),\"\",_xlfn.XLOOKUP(SRDB4[[#This Row],[SR-Nr]],SRDB[SR-Nr.],SRDB[Name],\"NA\",0))","v":""},{"$f":"IF(ISBLANK(SRDB4[[#This Row],[SR-Nr]]),\"\",IF(COUNTIF(Registration!$A$7:$A$204,SRDB4[[#This Row],[SR-Nr]])=1,TRUE,FALSE))","v":""}]
[null,{"$f":"IF(ISBLANK(SRDB4[[#This Row],[SR-Nr]]),\"\",_xlfn.XLOOKUP(SRDB4[[#This Row],[SR-Nr]],SRDB[SR-Nr.],SRDB[Vorname],\"NA\",0))","v":""},{"$f":"IF(ISBLANK(SRDB4[[#This Row],[SR-Nr]]),\"\",_xlfn.XLOOKUP(SRDB4[[#This Row],[SR-Nr]],SRDB[SR-Nr.],SRDB[Name],\"NA\",0))","v":""},{"$f":"IF(ISBLANK(SRDB4[[#This Row],[SR-Nr]]),\"\",IF(COUNTIF(Registration!$A$7:$A$204,SRDB4[[#This Row],[SR-Nr]])=1,TRUE,FALSE))","v":""}]
[null,{"$f":"IF(ISBLANK(SRDB4[[#This Row],[SR-Nr]]),\"\",_xlfn.XLOOKUP(SRDB4[[#This Row],[SR-Nr]],SRDB[SR-Nr.],SRDB[Vorname],\"NA\",0))","v":""},{"$f":"IF(ISBLANK(SRDB4[[#This Row],[SR-Nr]]),\"\",_xlfn.XLOOKUP(SRDB4[[#This Row],[SR-Nr]],SRDB[SR-Nr.],SRDB[Name],\"NA\",0))","v":""},{"$f":"IF(ISBLANK(SRDB4[[#This Row],[SR-Nr]]),\"\",IF(COUNTIF(Registration!$A$7:$A$204,SRDB4[[#This Row],[SR-Nr]])=1,TRUE,FALSE))","v":""}]
[null,{"$f":"IF(ISBLANK(SRDB4[[#This Row],[SR-Nr]]),\"\",_xlfn.XLOOKUP(SRDB4[[#This Row],[SR-Nr]],SRDB[SR-Nr.],SRDB[Vorname],\"NA\",0))","v":""},{"$f":"IF(ISBLANK(SRDB4[[#This Row],[SR-Nr]]),\"\",_xlfn.XLOOKUP(SRDB4[[#This Row],[SR-Nr]],SRDB[SR-Nr.],SRDB[Name],\"NA\",0))","v":""},{"$f":"IF(ISBLANK(SRDB4[[#This Row],[SR-Nr]]),\"\",IF(COUNTIF(Registration!$A$7:$A$204,SRDB4[[#This Row],[SR-Nr]])=1,TRUE,FALSE))","v":""}]
[null,{"$f":"IF(ISBLANK(SRDB4[[#This Row],[SR-Nr]]),\"\",_xlfn.XLOOKUP(SRDB4[[#This Row],[SR-Nr]],SRDB[SR-Nr.],SRDB[Vorname],\"NA\",0))","v":""},{"$f":"IF(ISBLANK(SRDB4[[#This Row],[SR-Nr]]),\"\",_xlfn.XLOOKUP(SRDB4[[#This Row],[SR-Nr]],SRDB[SR-Nr.],SRDB[Name],\"NA\",0))","v":""},{"$f":"IF(ISBLANK(SRDB4[[#This Row],[SR-Nr]]),\"\",IF(COUNTIF(Registration!$A$7:$A$204,SRDB4[[#This Row],[SR-Nr]])=1,TRUE,FALSE))","v":""}]
[null,{"$f":"IF(ISBLANK(SRDB4[[#This Row],[SR-Nr]]),\"\",_xlfn.XLOOKUP(SRDB4[[#This Row],[SR-Nr]],SRDB[SR-Nr.],SRDB[Vorname],\"NA\",0))","v":""},{"$f":"IF(ISBLANK(SRDB4[[#This Row],[SR-Nr]]),\"\",_xlfn.XLOOKUP(SRDB4[[#This Row],[SR-Nr]],SRDB[SR-Nr.],SRDB[Name],\"NA\",0))","v":""},{"$f":"IF(ISBLANK(SRDB4[[#This Row],[SR-Nr]]),\"\",IF(COUNTIF(Registration!$A$7:$A$204,SRDB4[[#This Row],[SR-Nr]])=1,TRUE,FALSE))","v":""}]
[null,{"$f":"IF(ISBLANK(SRDB4[[#This Row],[SR-Nr]]),\"\",_xlfn.XLOOKUP(SRDB4[[#This Row],[SR-Nr]],SRDB[SR-Nr.],SRDB[Vorname],\"NA\",0))","v":""},{"$f":"IF(ISBLANK(SRDB4[[#This Row],[SR-Nr]]),\"\",_xlfn.XLOOKUP(SRDB4[[#This Row],[SR-Nr]],SRDB[SR-Nr.],SRDB[Name],\"NA\",0))","v":""},{"$f":"IF(ISBLANK(SRDB4[[#This Row],[SR-Nr]]),\"\",IF(COUNTIF(Registration!$A$7:$A$204,SRDB4[[#This Row],[SR-Nr]])=1,TRUE,FALSE))","v":""}]
[null,{"$f":"IF(ISBLANK(SRDB4[[#This Row],[SR-Nr]]),\"\",_xlfn.XLOOKUP(SRDB4[[#This Row],[SR-Nr]],SRDB[SR-Nr.],SRDB[Vorname],\"NA\",0))","v":""},{"$f":"IF(ISBLANK(SRDB4[[#This Row],[SR-Nr]]),\"\",_xlfn.XLOOKUP(SRDB4[[#This Row],[SR-Nr]],SRDB[SR-Nr.],SRDB[Name],\"NA\",0))","v":""},{"$f":"IF(ISBLANK(SRDB4[[#This Row],[SR-Nr]]),\"\",IF(COUNTIF(Registration!$A$7:$A$204,SRDB4[[#This Row],[SR-Nr]])=1,TRUE,FALSE))","v":""}]
[null,{"$f":"IF(ISBLANK(SRDB4[[#This Row],[SR-Nr]]),\"\",_xlfn.XLOOKUP(SRDB4[[#This Row],[SR-Nr]],SRDB[SR-Nr.],SRDB[Vorname],\"NA\",0))","v":""},{"$f":"IF(ISBLANK(SRDB4[[#This Row],[SR-Nr]]),\"\",_xlfn.XLOOKUP(SRDB4[[#This Row],[SR-Nr]],SRDB[SR-Nr.],SRDB[Name],\"NA\",0))","v":""},{"$f":"IF(ISBLANK(SRDB4[[#This Row],[SR-Nr]]),\"\",IF(COUNTIF(Registration!$A$7:$A$204,SRDB4[[#This Row],[SR-Nr]])=1,TRUE,FALSE))","v":""}]
[null,{"$f":"IF(ISBLANK(SRDB4[[#This Row],[SR-Nr]]),\"\",_xlfn.XLOOKUP(SRDB4[[#This Row],[SR-Nr]],SRDB[SR-Nr.],SRDB[Vorname],\"NA\",0))","v":""},{"$f":"IF(ISBLANK(SRDB4[[#This Row],[SR-Nr]]),\"\",_xlfn.XLOOKUP(SRDB4[[#This Row],[SR-Nr]],SRDB[SR-Nr.],SRDB[Name],\"NA\",0))","v":""},{"$f":"IF(ISBLANK(SRDB4[[#This Row],[SR-Nr]]),\"\",IF(COUNTIF(Registration!$A$7:$A$204,SRDB4[[#This Row],[SR-Nr]])=1,TRUE,FALSE))","v":""}]
[null,{"$f":"IF(ISBLANK(SRDB4[[#This Row],[SR-Nr]]),\"\",_xlfn.XLOOKUP(SRDB4[[#This Row],[SR-Nr]],SRDB[SR-Nr.],SRDB[Vorname],\"NA\",0))","v":""},{"$f":"IF(ISBLANK(SRDB4[[#This Row],[SR-Nr]]),\"\",_xlfn.XLOOKUP(SRDB4[[#This Row],[SR-Nr]],SRDB[SR-Nr.],SRDB[Name],\"NA\",0))","v":""},{"$f":"IF(ISBLANK(SRDB4[[#This Row],[SR-Nr]]),\"\",IF(COUNTIF(Registration!$A$7:$A$204,SRDB4[[#This Row],[SR-Nr]])=1,TRUE,FALSE))","v":""}]
[null,{"$f":"IF(ISBLANK(SRDB4[[#This Row],[SR-Nr]]),\"\",_xlfn.XLOOKUP(SRDB4[[#This Row],[SR-Nr]],SRDB[SR-Nr.],SRDB[Vorname],\"NA\",0))","v":""},{"$f":"IF(ISBLANK(SRDB4[[#This Row],[SR-Nr]]),\"\",_xlfn.XLOOKUP(SRDB4[[#This Row],[SR-Nr]],SRDB[SR-Nr.],SRDB[Name],\"NA\",0))","v":""},{"$f":"IF(ISBLANK(SRDB4[[#This Row],[SR-Nr]]),\"\",IF(COUNTIF(Registration!$A$7:$A$204,SRDB4[[#This Row],[SR-Nr]])=1,TRUE,FALSE))","v":""}]
[null,{"$f":"IF(ISBLANK(SRDB4[[#This Row],[SR-Nr]]),\"\",_xlfn.XLOOKUP(SRDB4[[#This Row],[SR-Nr]],SRDB[SR-Nr.],SRDB[Vorname],\"NA\",0))","v":""},{"$f":"IF(ISBLANK(SRDB4[[#This Row],[SR-Nr]]),\"\",_xlfn.XLOOKUP(SRDB4[[#This Row],[SR-Nr]],SRDB[SR-Nr.],SRDB[Name],\"NA\",0))","v":""},{"$f":"IF(ISBLANK(SRDB4[[#This Row],[SR-Nr]]),\"\",IF(COUNTIF(Registration!$A$7:$A$204,SRDB4[[#This Row],[SR-Nr]])=1,TRUE,FALSE))","v":""}]
[null,{"$f":"IF(ISBLANK(SRDB4[[#This Row],[SR-Nr]]),\"\",_xlfn.XLOOKUP(SRDB4[[#This Row],[SR-Nr]],SRDB[SR-Nr.],SRDB[Vorname],\"NA\",0))","v":""},{"$f":"IF(ISBLANK(SRDB4[[#This Row],[SR-Nr]]),\"\",_xlfn.XLOOKUP(SRDB4[[#This Row],[SR-Nr]],SRDB[SR-Nr.],SRDB[Name],\"NA\",0))","v":""},{"$f":"IF(ISBLANK(SRDB4[[#This Row],[SR-Nr]]),\"\",IF(COUNTIF(Registration!$A$7:$A$204,SRDB4[[#This Row],[SR-Nr]])=1,TRUE,FALSE))","v":""}]
[null,{"$f":"IF(ISBLANK(SRDB4[[#This Row],[SR-Nr]]),\"\",_xlfn.XLOOKUP(SRDB4[[#This Row],[SR-Nr]],SRDB[SR-Nr.],SRDB[Vorname],\"NA\",0))","v":""},{"$f":"IF(ISBLANK(SRDB4[[#This Row],[SR-Nr]]),\"\",_xlfn.XLOOKUP(SRDB4[[#This Row],[SR-Nr]],SRDB[SR-Nr.],SRDB[Name],\"NA\",0))","v":""},{"$f":"IF(ISBLANK(SRDB4[[#This Row],[SR-Nr]]),\"\",IF(COUNTIF(Registration!$A$7:$A$204,SRDB4[[#This Row],[SR-Nr]])=1,TRUE,FALSE))","v":""}]
[null,{"$f":"IF(ISBLANK(SRDB4[[#This Row],[SR-Nr]]),\"\",_xlfn.XLOOKUP(SRDB4[[#This Row],[SR-Nr]],SRDB[SR-Nr.],SRDB[Vorname],\"NA\",0))","v":""},{"$f":"IF(ISBLANK(SRDB4[[#This Row],[SR-Nr]]),\"\",_xlfn.XLOOKUP(SRDB4[[#This Row],[SR-Nr]],SRDB[SR-Nr.],SRDB[Name],\"NA\",0))","v":""},{"$f":"IF(ISBLANK(SRDB4[[#This Row],[SR-Nr]]),\"\",IF(COUNTIF(Registration!$A$7:$A$204,SRDB4[[#This Row],[SR-Nr]])=1,TRUE,FALSE))","v":""}]
[null,{"$f":"IF(ISBLANK(SRDB4[[#This Row],[SR-Nr]]),\"\",_xlfn.XLOOKUP(SRDB4[[#This Row],[SR-Nr]],SRDB[SR-Nr.],SRDB[Vorname],\"NA\",0))","v":""},{"$f":"IF(ISBLANK(SRDB4[[#This Row],[SR-Nr]]),\"\",_xlfn.XLOOKUP(SRDB4[[#This Row],[SR-Nr]],SRDB[SR-Nr.],SRDB[Name],\"NA\",0))","v":""},{"$f":"IF(ISBLANK(SRDB4[[#This Row],[SR-Nr]]),\"\",IF(COUNTIF(Registration!$A$7:$A$204,SRDB4[[#This Row],[SR-Nr]])=1,TRUE,FALSE))","v":""}]
[null,{"$f":"IF(ISBLANK(SRDB4[[#This Row],[SR-Nr]]),\"\",_xlfn.XLOOKUP(SRDB4[[#This Row],[SR-Nr]],SRDB[SR-Nr.],SRDB[Vorname],\"NA\",0))","v":""},{"$f":"IF(ISBLANK(SRDB4[[#This Row],[SR-Nr]]),\"\",_xlfn.XLOOKUP(SRDB4[[#This Row],[SR-Nr]],SRDB[SR-Nr.],SRDB[Name],\"NA\",0))","v":""},{"$f":"IF(ISBLANK(SRDB4[[#This Row],[SR-Nr]]),\"\",IF(COUNTIF(Registration!$A$7:$A$204,SRDB4[[#This Row],[SR-Nr]])=1,TRUE,FALSE))","v":""}]
[null,{"$f":"IF(ISBLANK(SRDB4[[#This Row],[SR-Nr]]),\"\",_xlfn.XLOOKUP(SRDB4[[#This Row],[SR-Nr]],SRDB[SR-Nr.],SRDB[Vorname],\"NA\",0))","v":""},{"$f":"IF(ISBLANK(SRDB4[[#This Row],[SR-Nr]]),\"\",_xlfn.XLOOKUP(SRDB4[[#This Row],[SR-Nr]],SRDB[SR-Nr.],SRDB[Name],\"NA\",0))","v":""},{"$f":"IF(ISBLANK(SRDB4[[#This Row],[SR-Nr]]),\"\",IF(COUNTIF(Registration!$A$7:$A$204,SRDB4[[#This Row],[SR-Nr]])=1,TRUE,FALSE))","v":""}]
[null,{"$f":"IF(ISBLANK(SRDB4[[#This Row],[SR-Nr]]),\"\",_xlfn.XLOOKUP(SRDB4[[#This Row],[SR-Nr]],SRDB[SR-Nr.],SRDB[Vorname],\"NA\",0))","v":""},{"$f":"IF(ISBLANK(SRDB4[[#This Row],[SR-Nr]]),\"\",_xlfn.XLOOKUP(SRDB4[[#This Row],[SR-Nr]],SRDB[SR-Nr.],SRDB[Name],\"NA\",0))","v":""},{"$f":"IF(ISBLANK(SRDB4[[#This Row],[SR-Nr]]),\"\",IF(COUNTIF(Registration!$A$7:$A$204,SRDB4[[#This Row],[SR-Nr]])=1,TRUE,FALSE))","v":""}]
[null,{"$f":"IF(ISBLANK(SRDB4[[#This Row],[SR-Nr]]),\"\",_xlfn.XLOOKUP(SRDB4[[#This Row],[SR-Nr]],SRDB[SR-Nr.],SRDB[Vorname],\"NA\",0))","v":""},{"$f":"IF(ISBLANK(SRDB4[[#This Row],[SR-Nr]]),\"\",_xlfn.XLOOKUP(SRDB4[[#This Row],[SR-Nr]],SRDB[SR-Nr.],SRDB[Name],\"NA\",0))","v":""},{"$f":"IF(ISBLANK(SRDB4[[#This Row],[SR-Nr]]),\"\",IF(COUNTIF(Registration!$A$7:$A$204,SRDB4[[#This Row],[SR-Nr]])=1,TRUE,FALSE))","v":""}]
[null,{"$f":"IF(ISBLANK(SRDB4[[#This Row],[SR-Nr]]),\"\",_xlfn.XLOOKUP(SRDB4[[#This Row],[SR-Nr]],SRDB[SR-Nr.],SRDB[Vorname],\"NA\",0))","v":""},{"$f":"IF(ISBLANK(SRDB4[[#This Row],[SR-Nr]]),\"\",_xlfn.XLOOKUP(SRDB4[[#This Row],[SR-Nr]],SRDB[SR-Nr.],SRDB[Name],\"NA\",0))","v":""},{"$f":"IF(ISBLANK(SRDB4[[#This Row],[SR-Nr]]),\"\",IF(COUNTIF(Registration!$A$7:$A$204,SRDB4[[#This Row],[SR-Nr]])=1,TRUE,FALSE))","v":""}]
[null,{"$f":"IF(ISBLANK(SRDB4[[#This Row],[SR-Nr]]),\"\",_xlfn.XLOOKUP(SRDB4[[#This Row],[SR-Nr]],SRDB[SR-Nr.],SRDB[Vorname],\"NA\",0))","v":""},{"$f":"IF(ISBLANK(SRDB4[[#This Row],[SR-Nr]]),\"\",_xlfn.XLOOKUP(SRDB4[[#This Row],[SR-Nr]],SRDB[SR-Nr.],SRDB[Name],\"NA\",0))","v":""},{"$f":"IF(ISBLANK(SRDB4[[#This Row],[SR-Nr]]),\"\",IF(COUNTIF(Registration!$A$7:$A$204,SRDB4[[#This Row],[SR-Nr]])=1,TRUE,FALSE))","v":""}]
[null,{"$f":"IF(ISBLANK(SRDB4[[#This Row],[SR-Nr]]),\"\",_xlfn.XLOOKUP(SRDB4[[#This Row],[SR-Nr]],SRDB[SR-Nr.],SRDB[Vorname],\"NA\",0))","v":""},{"$f":"IF(ISBLANK(SRDB4[[#This Row],[SR-Nr]]),\"\",_xlfn.XLOOKUP(SRDB4[[#This Row],[SR-Nr]],SRDB[SR-Nr.],SRDB[Name],\"NA\",0))","v":""},{"$f":"IF(ISBLANK(SRDB4[[#This Row],[SR-Nr]]),\"\",IF(COUNTIF(Registration!$A$7:$A$204,SRDB4[[#This Row],[SR-Nr]])=1,TRUE,FALSE))","v":""}]
[null,{"$f":"IF(ISBLANK(SRDB4[[#This Row],[SR-Nr]]),\"\",_xlfn.XLOOKUP(SRDB4[[#This Row],[SR-Nr]],SRDB[SR-Nr.],SRDB[Vorname],\"NA\",0))","v":""},{"$f":"IF(ISBLANK(SRDB4[[#This Row],[SR-Nr]]),\"\",_xlfn.XLOOKUP(SRDB4[[#This Row],[SR-Nr]],SRDB[SR-Nr.],SRDB[Name],\"NA\",0))","v":""},{"$f":"IF(ISBLANK(SRDB4[[#This Row],[SR-Nr]]),\"\",IF(COUNTIF(Registration!$A$7:$A$204,SRDB4[[#This Row],[SR-Nr]])=1,TRUE,FALSE))","v":""}]
[null,{"$f":"IF(ISBLANK(SRDB4[[#This Row],[SR-Nr]]),\"\",_xlfn.XLOOKUP(SRDB4[[#This Row],[SR-Nr]],SRDB[SR-Nr.],SRDB[Vorname],\"NA\",0))","v":""},{"$f":"IF(ISBLANK(SRDB4[[#This Row],[SR-Nr]]),\"\",_xlfn.XLOOKUP(SRDB4[[#This Row],[SR-Nr]],SRDB[SR-Nr.],SRDB[Name],\"NA\",0))","v":""},{"$f":"IF(ISBLANK(SRDB4[[#This Row],[SR-Nr]]),\"\",IF(COUNTIF(Registration!$A$7:$A$204,SRDB4[[#This Row],[SR-Nr]])=1,TRUE,FALSE))","v":""}]
[null,{"$f":"IF(ISBLANK(SRDB4[[#This Row],[SR-Nr]]),\"\",_xlfn.XLOOKUP(SRDB4[[#This Row],[SR-Nr]],SRDB[SR-Nr.],SRDB[Vorname],\"NA\",0))","v":""},{"$f":"IF(ISBLANK(SRDB4[[#This Row],[SR-Nr]]),\"\",_xlfn.XLOOKUP(SRDB4[[#This Row],[SR-Nr]],SRDB[SR-Nr.],SRDB[Name],\"NA\",0))","v":""},{"$f":"IF(ISBLANK(SRDB4[[#This Row],[SR-Nr]]),\"\",IF(COUNTIF(Registration!$A$7:$A$204,SRDB4[[#This Row],[SR-Nr]])=1,TRUE,FALSE))","v":""}]
[null,{"$f":"IF(ISBLANK(SRDB4[[#This Row],[SR-Nr]]),\"\",_xlfn.XLOOKUP(SRDB4[[#This Row],[SR-Nr]],SRDB[SR-Nr.],SRDB[Vorname],\"NA\",0))","v":""},{"$f":"IF(ISBLANK(SRDB4[[#This Row],[SR-Nr]]),\"\",_xlfn.XLOOKUP(SRDB4[[#This Row],[SR-Nr]],SRDB[SR-Nr.],SRDB[Name],\"NA\",0))","v":""},{"$f":"IF(ISBLANK(SRDB4[[#This Row],[SR-Nr]]),\"\",IF(COUNTIF(Registration!$A$7:$A$204,SRDB4[[#This Row],[SR-Nr]])=1,TRUE,FALSE))","v":""}]
[null,{"$f":"IF(ISBLANK(SRDB4[[#This Row],[SR-Nr]]),\"\",_xlfn.XLOOKUP(SRDB4[[#This Row],[SR-Nr]],SRDB[SR-Nr.],SRDB[Vorname],\"NA\",0))","v":""},{"$f":"IF(ISBLANK(SRDB4[[#This Row],[SR-Nr]]),\"\",_xlfn.XLOOKUP(SRDB4[[#This Row],[SR-Nr]],SRDB[SR-Nr.],SRDB[Name],\"NA\",0))","v":""},{"$f":"IF(ISBLANK(SRDB4[[#This Row],[SR-Nr]]),\"\",IF(COUNTIF(Registration!$A$7:$A$204,SRDB4[[#This Row],[SR-Nr]])=1,TRUE,FALSE))","v":""}]
[null,{"$f":"IF(ISBLANK(SRDB4[[#This Row],[SR-Nr]]),\"\",_xlfn.XLOOKUP(SRDB4[[#This Row],[SR-Nr]],SRDB[SR-Nr.],SRDB[Vorname],\"NA\",0))","v":""},{"$f":"IF(ISBLANK(SRDB4[[#This Row],[SR-Nr]]),\"\",_xlfn.XLOOKUP(SRDB4[[#This Row],[SR-Nr]],SRDB[SR-Nr.],SRDB[Name],\"NA\",0))","v":""},{"$f":"IF(ISBLANK(SRDB4[[#This Row],[SR-Nr]]),\"\",IF(COUNTIF(Registration!$A$7:$A$204,SRDB4[[#This Row],[SR-Nr]])=1,TRUE,FALSE))","v":""}]
[null,{"$f":"IF(ISBLANK(SRDB4[[#This Row],[SR-Nr]]),\"\",_xlfn.XLOOKUP(SRDB4[[#This Row],[SR-Nr]],SRDB[SR-Nr.],SRDB[Vorname],\"NA\",0))","v":""},{"$f":"IF(ISBLANK(SRDB4[[#This Row],[SR-Nr]]),\"\",_xlfn.XLOOKUP(SRDB4[[#This Row],[SR-Nr]],SRDB[SR-Nr.],SRDB[Name],\"NA\",0))","v":""},{"$f":"IF(ISBLANK(SRDB4[[#This Row],[SR-Nr]]),\"\",IF(COUNTIF(Registration!$A$7:$A$204,SRDB4[[#This Row],[SR-Nr]])=1,TRUE,FALSE))","v":""}]
[null,{"$f":"IF(ISBLANK(SRDB4[[#This Row],[SR-Nr]]),\"\",_xlfn.XLOOKUP(SRDB4[[#This Row],[SR-Nr]],SRDB[SR-Nr.],SRDB[Vorname],\"NA\",0))","v":""},{"$f":"IF(ISBLANK(SRDB4[[#This Row],[SR-Nr]]),\"\",_xlfn.XLOOKUP(SRDB4[[#This Row],[SR-Nr]],SRDB[SR-Nr.],SRDB[Name],\"NA\",0))","v":""},{"$f":"IF(ISBLANK(SRDB4[[#This Row],[SR-Nr]]),\"\",IF(COUNTIF(Registration!$A$7:$A$204,SRDB4[[#This Row],[SR-Nr]])=1,TRUE,FALSE))","v":""}]
[null,{"$f":"IF(ISBLANK(SRDB4[[#This Row],[SR-Nr]]),\"\",_xlfn.XLOOKUP(SRDB4[[#This Row],[SR-Nr]],SRDB[SR-Nr.],SRDB[Vorname],\"NA\",0))","v":""},{"$f":"IF(ISBLANK(SRDB4[[#This Row],[SR-Nr]]),\"\",_xlfn.XLOOKUP(SRDB4[[#This Row],[SR-Nr]],SRDB[SR-Nr.],SRDB[Name],\"NA\",0))","v":""},{"$f":"IF(ISBLANK(SRDB4[[#This Row],[SR-Nr]]),\"\",IF(COUNTIF(Registration!$A$7:$A$204,SRDB4[[#This Row],[SR-Nr]])=1,TRUE,FALSE))","v":""}]
[null,{"$f":"IF(ISBLANK(SRDB4[[#This Row],[SR-Nr]]),\"\",_xlfn.XLOOKUP(SRDB4[[#This Row],[SR-Nr]],SRDB[SR-Nr.],SRDB[Vorname],\"NA\",0))","v":""},{"$f":"IF(ISBLANK(SRDB4[[#This Row],[SR-Nr]]),\"\",_xlfn.XLOOKUP(SRDB4[[#This Row],[SR-Nr]],SRDB[SR-Nr.],SRDB[Name],\"NA\",0))","v":""},{"$f":"IF(ISBLANK(SRDB4[[#This Row],[SR-Nr]]),\"\",IF(COUNTIF(Registration!$A$7:$A$204,SRDB4[[#This Row],[SR-Nr]])=1,TRUE,FALSE))","v":""}]
[null,{"$f":"IF(ISBLANK(SRDB4[[#This Row],[SR-Nr]]),\"\",_xlfn.XLOOKUP(SRDB4[[#This Row],[SR-Nr]],SRDB[SR-Nr.],SRDB[Vorname],\"NA\",0))","v":""},{"$f":"IF(ISBLANK(SRDB4[[#This Row],[SR-Nr]]),\"\",_xlfn.XLOOKUP(SRDB4[[#This Row],[SR-Nr]],SRDB[SR-Nr.],SRDB[Name],\"NA\",0))","v":""},{"$f":"IF(ISBLANK(SRDB4[[#This Row],[SR-Nr]]),\"\",IF(COUNTIF(Registration!$A$7:$A$204,SRDB4[[#This Row],[SR-Nr]])=1,TRUE,FALSE))","v":""}]
[null,{"$f":"IF(ISBLANK(SRDB4[[#This Row],[SR-Nr]]),\"\",_xlfn.XLOOKUP(SRDB4[[#This Row],[SR-Nr]],SRDB[SR-Nr.],SRDB[Vorname],\"NA\",0))","v":""},{"$f":"IF(ISBLANK(SRDB4[[#This Row],[SR-Nr]]),\"\",_xlfn.XLOOKUP(SRDB4[[#This Row],[SR-Nr]],SRDB[SR-Nr.],SRDB[Name],\"NA\",0))","v":""},{"$f":"IF(ISBLANK(SRDB4[[#This Row],[SR-Nr]]),\"\",IF(COUNTIF(Registration!$A$7:$A$204,SRDB4[[#This Row],[SR-Nr]])=1,TRUE,FALSE))","v":""}]
[null,{"$f":"IF(ISBLANK(SRDB4[[#This Row],[SR-Nr]]),\"\",_xlfn.XLOOKUP(SRDB4[[#This Row],[SR-Nr]],SRDB[SR-Nr.],SRDB[Vorname],\"NA\",0))","v":""},{"$f":"IF(ISBLANK(SRDB4[[#This Row],[SR-Nr]]),\"\",_xlfn.XLOOKUP(SRDB4[[#This Row],[SR-Nr]],SRDB[SR-Nr.],SRDB[Name],\"NA\",0))","v":""},{"$f":"IF(ISBLANK(SRDB4[[#This Row],[SR-Nr]]),\"\",IF(COUNTIF(Registration!$A$7:$A$204,SRDB4[[#This Row],[SR-Nr]])=1,TRUE,FALSE))","v":""}]
[null,{"$f":"IF(ISBLANK(SRDB4[[#This Row],[SR-Nr]]),\"\",_xlfn.XLOOKUP(SRDB4[[#This Row],[SR-Nr]],SRDB[SR-Nr.],SRDB[Vorname],\"NA\",0))","v":""},{"$f":"IF(ISBLANK(SRDB4[[#This Row],[SR-Nr]]),\"\",_xlfn.XLOOKUP(SRDB4[[#This Row],[SR-Nr]],SRDB[SR-Nr.],SRDB[Name],\"NA\",0))","v":""},{"$f":"IF(ISBLANK(SRDB4[[#This Row],[SR-Nr]]),\"\",IF(COUNTIF(Registration!$A$7:$A$204,SRDB4[[#This Row],[SR-Nr]])=1,TRUE,FALSE))","v":""}]
[null,{"$f":"IF(ISBLANK(SRDB4[[#This Row],[SR-Nr]]),\"\",_xlfn.XLOOKUP(SRDB4[[#This Row],[SR-Nr]],SRDB[SR-Nr.],SRDB[Vorname],\"NA\",0))","v":""},{"$f":"IF(ISBLANK(SRDB4[[#This Row],[SR-Nr]]),\"\",_xlfn.XLOOKUP(SRDB4[[#This Row],[SR-Nr]],SRDB[SR-Nr.],SRDB[Name],\"NA\",0))","v":""},{"$f":"IF(ISBLANK(SRDB4[[#This Row],[SR-Nr]]),\"\",IF(COUNTIF(Registration!$A$7:$A$204,SRDB4[[#This Row],[SR-Nr]])=1,TRUE,FALSE))","v":""}]
[null,{"$f":"IF(ISBLANK(SRDB4[[#This Row],[SR-Nr]]),\"\",_xlfn.XLOOKUP(SRDB4[[#This Row],[SR-Nr]],SRDB[SR-Nr.],SRDB[Vorname],\"NA\",0))","v":""},{"$f":"IF(ISBLANK(SRDB4[[#This Row],[SR-Nr]]),\"\",_xlfn.XLOOKUP(SRDB4[[#This Row],[SR-Nr]],SRDB[SR-Nr.],SRDB[Name],\"NA\",0))","v":""},{"$f":"IF(ISBLANK(SRDB4[[#This Row],[SR-Nr]]),\"\",IF(COUNTIF(Registration!$A$7:$A$204,SRDB4[[#This Row],[SR-Nr]])=1,TRUE,FALSE))","v":""}]
[null,{"$f":"IF(ISBLANK(SRDB4[[#This Row],[SR-Nr]]),\"\",_xlfn.XLOOKUP(SRDB4[[#This Row],[SR-Nr]],SRDB[SR-Nr.],SRDB[Vorname],\"NA\",0))","v":""},{"$f":"IF(ISBLANK(SRDB4[[#This Row],[SR-Nr]]),\"\",_xlfn.XLOOKUP(SRDB4[[#This Row],[SR-Nr]],SRDB[SR-Nr.],SRDB[Name],\"NA\",0))","v":""},{"$f":"IF(ISBLANK(SRDB4[[#This Row],[SR-Nr]]),\"\",IF(COUNTIF(Registration!$A$7:$A$204,SRDB4[[#This Row],[SR-Nr]])=1,TRUE,FALSE))","v":""}]
[null,{"$f":"IF(ISBLANK(SRDB4[[#This Row],[SR-Nr]]),\"\",_xlfn.XLOOKUP(SRDB4[[#This Row],[SR-Nr]],SRDB[SR-Nr.],SRDB[Vorname],\"NA\",0))","v":""},{"$f":"IF(ISBLANK(SRDB4[[#This Row],[SR-Nr]]),\"\",_xlfn.XLOOKUP(SRDB4[[#This Row],[SR-Nr]],SRDB[SR-Nr.],SRDB[Name],\"NA\",0))","v":""},{"$f":"IF(ISBLANK(SRDB4[[#This Row],[SR-Nr]]),\"\",IF(COUNTIF(Registration!$A$7:$A$204,SRDB4[[#This Row],[SR-Nr]])=1,TRUE,FALSE))","v":""}]
[null,{"$f":"IF(ISBLANK(SRDB4[[#This Row],[SR-Nr]]),\"\",_xlfn.XLOOKUP(SRDB4[[#This Row],[SR-Nr]],SRDB[SR-Nr.],SRDB[Vorname],\"NA\",0))","v":""},{"$f":"IF(ISBLANK(SRDB4[[#This Row],[SR-Nr]]),\"\",_xlfn.XLOOKUP(SRDB4[[#This Row],[SR-Nr]],SRDB[SR-Nr.],SRDB[Name],\"NA\",0))","v":""},{"$f":"IF(ISBLANK(SRDB4[[#This Row],[SR-Nr]]),\"\",IF(COUNTIF(Registration!$A$7:$A$204,SRDB4[[#This Row],[SR-Nr]])=1,TRUE,FALSE))","v":""}]
[null,{"$f":"IF(ISBLANK(SRDB4[[#This Row],[SR-Nr]]),\"\",_xlfn.XLOOKUP(SRDB4[[#This Row],[SR-Nr]],SRDB[SR-Nr.],SRDB[Vorname],\"NA\",0))","v":""},{"$f":"IF(ISBLANK(SRDB4[[#This Row],[SR-Nr]]),\"\",_xlfn.XLOOKUP(SRDB4[[#This Row],[SR-Nr]],SRDB[SR-Nr.],SRDB[Name],\"NA\",0))","v":""},{"$f":"IF(ISBLANK(SRDB4[[#This Row],[SR-Nr]]),\"\",IF(COUNTIF(Registration!$A$7:$A$204,SRDB4[[#This Row],[SR-Nr]])=1,TRUE,FALSE))","v":""}]
[null,{"$f":"IF(ISBLANK(SRDB4[[#This Row],[SR-Nr]]),\"\",_xlfn.XLOOKUP(SRDB4[[#This Row],[SR-Nr]],SRDB[SR-Nr.],SRDB[Vorname],\"NA\",0))","v":""},{"$f":"IF(ISBLANK(SRDB4[[#This Row],[SR-Nr]]),\"\",_xlfn.XLOOKUP(SRDB4[[#This Row],[SR-Nr]],SRDB[SR-Nr.],SRDB[Name],\"NA\",0))","v":""},{"$f":"IF(ISBLANK(SRDB4[[#This Row],[SR-Nr]]),\"\",IF(COUNTIF(Registration!$A$7:$A$204,SRDB4[[#This Row],[SR-Nr]])=1,TRUE,FALSE))","v":""}]
[null,{"$f":"IF(ISBLANK(SRDB4[[#This Row],[SR-Nr]]),\"\",_xlfn.XLOOKUP(SRDB4[[#This Row],[SR-Nr]],SRDB[SR-Nr.],SRDB[Vorname],\"NA\",0))","v":""},{"$f":"IF(ISBLANK(SRDB4[[#This Row],[SR-Nr]]),\"\",_xlfn.XLOOKUP(SRDB4[[#This Row],[SR-Nr]],SRDB[SR-Nr.],SRDB[Name],\"NA\",0))","v":""},{"$f":"IF(ISBLANK(SRDB4[[#This Row],[SR-Nr]]),\"\",IF(COUNTIF(Registration!$A$7:$A$204,SRDB4[[#This Row],[SR-Nr]])=1,TRUE,FALSE))","v":""}]
[null,{"$f":"IF(ISBLANK(SRDB4[[#This Row],[SR-Nr]]),\"\",_xlfn.XLOOKUP(SRDB4[[#This Row],[SR-Nr]],SRDB[SR-Nr.],SRDB[Vorname],\"NA\",0))","v":""},{"$f":"IF(ISBLANK(SRDB4[[#This Row],[SR-Nr]]),\"\",_xlfn.XLOOKUP(SRDB4[[#This Row],[SR-Nr]],SRDB[SR-Nr.],SRDB[Name],\"NA\",0))","v":""},{"$f":"IF(ISBLANK(SRDB4[[#This Row],[SR-Nr]]),\"\",IF(COUNTIF(Registration!$A$7:$A$204,SRDB4[[#This Row],[SR-Nr]])=1,TRUE,FALSE))","v":""}]
[null,{"$f":"IF(ISBLANK(SRDB4[[#This Row],[SR-Nr]]),\"\",_xlfn.XLOOKUP(SRDB4[[#This Row],[SR-Nr]],SRDB[SR-Nr.],SRDB[Vorname],\"NA\",0))","v":""},{"$f":"IF(ISBLANK(SRDB4[[#This Row],[SR-Nr]]),\"\",_xlfn.XLOOKUP(SRDB4[[#This Row],[SR-Nr]],SRDB[SR-Nr.],SRDB[Name],\"NA\",0))","v":""},{"$f":"IF(ISBLANK(SRDB4[[#This Row],[SR-Nr]]),\"\",IF(COUNTIF(Registration!$A$7:$A$204,SRDB4[[#This Row],[SR-Nr]])=1,TRUE,FALSE))","v":""}]
[null,{"$f":"IF(ISBLANK(SRDB4[[#This Row],[SR-Nr]]),\"\",_xlfn.XLOOKUP(SRDB4[[#This Row],[SR-Nr]],SRDB[SR-Nr.],SRDB[Vorname],\"NA\",0))","v":""},{"$f":"IF(ISBLANK(SRDB4[[#This Row],[SR-Nr]]),\"\",_xlfn.XLOOKUP(SRDB4[[#This Row],[SR-Nr]],SRDB[SR-Nr.],SRDB[Name],\"NA\",0))","v":""},{"$f":"IF(ISBLANK(SRDB4[[#This Row],[SR-Nr]]),\"\",IF(COUNTIF(Registration!$A$7:$A$204,SRDB4[[#This Row],[SR-Nr]])=1,TRUE,FALSE))","v":""}]
[null,{"$f":"IF(ISBLANK(SRDB4[[#This Row],[SR-Nr]]),\"\",_xlfn.XLOOKUP(SRDB4[[#This Row],[SR-Nr]],SRDB[SR-Nr.],SRDB[Vorname],\"NA\",0))","v":""},{"$f":"IF(ISBLANK(SRDB4[[#This Row],[SR-Nr]]),\"\",_xlfn.XLOOKUP(SRDB4[[#This Row],[SR-Nr]],SRDB[SR-Nr.],SRDB[Name],\"NA\",0))","v":""},{"$f":"IF(ISBLANK(SRDB4[[#This Row],[SR-Nr]]),\"\",IF(COUNTIF(Registration!$A$7:$A$204,SRDB4[[#This Row],[SR-Nr]])=1,TRUE,FALSE))","v":""}]
[null,{"$f":"IF(ISBLANK(SRDB4[[#This Row],[SR-Nr]]),\"\",_xlfn.XLOOKUP(SRDB4[[#This Row],[SR-Nr]],SRDB[SR-Nr.],SRDB[Vorname],\"NA\",0))","v":""},{"$f":"IF(ISBLANK(SRDB4[[#This Row],[SR-Nr]]),\"\",_xlfn.XLOOKUP(SRDB4[[#This Row],[SR-Nr]],SRDB[SR-Nr.],SRDB[Name],\"NA\",0))","v":""},{"$f":"IF(ISBLANK(SRDB4[[#This Row],[SR-Nr]]),\"\",IF(COUNTIF(Registration!$A$7:$A$204,SRDB4[[#This Row],[SR-Nr]])=1,TRUE,FALSE))","v":""}]
[null,{"$f":"IF(ISBLANK(SRDB4[[#This Row],[SR-Nr]]),\"\",_xlfn.XLOOKUP(SRDB4[[#This Row],[SR-Nr]],SRDB[SR-Nr.],SRDB[Vorname],\"NA\",0))","v":""},{"$f":"IF(ISBLANK(SRDB4[[#This Row],[SR-Nr]]),\"\",_xlfn.XLOOKUP(SRDB4[[#This Row],[SR-Nr]],SRDB[SR-Nr.],SRDB[Name],\"NA\",0))","v":""},{"$f":"IF(ISBLANK(SRDB4[[#This Row],[SR-Nr]]),\"\",IF(COUNTIF(Registration!$A$7:$A$204,SRDB4[[#This Row],[SR-Nr]])=1,TRUE,FALSE))","v":""}]
[null,{"$f":"IF(ISBLANK(SRDB4[[#This Row],[SR-Nr]]),\"\",_xlfn.XLOOKUP(SRDB4[[#This Row],[SR-Nr]],SRDB[SR-Nr.],SRDB[Vorname],\"NA\",0))","v":""},{"$f":"IF(ISBLANK(SRDB4[[#This Row],[SR-Nr]]),\"\",_xlfn.XLOOKUP(SRDB4[[#This Row],[SR-Nr]],SRDB[SR-Nr.],SRDB[Name],\"NA\",0))","v":""},{"$f":"IF(ISBLANK(SRDB4[[#This Row],[SR-Nr]]),\"\",IF(COUNTIF(Registration!$A$7:$A$204,SRDB4[[#This Row],[SR-Nr]])=1,TRUE,FALSE))","v":""}]
[null,{"$f":"IF(ISBLANK(SRDB4[[#This Row],[SR-Nr]]),\"\",_xlfn.XLOOKUP(SRDB4[[#This Row],[SR-Nr]],SRDB[SR-Nr.],SRDB[Vorname],\"NA\",0))","v":""},{"$f":"IF(ISBLANK(SRDB4[[#This Row],[SR-Nr]]),\"\",_xlfn.XLOOKUP(SRDB4[[#This Row],[SR-Nr]],SRDB[SR-Nr.],SRDB[Name],\"NA\",0))","v":""},{"$f":"IF(ISBLANK(SRDB4[[#This Row],[SR-Nr]]),\"\",IF(COUNTIF(Registration!$A$7:$A$204,SRDB4[[#This Row],[SR-Nr]])=1,TRUE,FALSE))","v":""}]
[null,{"$f":"IF(ISBLANK(SRDB4[[#This Row],[SR-Nr]]),\"\",_xlfn.XLOOKUP(SRDB4[[#This Row],[SR-Nr]],SRDB[SR-Nr.],SRDB[Vorname],\"NA\",0))","v":""},{"$f":"IF(ISBLANK(SRDB4[[#This Row],[SR-Nr]]),\"\",_xlfn.XLOOKUP(SRDB4[[#This Row],[SR-Nr]],SRDB[SR-Nr.],SRDB[Name],\"NA\",0))","v":""},{"$f":"IF(ISBLANK(SRDB4[[#This Row],[SR-Nr]]),\"\",IF(COUNTIF(Registration!$A$7:$A$204,SRDB4[[#This Row],[SR-Nr]])=1,TRUE,FALSE))","v":""}]
[null,{"$f":"IF(ISBLANK(SRDB4[[#This Row],[SR-Nr]]),\"\",_xlfn.XLOOKUP(SRDB4[[#This Row],[SR-Nr]],SRDB[SR-Nr.],SRDB[Vorname],\"NA\",0))","v":""},{"$f":"IF(ISBLANK(SRDB4[[#This Row],[SR-Nr]]),\"\",_xlfn.XLOOKUP(SRDB4[[#This Row],[SR-Nr]],SRDB[SR-Nr.],SRDB[Name],\"NA\",0))","v":""},{"$f":"IF(ISBLANK(SRDB4[[#This Row],[SR-Nr]]),\"\",IF(COUNTIF(Registration!$A$7:$A$204,SRDB4[[#This Row],[SR-Nr]])=1,TRUE,FALSE))","v":""}]
[null,{"$f":"IF(ISBLANK(SRDB4[[#This Row],[SR-Nr]]),\"\",_xlfn.XLOOKUP(SRDB4[[#This Row],[SR-Nr]],SRDB[SR-Nr.],SRDB[Vorname],\"NA\",0))","v":""},{"$f":"IF(ISBLANK(SRDB4[[#This Row],[SR-Nr]]),\"\",_xlfn.XLOOKUP(SRDB4[[#This Row],[SR-Nr]],SRDB[SR-Nr.],SRDB[Name],\"NA\",0))","v":""},{"$f":"IF(ISBLANK(SRDB4[[#This Row],[SR-Nr]]),\"\",IF(COUNTIF(Registration!$A$7:$A$204,SRDB4[[#This Row],[SR-Nr]])=1,TRUE,FALSE))","v":""}]
[null,{"$f":"IF(ISBLANK(SRDB4[[#This Row],[SR-Nr]]),\"\",_xlfn.XLOOKUP(SRDB4[[#This Row],[SR-Nr]],SRDB[SR-Nr.],SRDB[Vorname],\"NA\",0))","v":""},{"$f":"IF(ISBLANK(SRDB4[[#This Row],[SR-Nr]]),\"\",_xlfn.XLOOKUP(SRDB4[[#This Row],[SR-Nr]],SRDB[SR-Nr.],SRDB[Name],\"NA\",0))","v":""},{"$f":"IF(ISBLANK(SRDB4[[#This Row],[SR-Nr]]),\"\",IF(COUNTIF(Registration!$A$7:$A$204,SRDB4[[#This Row],[SR-Nr]])=1,TRUE,FALSE))","v":""}]
[null,{"$f":"IF(ISBLANK(SRDB4[[#This Row],[SR-Nr]]),\"\",_xlfn.XLOOKUP(SRDB4[[#This Row],[SR-Nr]],SRDB[SR-Nr.],SRDB[Vorname],\"NA\",0))","v":""},{"$f":"IF(ISBLANK(SRDB4[[#This Row],[SR-Nr]]),\"\",_xlfn.XLOOKUP(SRDB4[[#This Row],[SR-Nr]],SRDB[SR-Nr.],SRDB[Name],\"NA\",0))","v":""},{"$f":"IF(ISBLANK(SRDB4[[#This Row],[SR-Nr]]),\"\",IF(COUNTIF(Registration!$A$7:$A$204,SRDB4[[#This Row],[SR-Nr]])=1,TRUE,FALSE))","v":""}]
[null,{"$f":"IF(ISBLANK(SRDB4[[#This Row],[SR-Nr]]),\"\",_xlfn.XLOOKUP(SRDB4[[#This Row],[SR-Nr]],SRDB[SR-Nr.],SRDB[Vorname],\"NA\",0))","v":""},{"$f":"IF(ISBLANK(SRDB4[[#This Row],[SR-Nr]]),\"\",_xlfn.XLOOKUP(SRDB4[[#This Row],[SR-Nr]],SRDB[SR-Nr.],SRDB[Name],\"NA\",0))","v":""},{"$f":"IF(ISBLANK(SRDB4[[#This Row],[SR-Nr]]),\"\",IF(COUNTIF(Registration!$A$7:$A$204,SRDB4[[#This Row],[SR-Nr]])=1,TRUE,FALSE))","v":""}]
[null,{"$f":"IF(ISBLANK(SRDB4[[#This Row],[SR-Nr]]),\"\",_xlfn.XLOOKUP(SRDB4[[#This Row],[SR-Nr]],SRDB[SR-Nr.],SRDB[Vorname],\"NA\",0))","v":""},{"$f":"IF(ISBLANK(SRDB4[[#This Row],[SR-Nr]]),\"\",_xlfn.XLOOKUP(SRDB4[[#This Row],[SR-Nr]],SRDB[SR-Nr.],SRDB[Name],\"NA\",0))","v":""},{"$f":"IF(ISBLANK(SRDB4[[#This Row],[SR-Nr]]),\"\",IF(COUNTIF(Registration!$A$7:$A$204,SRDB4[[#This Row],[SR-Nr]])=1,TRUE,FALSE))","v":""}]
[null,{"$f":"IF(ISBLANK(SRDB4[[#This Row],[SR-Nr]]),\"\",_xlfn.XLOOKUP(SRDB4[[#This Row],[SR-Nr]],SRDB[SR-Nr.],SRDB[Vorname],\"NA\",0))","v":""},{"$f":"IF(ISBLANK(SRDB4[[#This Row],[SR-Nr]]),\"\",_xlfn.XLOOKUP(SRDB4[[#This Row],[SR-Nr]],SRDB[SR-Nr.],SRDB[Name],\"NA\",0))","v":""},{"$f":"IF(ISBLANK(SRDB4[[#This Row],[SR-Nr]]),\"\",IF(COUNTIF(Registration!$A$7:$A$204,SRDB4[[#This Row],[SR-Nr]])=1,TRUE,FALSE))","v":""}]
[null,{"$f":"IF(ISBLANK(SRDB4[[#This Row],[SR-Nr]]),\"\",_xlfn.XLOOKUP(SRDB4[[#This Row],[SR-Nr]],SRDB[SR-Nr.],SRDB[Vorname],\"NA\",0))","v":""},{"$f":"IF(ISBLANK(SRDB4[[#This Row],[SR-Nr]]),\"\",_xlfn.XLOOKUP(SRDB4[[#This Row],[SR-Nr]],SRDB[SR-Nr.],SRDB[Name],\"NA\",0))","v":""},{"$f":"IF(ISBLANK(SRDB4[[#This Row],[SR-Nr]]),\"\",IF(COUNTIF(Registration!$A$7:$A$204,SRDB4[[#This Row],[SR-Nr]])=1,TRUE,FALSE))","v":""}]
[null,{"$f":"IF(ISBLANK(SRDB4[[#This Row],[SR-Nr]]),\"\",_xlfn.XLOOKUP(SRDB4[[#This Row],[SR-Nr]],SRDB[SR-Nr.],SRDB[Vorname],\"NA\",0))","v":""},{"$f":"IF(ISBLANK(SRDB4[[#This Row],[SR-Nr]]),\"\",_xlfn.XLOOKUP(SRDB4[[#This Row],[SR-Nr]],SRDB[SR-Nr.],SRDB[Name],\"NA\",0))","v":""},{"$f":"IF(ISBLANK(SRDB4[[#This Row],[SR-Nr]]),\"\",IF(COUNTIF(Registration!$A$7:$A$204,SRDB4[[#This Row],[SR-Nr]])=1,TRUE,FALSE))","v":""}]
[null,{"$f":"IF(ISBLANK(SRDB4[[#This Row],[SR-Nr]]),\"\",_xlfn.XLOOKUP(SRDB4[[#This Row],[SR-Nr]],SRDB[SR-Nr.],SRDB[Vorname],\"NA\",0))","v":""},{"$f":"IF(ISBLANK(SRDB4[[#This Row],[SR-Nr]]),\"\",_xlfn.XLOOKUP(SRDB4[[#This Row],[SR-Nr]],SRDB[SR-Nr.],SRDB[Name],\"NA\",0))","v":""},{"$f":"IF(ISBLANK(SRDB4[[#This Row],[SR-Nr]]),\"\",IF(COUNTIF(Registration!$A$7:$A$204,SRDB4[[#This Row],[SR-Nr]])=1,TRUE,FALSE))","v":""}]
[null,{"$f":"IF(ISBLANK(SRDB4[[#This Row],[SR-Nr]]),\"\",_xlfn.XLOOKUP(SRDB4[[#This Row],[SR-Nr]],SRDB[SR-Nr.],SRDB[Vorname],\"NA\",0))","v":""},{"$f":"IF(ISBLANK(SRDB4[[#This Row],[SR-Nr]]),\"\",_xlfn.XLOOKUP(SRDB4[[#This Row],[SR-Nr]],SRDB[SR-Nr.],SRDB[Name],\"NA\",0))","v":""},{"$f":"IF(ISBLANK(SRDB4[[#This Row],[SR-Nr]]),\"\",IF(COUNTIF(Registration!$A$7:$A$204,SRDB4[[#This Row],[SR-Nr]])=1,TRUE,FALSE))","v":""}]
[null,{"$f":"IF(ISBLANK(SRDB4[[#This Row],[SR-Nr]]),\"\",_xlfn.XLOOKUP(SRDB4[[#This Row],[SR-Nr]],SRDB[SR-Nr.],SRDB[Vorname],\"NA\",0))","v":""},{"$f":"IF(ISBLANK(SRDB4[[#This Row],[SR-Nr]]),\"\",_xlfn.XLOOKUP(SRDB4[[#This Row],[SR-Nr]],SRDB[SR-Nr.],SRDB[Name],\"NA\",0))","v":""},{"$f":"IF(ISBLANK(SRDB4[[#This Row],[SR-Nr]]),\"\",IF(COUNTIF(Registration!$A$7:$A$204,SRDB4[[#This Row],[SR-Nr]])=1,TRUE,FALSE))","v":""}]
[null,{"$f":"IF(ISBLANK(SRDB4[[#This Row],[SR-Nr]]),\"\",_xlfn.XLOOKUP(SRDB4[[#This Row],[SR-Nr]],SRDB[SR-Nr.],SRDB[Vorname],\"NA\",0))","v":""},{"$f":"IF(ISBLANK(SRDB4[[#This Row],[SR-Nr]]),\"\",_xlfn.XLOOKUP(SRDB4[[#This Row],[SR-Nr]],SRDB[SR-Nr.],SRDB[Name],\"NA\",0))","v":""},{"$f":"IF(ISBLANK(SRDB4[[#This Row],[SR-Nr]]),\"\",IF(COUNTIF(Registration!$A$7:$A$204,SRDB4[[#This Row],[SR-Nr]])=1,TRUE,FALSE))","v":""}]
[null,{"$f":"IF(ISBLANK(SRDB4[[#This Row],[SR-Nr]]),\"\",_xlfn.XLOOKUP(SRDB4[[#This Row],[SR-Nr]],SRDB[SR-Nr.],SRDB[Vorname],\"NA\",0))","v":""},{"$f":"IF(ISBLANK(SRDB4[[#This Row],[SR-Nr]]),\"\",_xlfn.XLOOKUP(SRDB4[[#This Row],[SR-Nr]],SRDB[SR-Nr.],SRDB[Name],\"NA\",0))","v":""},{"$f":"IF(ISBLANK(SRDB4[[#This Row],[SR-Nr]]),\"\",IF(COUNTIF(Registration!$A$7:$A$204,SRDB4[[#This Row],[SR-Nr]])=1,TRUE,FALSE))","v":""}]
[null,{"$f":"IF(ISBLANK(SRDB4[[#This Row],[SR-Nr]]),\"\",_xlfn.XLOOKUP(SRDB4[[#This Row],[SR-Nr]],SRDB[SR-Nr.],SRDB[Vorname],\"NA\",0))","v":""},{"$f":"IF(ISBLANK(SRDB4[[#This Row],[SR-Nr]]),\"\",_xlfn.XLOOKUP(SRDB4[[#This Row],[SR-Nr]],SRDB[SR-Nr.],SRDB[Name],\"NA\",0))","v":""},{"$f":"IF(ISBLANK(SRDB4[[#This Row],[SR-Nr]]),\"\",IF(COUNTIF(Registration!$A$7:$A$204,SRDB4[[#This Row],[SR-Nr]])=1,TRUE,FALSE))","v":""}]
[null,{"$f":"IF(ISBLANK(SRDB4[[#This Row],[SR-Nr]]),\"\",_xlfn.XLOOKUP(SRDB4[[#This Row],[SR-Nr]],SRDB[SR-Nr.],SRDB[Vorname],\"NA\",0))","v":""},{"$f":"IF(ISBLANK(SRDB4[[#This Row],[SR-Nr]]),\"\",_xlfn.XLOOKUP(SRDB4[[#This Row],[SR-Nr]],SRDB[SR-Nr.],SRDB[Name],\"NA\",0))","v":""},{"$f":"IF(ISBLANK(SRDB4[[#This Row],[SR-Nr]]),\"\",IF(COUNTIF(Registration!$A$7:$A$204,SRDB4[[#This Row],[SR-Nr]])=1,TRUE,FALSE))","v":""}]
[null,{"$f":"IF(ISBLANK(SRDB4[[#This Row],[SR-Nr]]),\"\",_xlfn.XLOOKUP(SRDB4[[#This Row],[SR-Nr]],SRDB[SR-Nr.],SRDB[Vorname],\"NA\",0))","v":""},{"$f":"IF(ISBLANK(SRDB4[[#This Row],[SR-Nr]]),\"\",_xlfn.XLOOKUP(SRDB4[[#This Row],[SR-Nr]],SRDB[SR-Nr.],SRDB[Name],\"NA\",0))","v":""},{"$f":"IF(ISBLANK(SRDB4[[#This Row],[SR-Nr]]),\"\",IF(COUNTIF(Registration!$A$7:$A$204,SRDB4[[#This Row],[SR-Nr]])=1,TRUE,FALSE))","v":""}]
[null,{"$f":"IF(ISBLANK(SRDB4[[#This Row],[SR-Nr]]),\"\",_xlfn.XLOOKUP(SRDB4[[#This Row],[SR-Nr]],SRDB[SR-Nr.],SRDB[Vorname],\"NA\",0))","v":""},{"$f":"IF(ISBLANK(SRDB4[[#This Row],[SR-Nr]]),\"\",_xlfn.XLOOKUP(SRDB4[[#This Row],[SR-Nr]],SRDB[SR-Nr.],SRDB[Name],\"NA\",0))","v":""},{"$f":"IF(ISBLANK(SRDB4[[#This Row],[SR-Nr]]),\"\",IF(COUNTIF(Registration!$A$7:$A$204,SRDB4[[#This Row],[SR-Nr]])=1,TRUE,FALSE))","v":""}]
[null,{"$f":"IF(ISBLANK(SRDB4[[#This Row],[SR-Nr]]),\"\",_xlfn.XLOOKUP(SRDB4[[#This Row],[SR-Nr]],SRDB[SR-Nr.],SRDB[Vorname],\"NA\",0))","v":""},{"$f":"IF(ISBLANK(SRDB4[[#This Row],[SR-Nr]]),\"\",_xlfn.XLOOKUP(SRDB4[[#This Row],[SR-Nr]],SRDB[SR-Nr.],SRDB[Name],\"NA\",0))","v":""},{"$f":"IF(ISBLANK(SRDB4[[#This Row],[SR-Nr]]),\"\",IF(COUNTIF(Registration!$A$7:$A$204,SRDB4[[#This Row],[SR-Nr]])=1,TRUE,FALSE))","v":""}]
[null,{"$f":"IF(ISBLANK(SRDB4[[#This Row],[SR-Nr]]),\"\",_xlfn.XLOOKUP(SRDB4[[#This Row],[SR-Nr]],SRDB[SR-Nr.],SRDB[Vorname],\"NA\",0))","v":""},{"$f":"IF(ISBLANK(SRDB4[[#This Row],[SR-Nr]]),\"\",_xlfn.XLOOKUP(SRDB4[[#This Row],[SR-Nr]],SRDB[SR-Nr.],SRDB[Name],\"NA\",0))","v":""},{"$f":"IF(ISBLANK(SRDB4[[#This Row],[SR-Nr]]),\"\",IF(COUNTIF(Registration!$A$7:$A$204,SRDB4[[#This Row],[SR-Nr]])=1,TRUE,FALSE))","v":""}]
[null,{"$f":"IF(ISBLANK(SRDB4[[#This Row],[SR-Nr]]),\"\",_xlfn.XLOOKUP(SRDB4[[#This Row],[SR-Nr]],SRDB[SR-Nr.],SRDB[Vorname],\"NA\",0))","v":""},{"$f":"IF(ISBLANK(SRDB4[[#This Row],[SR-Nr]]),\"\",_xlfn.XLOOKUP(SRDB4[[#This Row],[SR-Nr]],SRDB[SR-Nr.],SRDB[Name],\"NA\",0))","v":""},{"$f":"IF(ISBLANK(SRDB4[[#This Row],[SR-Nr]]),\"\",IF(COUNTIF(Registration!$A$7:$A$204,SRDB4[[#This Row],[SR-Nr]])=1,TRUE,FALSE))","v":""}]
[null,{"$f":"IF(ISBLANK(SRDB4[[#This Row],[SR-Nr]]),\"\",_xlfn.XLOOKUP(SRDB4[[#This Row],[SR-Nr]],SRDB[SR-Nr.],SRDB[Vorname],\"NA\",0))","v":""},{"$f":"IF(ISBLANK(SRDB4[[#This Row],[SR-Nr]]),\"\",_xlfn.XLOOKUP(SRDB4[[#This Row],[SR-Nr]],SRDB[SR-Nr.],SRDB[Name],\"NA\",0))","v":""},{"$f":"IF(ISBLANK(SRDB4[[#This Row],[SR-Nr]]),\"\",IF(COUNTIF(Registration!$A$7:$A$204,SRDB4[[#This Row],[SR-Nr]])=1,TRUE,FALSE))","v":""}]
[null,{"$f":"IF(ISBLANK(SRDB4[[#This Row],[SR-Nr]]),\"\",_xlfn.XLOOKUP(SRDB4[[#This Row],[SR-Nr]],SRDB[SR-Nr.],SRDB[Vorname],\"NA\",0))","v":""},{"$f":"IF(ISBLANK(SRDB4[[#This Row],[SR-Nr]]),\"\",_xlfn.XLOOKUP(SRDB4[[#This Row],[SR-Nr]],SRDB[SR-Nr.],SRDB[Name],\"NA\",0))","v":""},{"$f":"IF(ISBLANK(SRDB4[[#This Row],[SR-Nr]]),\"\",IF(COUNTIF(Registration!$A$7:$A$204,SRDB4[[#This Row],[SR-Nr]])=1,TRUE,FALSE))","v":""}]
[null,{"$f":"IF(ISBLANK(SRDB4[[#This Row],[SR-Nr]]),\"\",_xlfn.XLOOKUP(SRDB4[[#This Row],[SR-Nr]],SRDB[SR-Nr.],SRDB[Vorname],\"NA\",0))","v":""},{"$f":"IF(ISBLANK(SRDB4[[#This Row],[SR-Nr]]),\"\",_xlfn.XLOOKUP(SRDB4[[#This Row],[SR-Nr]],SRDB[SR-Nr.],SRDB[Name],\"NA\",0))","v":""},{"$f":"IF(ISBLANK(SRDB4[[#This Row],[SR-Nr]]),\"\",IF(COUNTIF(Registration!$A$7:$A$204,SRDB4[[#This Row],[SR-Nr]])=1,TRUE,FALSE))","v":""}]
[null,{"$f":"IF(ISBLANK(SRDB4[[#This Row],[SR-Nr]]),\"\",_xlfn.XLOOKUP(SRDB4[[#This Row],[SR-Nr]],SRDB[SR-Nr.],SRDB[Vorname],\"NA\",0))","v":""},{"$f":"IF(ISBLANK(SRDB4[[#This Row],[SR-Nr]]),\"\",_xlfn.XLOOKUP(SRDB4[[#This Row],[SR-Nr]],SRDB[SR-Nr.],SRDB[Name],\"NA\",0))","v":""},{"$f":"IF(ISBLANK(SRDB4[[#This Row],[SR-Nr]]),\"\",IF(COUNTIF(Registration!$A$7:$A$204,SRDB4[[#This Row],[SR-Nr]])=1,TRUE,FALSE))","v":""}]
[null,{"$f":"IF(ISBLANK(SRDB4[[#This Row],[SR-Nr]]),\"\",_xlfn.XLOOKUP(SRDB4[[#This Row],[SR-Nr]],SRDB[SR-Nr.],SRDB[Vorname],\"NA\",0))","v":""},{"$f":"IF(ISBLANK(SRDB4[[#This Row],[SR-Nr]]),\"\",_xlfn.XLOOKUP(SRDB4[[#This Row],[SR-Nr]],SRDB[SR-Nr.],SRDB[Name],\"NA\",0))","v":""},{"$f":"IF(ISBLANK(SRDB4[[#This Row],[SR-Nr]]),\"\",IF(COUNTIF(Registration!$A$7:$A$204,SRDB4[[#This Row],[SR-Nr]])=1,TRUE,FALSE))","v":""}]
[null,{"$f":"IF(ISBLANK(SRDB4[[#This Row],[SR-Nr]]),\"\",_xlfn.XLOOKUP(SRDB4[[#This Row],[SR-Nr]],SRDB[SR-Nr.],SRDB[Vorname],\"NA\",0))","v":""},{"$f":"IF(ISBLANK(SRDB4[[#This Row],[SR-Nr]]),\"\",_xlfn.XLOOKUP(SRDB4[[#This Row],[SR-Nr]],SRDB[SR-Nr.],SRDB[Name],\"NA\",0))","v":""},{"$f":"IF(ISBLANK(SRDB4[[#This Row],[SR-Nr]]),\"\",IF(COUNTIF(Registration!$A$7:$A$204,SRDB4[[#This Row],[SR-Nr]])=1,TRUE,FALSE))","v":""}]
[null,{"$f":"IF(ISBLANK(SRDB4[[#This Row],[SR-Nr]]),\"\",_xlfn.XLOOKUP(SRDB4[[#This Row],[SR-Nr]],SRDB[SR-Nr.],SRDB[Vorname],\"NA\",0))","v":""},{"$f":"IF(ISBLANK(SRDB4[[#This Row],[SR-Nr]]),\"\",_xlfn.XLOOKUP(SRDB4[[#This Row],[SR-Nr]],SRDB[SR-Nr.],SRDB[Name],\"NA\",0))","v":""},{"$f":"IF(ISBLANK(SRDB4[[#This Row],[SR-Nr]]),\"\",IF(COUNTIF(Registration!$A$7:$A$204,SRDB4[[#This Row],[SR-Nr]])=1,TRUE,FALSE))","v":""}]
[null,{"$f":"IF(ISBLANK(SRDB4[[#This Row],[SR-Nr]]),\"\",_xlfn.XLOOKUP(SRDB4[[#This Row],[SR-Nr]],SRDB[SR-Nr.],SRDB[Vorname],\"NA\",0))","v":""},{"$f":"IF(ISBLANK(SRDB4[[#This Row],[SR-Nr]]),\"\",_xlfn.XLOOKUP(SRDB4[[#This Row],[SR-Nr]],SRDB[SR-Nr.],SRDB[Name],\"NA\",0))","v":""},{"$f":"IF(ISBLANK(SRDB4[[#This Row],[SR-Nr]]),\"\",IF(COUNTIF(Registration!$A$7:$A$204,SRDB4[[#This Row],[SR-Nr]])=1,TRUE,FALSE))","v":""}]
[null,{"$f":"IF(ISBLANK(SRDB4[[#This Row],[SR-Nr]]),\"\",_xlfn.XLOOKUP(SRDB4[[#This Row],[SR-Nr]],SRDB[SR-Nr.],SRDB[Vorname],\"NA\",0))","v":""},{"$f":"IF(ISBLANK(SRDB4[[#This Row],[SR-Nr]]),\"\",_xlfn.XLOOKUP(SRDB4[[#This Row],[SR-Nr]],SRDB[SR-Nr.],SRDB[Name],\"NA\",0))","v":""},{"$f":"IF(ISBLANK(SRDB4[[#This Row],[SR-Nr]]),\"\",IF(COUNTIF(Registration!$A$7:$A$204,SRDB4[[#This Row],[SR-Nr]])=1,TRUE,FALSE))","v":""}]
[null,{"$f":"IF(ISBLANK(SRDB4[[#This Row],[SR-Nr]]),\"\",_xlfn.XLOOKUP(SRDB4[[#This Row],[SR-Nr]],SRDB[SR-Nr.],SRDB[Vorname],\"NA\",0))","v":""},{"$f":"IF(ISBLANK(SRDB4[[#This Row],[SR-Nr]]),\"\",_xlfn.XLOOKUP(SRDB4[[#This Row],[SR-Nr]],SRDB[SR-Nr.],SRDB[Name],\"NA\",0))","v":""},{"$f":"IF(ISBLANK(SRDB4[[#This Row],[SR-Nr]]),\"\",IF(COUNTIF(Registration!$A$7:$A$204,SRDB4[[#This Row],[SR-Nr]])=1,TRUE,FALSE))","v":""}]
[null,{"$f":"IF(ISBLANK(SRDB4[[#This Row],[SR-Nr]]),\"\",_xlfn.XLOOKUP(SRDB4[[#This Row],[SR-Nr]],SRDB[SR-Nr.],SRDB[Vorname],\"NA\",0))","v":""},{"$f":"IF(ISBLANK(SRDB4[[#This Row],[SR-Nr]]),\"\",_xlfn.XLOOKUP(SRDB4[[#This Row],[SR-Nr]],SRDB[SR-Nr.],SRDB[Name],\"NA\",0))","v":""},{"$f":"IF(ISBLANK(SRDB4[[#This Row],[SR-Nr]]),\"\",IF(COUNTIF(Registration!$A$7:$A$204,SRDB4[[#This Row],[SR-Nr]])=1,TRUE,FALSE))","v":""}]
[null,{"$f":"IF(ISBLANK(SRDB4[[#This Row],[SR-Nr]]),\"\",_xlfn.XLOOKUP(SRDB4[[#This Row],[SR-Nr]],SRDB[SR-Nr.],SRDB[Vorname],\"NA\",0))","v":""},{"$f":"IF(ISBLANK(SRDB4[[#This Row],[SR-Nr]]),\"\",_xlfn.XLOOKUP(SRDB4[[#This Row],[SR-Nr]],SRDB[SR-Nr.],SRDB[Name],\"NA\",0))","v":""},{"$f":"IF(ISBLANK(SRDB4[[#This Row],[SR-Nr]]),\"\",IF(COUNTIF(Registration!$A$7:$A$204,SRDB4[[#This Row],[SR-Nr]])=1,TRUE,FALSE))","v":""}]
[null,{"$f":"IF(ISBLANK(SRDB4[[#This Row],[SR-Nr]]),\"\",_xlfn.XLOOKUP(SRDB4[[#This Row],[SR-Nr]],SRDB[SR-Nr.],SRDB[Vorname],\"NA\",0))","v":""},{"$f":"IF(ISBLANK(SRDB4[[#This Row],[SR-Nr]]),\"\",_xlfn.XLOOKUP(SRDB4[[#This Row],[SR-Nr]],SRDB[SR-Nr.],SRDB[Name],\"NA\",0))","v":""},{"$f":"IF(ISBLANK(SRDB4[[#This Row],[SR-Nr]]),\"\",IF(COUNTIF(Registration!$A$7:$A$204,SRDB4[[#This Row],[SR-Nr]])=1,TRUE,FALSE))","v":""}]
[null,{"$f":"IF(ISBLANK(SRDB4[[#This Row],[SR-Nr]]),\"\",_xlfn.XLOOKUP(SRDB4[[#This Row],[SR-Nr]],SRDB[SR-Nr.],SRDB[Vorname],\"NA\",0))","v":""},{"$f":"IF(ISBLANK(SRDB4[[#This Row],[SR-Nr]]),\"\",_xlfn.XLOOKUP(SRDB4[[#This Row],[SR-Nr]],SRDB[SR-Nr.],SRDB[Name],\"NA\",0))","v":""},{"$f":"IF(ISBLANK(SRDB4[[#This Row],[SR-Nr]]),\"\",IF(COUNTIF(Registration!$A$7:$A$204,SRDB4[[#This Row],[SR-Nr]])=1,TRUE,FALSE))","v":""}]
[null,{"$f":"IF(ISBLANK(SRDB4[[#This Row],[SR-Nr]]),\"\",_xlfn.XLOOKUP(SRDB4[[#This Row],[SR-Nr]],SRDB[SR-Nr.],SRDB[Vorname],\"NA\",0))","v":""},{"$f":"IF(ISBLANK(SRDB4[[#This Row],[SR-Nr]]),\"\",_xlfn.XLOOKUP(SRDB4[[#This Row],[SR-Nr]],SRDB[SR-Nr.],SRDB[Name],\"NA\",0))","v":""},{"$f":"IF(ISBLANK(SRDB4[[#This Row],[SR-Nr]]),\"\",IF(COUNTIF(Registration!$A$7:$A$204,SRDB4[[#This Row],[SR-Nr]])=1,TRUE,FALSE))","v":""}]
[null,{"$f":"IF(ISBLANK(SRDB4[[#This Row],[SR-Nr]]),\"\",_xlfn.XLOOKUP(SRDB4[[#This Row],[SR-Nr]],SRDB[SR-Nr.],SRDB[Vorname],\"NA\",0))","v":""},{"$f":"IF(ISBLANK(SRDB4[[#This Row],[SR-Nr]]),\"\",_xlfn.XLOOKUP(SRDB4[[#This Row],[SR-Nr]],SRDB[SR-Nr.],SRDB[Name],\"NA\",0))","v":""},{"$f":"IF(ISBLANK(SRDB4[[#This Row],[SR-Nr]]),\"\",IF(COUNTIF(Registration!$A$7:$A$204,SRDB4[[#This Row],[SR-Nr]])=1,TRUE,FALSE))","v":""}]
[null,{"$f":"IF(ISBLANK(SRDB4[[#This Row],[SR-Nr]]),\"\",_xlfn.XLOOKUP(SRDB4[[#This Row],[SR-Nr]],SRDB[SR-Nr.],SRDB[Vorname],\"NA\",0))","v":""},{"$f":"IF(ISBLANK(SRDB4[[#This Row],[SR-Nr]]),\"\",_xlfn.XLOOKUP(SRDB4[[#This Row],[SR-Nr]],SRDB[SR-Nr.],SRDB[Name],\"NA\",0))","v":""},{"$f":"IF(ISBLANK(SRDB4[[#This Row],[SR-Nr]]),\"\",IF(COUNTIF(Registration!$A$7:$A$204,SRDB4[[#This Row],[SR-Nr]])=1,TRUE,FALSE))","v":""}]
[null,{"$f":"IF(ISBLANK(SRDB4[[#This Row],[SR-Nr]]),\"\",_xlfn.XLOOKUP(SRDB4[[#This Row],[SR-Nr]],SRDB[SR-Nr.],SRDB[Vorname],\"NA\",0))","v":""},{"$f":"IF(ISBLANK(SRDB4[[#This Row],[SR-Nr]]),\"\",_xlfn.XLOOKUP(SRDB4[[#This Row],[SR-Nr]],SRDB[SR-Nr.],SRDB[Name],\"NA\",0))","v":""},{"$f":"IF(ISBLANK(SRDB4[[#This Row],[SR-Nr]]),\"\",IF(COUNTIF(Registration!$A$7:$A$204,SRDB4[[#This Row],[SR-Nr]])=1,TRUE,FALSE))","v":""}]
[null,{"$f":"IF(ISBLANK(SRDB4[[#This Row],[SR-Nr]]),\"\",_xlfn.XLOOKUP(SRDB4[[#This Row],[SR-Nr]],SRDB[SR-Nr.],SRDB[Vorname],\"NA\",0))","v":""},{"$f":"IF(ISBLANK(SRDB4[[#This Row],[SR-Nr]]),\"\",_xlfn.XLOOKUP(SRDB4[[#This Row],[SR-Nr]],SRDB[SR-Nr.],SRDB[Name],\"NA\",0))","v":""},{"$f":"IF(ISBLANK(SRDB4[[#This Row],[SR-Nr]]),\"\",IF(COUNTIF(Registration!$A$7:$A$204,SRDB4[[#This Row],[SR-Nr]])=1,TRUE,FALSE))","v":""}]
[null,{"$f":"IF(ISBLANK(SRDB4[[#This Row],[SR-Nr]]),\"\",_xlfn.XLOOKUP(SRDB4[[#This Row],[SR-Nr]],SRDB[SR-Nr.],SRDB[Vorname],\"NA\",0))","v":""},{"$f":"IF(ISBLANK(SRDB4[[#This Row],[SR-Nr]]),\"\",_xlfn.XLOOKUP(SRDB4[[#This Row],[SR-Nr]],SRDB[SR-Nr.],SRDB[Name],\"NA\",0))","v":""},{"$f":"IF(ISBLANK(SRDB4[[#This Row],[SR-Nr]]),\"\",IF(COUNTIF(Registration!$A$7:$A$204,SRDB4[[#This Row],[SR-Nr]])=1,TRUE,FALSE))","v":""}]
[null,{"$f":"IF(ISBLANK(SRDB4[[#This Row],[SR-Nr]]),\"\",_xlfn.XLOOKUP(SRDB4[[#This Row],[SR-Nr]],SRDB[SR-Nr.],SRDB[Vorname],\"NA\",0))","v":""},{"$f":"IF(ISBLANK(SRDB4[[#This Row],[SR-Nr]]),\"\",_xlfn.XLOOKUP(SRDB4[[#This Row],[SR-Nr]],SRDB[SR-Nr.],SRDB[Name],\"NA\",0))","v":""},{"$f":"IF(ISBLANK(SRDB4[[#This Row],[SR-Nr]]),\"\",IF(COUNTIF(Registration!$A$7:$A$204,SRDB4[[#This Row],[SR-Nr]])=1,TRUE,FALSE))","v":""}]
[null,{"$f":"IF(ISBLANK(SRDB4[[#This Row],[SR-Nr]]),\"\",_xlfn.XLOOKUP(SRDB4[[#This Row],[SR-Nr]],SRDB[SR-Nr.],SRDB[Vorname],\"NA\",0))","v":""},{"$f":"IF(ISBLANK(SRDB4[[#This Row],[SR-Nr]]),\"\",_xlfn.XLOOKUP(SRDB4[[#This Row],[SR-Nr]],SRDB[SR-Nr.],SRDB[Name],\"NA\",0))","v":""},{"$f":"IF(ISBLANK(SRDB4[[#This Row],[SR-Nr]]),\"\",IF(COUNTIF(Registration!$A$7:$A$204,SRDB4[[#This Row],[SR-Nr]])=1,TRUE,FALSE))","v":""}]
[null,{"$f":"IF(ISBLANK(SRDB4[[#This Row],[SR-Nr]]),\"\",_xlfn.XLOOKUP(SRDB4[[#This Row],[SR-Nr]],SRDB[SR-Nr.],SRDB[Vorname],\"NA\",0))","v":""},{"$f":"IF(ISBLANK(SRDB4[[#This Row],[SR-Nr]]),\"\",_xlfn.XLOOKUP(SRDB4[[#This Row],[SR-Nr]],SRDB[SR-Nr.],SRDB[Name],\"NA\",0))","v":""},{"$f":"IF(ISBLANK(SRDB4[[#This Row],[SR-Nr]]),\"\",IF(COUNTIF(Registration!$A$7:$A$204,SRDB4[[#This Row],[SR-Nr]])=1,TRUE,FALSE))","v":""}]
[null,{"$f":"IF(ISBLANK(SRDB4[[#This Row],[SR-Nr]]),\"\",_xlfn.XLOOKUP(SRDB4[[#This Row],[SR-Nr]],SRDB[SR-Nr.],SRDB[Vorname],\"NA\",0))","v":""},{"$f":"IF(ISBLANK(SRDB4[[#This Row],[SR-Nr]]),\"\",_xlfn.XLOOKUP(SRDB4[[#This Row],[SR-Nr]],SRDB[SR-Nr.],SRDB[Name],\"NA\",0))","v":""},{"$f":"IF(ISBLANK(SRDB4[[#This Row],[SR-Nr]]),\"\",IF(COUNTIF(Registration!$A$7:$A$204,SRDB4[[#This Row],[SR-Nr]])=1,TRUE,FALSE))","v":""}]
[null,{"$f":"IF(ISBLANK(SRDB4[[#This Row],[SR-Nr]]),\"\",_xlfn.XLOOKUP(SRDB4[[#This Row],[SR-Nr]],SRDB[SR-Nr.],SRDB[Vorname],\"NA\",0))","v":""},{"$f":"IF(ISBLANK(SRDB4[[#This Row],[SR-Nr]]),\"\",_xlfn.XLOOKUP(SRDB4[[#This Row],[SR-Nr]],SRDB[SR-Nr.],SRDB[Name],\"NA\",0))","v":""},{"$f":"IF(ISBLANK(SRDB4[[#This Row],[SR-Nr]]),\"\",IF(COUNTIF(Registration!$A$7:$A$204,SRDB4[[#This Row],[SR-Nr]])=1,TRUE,FALSE))","v":""}]
[null,{"$f":"IF(ISBLANK(SRDB4[[#This Row],[SR-Nr]]),\"\",_xlfn.XLOOKUP(SRDB4[[#This Row],[SR-Nr]],SRDB[SR-Nr.],SRDB[Vorname],\"NA\",0))","v":""},{"$f":"IF(ISBLANK(SRDB4[[#This Row],[SR-Nr]]),\"\",_xlfn.XLOOKUP(SRDB4[[#This Row],[SR-Nr]],SRDB[SR-Nr.],SRDB[Name],\"NA\",0))","v":""},{"$f":"IF(ISBLANK(SRDB4[[#This Row],[SR-Nr]]),\"\",IF(COUNTIF(Registration!$A$7:$A$204,SRDB4[[#This Row],[SR-Nr]])=1,TRUE,FALSE))","v":""}]
[null,{"$f":"IF(ISBLANK(SRDB4[[#This Row],[SR-Nr]]),\"\",_xlfn.XLOOKUP(SRDB4[[#This Row],[SR-Nr]],SRDB[SR-Nr.],SRDB[Vorname],\"NA\",0))","v":""},{"$f":"IF(ISBLANK(SRDB4[[#This Row],[SR-Nr]]),\"\",_xlfn.XLOOKUP(SRDB4[[#This Row],[SR-Nr]],SRDB[SR-Nr.],SRDB[Name],\"NA\",0))","v":""},{"$f":"IF(ISBLANK(SRDB4[[#This Row],[SR-Nr]]),\"\",IF(COUNTIF(Registration!$A$7:$A$204,SRDB4[[#This Row],[SR-Nr]])=1,TRUE,FALSE))","v":""}]
[null,{"$f":"IF(ISBLANK(SRDB4[[#This Row],[SR-Nr]]),\"\",_xlfn.XLOOKUP(SRDB4[[#This Row],[SR-Nr]],SRDB[SR-Nr.],SRDB[Vorname],\"NA\",0))","v":""},{"$f":"IF(ISBLANK(SRDB4[[#This Row],[SR-Nr]]),\"\",_xlfn.XLOOKUP(SRDB4[[#This Row],[SR-Nr]],SRDB[SR-Nr.],SRDB[Name],\"NA\",0))","v":""},{"$f":"IF(ISBLANK(SRDB4[[#This Row],[SR-Nr]]),\"\",IF(COUNTIF(Registration!$A$7:$A$204,SRDB4[[#This Row],[SR-Nr]])=1,TRUE,FALSE))","v":""}]
[null,{"$f":"IF(ISBLANK(SRDB4[[#This Row],[SR-Nr]]),\"\",_xlfn.XLOOKUP(SRDB4[[#This Row],[SR-Nr]],SRDB[SR-Nr.],SRDB[Vorname],\"NA\",0))","v":""},{"$f":"IF(ISBLANK(SRDB4[[#This Row],[SR-Nr]]),\"\",_xlfn.XLOOKUP(SRDB4[[#This Row],[SR-Nr]],SRDB[SR-Nr.],SRDB[Name],\"NA\",0))","v":""},{"$f":"IF(ISBLANK(SRDB4[[#This Row],[SR-Nr]]),\"\",IF(COUNTIF(Registration!$A$7:$A$204,SRDB4[[#This Row],[SR-Nr]])=1,TRUE,FALSE))","v":""}]
[null,{"$f":"IF(ISBLANK(SRDB4[[#This Row],[SR-Nr]]),\"\",_xlfn.XLOOKUP(SRDB4[[#This Row],[SR-Nr]],SRDB[SR-Nr.],SRDB[Vorname],\"NA\",0))","v":""},{"$f":"IF(ISBLANK(SRDB4[[#This Row],[SR-Nr]]),\"\",_xlfn.XLOOKUP(SRDB4[[#This Row],[SR-Nr]],SRDB[SR-Nr.],SRDB[Name],\"NA\",0))","v":""},{"$f":"IF(ISBLANK(SRDB4[[#This Row],[SR-Nr]]),\"\",IF(COUNTIF(Registration!$A$7:$A$204,SRDB4[[#This Row],[SR-Nr]])=1,TRUE,FALSE))","v":""}]
[null,{"$f":"IF(ISBLANK(SRDB4[[#This Row],[SR-Nr]]),\"\",_xlfn.XLOOKUP(SRDB4[[#This Row],[SR-Nr]],SRDB[SR-Nr.],SRDB[Vorname],\"NA\",0))","v":""},{"$f":"IF(ISBLANK(SRDB4[[#This Row],[SR-Nr]]),\"\",_xlfn.XLOOKUP(SRDB4[[#This Row],[SR-Nr]],SRDB[SR-Nr.],SRDB[Name],\"NA\",0))","v":""},{"$f":"IF(ISBLANK(SRDB4[[#This Row],[SR-Nr]]),\"\",IF(COUNTIF(Registration!$A$7:$A$204,SRDB4[[#This Row],[SR-Nr]])=1,TRUE,FALSE))","v":""}]
[null,{"$f":"IF(ISBLANK(SRDB4[[#This Row],[SR-Nr]]),\"\",_xlfn.XLOOKUP(SRDB4[[#This Row],[SR-Nr]],SRDB[SR-Nr.],SRDB[Vorname],\"NA\",0))","v":""},{"$f":"IF(ISBLANK(SRDB4[[#This Row],[SR-Nr]]),\"\",_xlfn.XLOOKUP(SRDB4[[#This Row],[SR-Nr]],SRDB[SR-Nr.],SRDB[Name],\"NA\",0))","v":""},{"$f":"IF(ISBLANK(SRDB4[[#This Row],[SR-Nr]]),\"\",IF(COUNTIF(Registration!$A$7:$A$204,SRDB4[[#This Row],[SR-Nr]])=1,TRUE,FALSE))","v":""}]
[null,{"$f":"IF(ISBLANK(SRDB4[[#This Row],[SR-Nr]]),\"\",_xlfn.XLOOKUP(SRDB4[[#This Row],[SR-Nr]],SRDB[SR-Nr.],SRDB[Vorname],\"NA\",0))","v":""},{"$f":"IF(ISBLANK(SRDB4[[#This Row],[SR-Nr]]),\"\",_xlfn.XLOOKUP(SRDB4[[#This Row],[SR-Nr]],SRDB[SR-Nr.],SRDB[Name],\"NA\",0))","v":""},{"$f":"IF(ISBLANK(SRDB4[[#This Row],[SR-Nr]]),\"\",IF(COUNTIF(Registration!$A$7:$A$204,SRDB4[[#This Row],[SR-Nr]])=1,TRUE,FALSE))","v":""}]
[null,{"$f":"IF(ISBLANK(SRDB4[[#This Row],[SR-Nr]]),\"\",_xlfn.XLOOKUP(SRDB4[[#This Row],[SR-Nr]],SRDB[SR-Nr.],SRDB[Vorname],\"NA\",0))","v":""},{"$f":"IF(ISBLANK(SRDB4[[#This Row],[SR-Nr]]),\"\",_xlfn.XLOOKUP(SRDB4[[#This Row],[SR-Nr]],SRDB[SR-Nr.],SRDB[Name],\"NA\",0))","v":""},{"$f":"IF(ISBLANK(SRDB4[[#This Row],[SR-Nr]]),\"\",IF(COUNTIF(Registration!$A$7:$A$204,SRDB4[[#This Row],[SR-Nr]])=1,TRUE,FALSE))","v":""}]
[null,{"$f":"IF(ISBLANK(SRDB4[[#This Row],[SR-Nr]]),\"\",_xlfn.XLOOKUP(SRDB4[[#This Row],[SR-Nr]],SRDB[SR-Nr.],SRDB[Vorname],\"NA\",0))","v":""},{"$f":"IF(ISBLANK(SRDB4[[#This Row],[SR-Nr]]),\"\",_xlfn.XLOOKUP(SRDB4[[#This Row],[SR-Nr]],SRDB[SR-Nr.],SRDB[Name],\"NA\",0))","v":""},{"$f":"IF(ISBLANK(SRDB4[[#This Row],[SR-Nr]]),\"\",IF(COUNTIF(Registration!$A$7:$A$204,SRDB4[[#This Row],[SR-Nr]])=1,TRUE,FALSE))","v":""}]
[null,{"$f":"IF(ISBLANK(SRDB4[[#This Row],[SR-Nr]]),\"\",_xlfn.XLOOKUP(SRDB4[[#This Row],[SR-Nr]],SRDB[SR-Nr.],SRDB[Vorname],\"NA\",0))","v":""},{"$f":"IF(ISBLANK(SRDB4[[#This Row],[SR-Nr]]),\"\",_xlfn.XLOOKUP(SRDB4[[#This Row],[SR-Nr]],SRDB[SR-Nr.],SRDB[Name],\"NA\",0))","v":""},{"$f":"IF(ISBLANK(SRDB4[[#This Row],[SR-Nr]]),\"\",IF(COUNTIF(Registration!$A$7:$A$204,SRDB4[[#This Row],[SR-Nr]])=1,TRUE,FALSE))","v":""}]
[null,{"$f":"IF(ISBLANK(SRDB4[[#This Row],[SR-Nr]]),\"\",_xlfn.XLOOKUP(SRDB4[[#This Row],[SR-Nr]],SRDB[SR-Nr.],SRDB[Vorname],\"NA\",0))","v":""},{"$f":"IF(ISBLANK(SRDB4[[#This Row],[SR-Nr]]),\"\",_xlfn.XLOOKUP(SRDB4[[#This Row],[SR-Nr]],SRDB[SR-Nr.],SRDB[Name],\"NA\",0))","v":""},{"$f":"IF(ISBLANK(SRDB4[[#This Row],[SR-Nr]]),\"\",IF(COUNTIF(Registration!$A$7:$A$204,SRDB4[[#This Row],[SR-Nr]])=1,TRUE,FALSE))","v":""}]
[null,{"$f":"IF(ISBLANK(SRDB4[[#This Row],[SR-Nr]]),\"\",_xlfn.XLOOKUP(SRDB4[[#This Row],[SR-Nr]],SRDB[SR-Nr.],SRDB[Vorname],\"NA\",0))","v":""},{"$f":"IF(ISBLANK(SRDB4[[#This Row],[SR-Nr]]),\"\",_xlfn.XLOOKUP(SRDB4[[#This Row],[SR-Nr]],SRDB[SR-Nr.],SRDB[Name],\"NA\",0))","v":""},{"$f":"IF(ISBLANK(SRDB4[[#This Row],[SR-Nr]]),\"\",IF(COUNTIF(Registration!$A$7:$A$204,SRDB4[[#This Row],[SR-Nr]])=1,TRUE,FALSE))","v":""}]
[null,{"$f":"IF(ISBLANK(SRDB4[[#This Row],[SR-Nr]]),\"\",_xlfn.XLOOKUP(SRDB4[[#This Row],[SR-Nr]],SRDB[SR-Nr.],SRDB[Vorname],\"NA\",0))","v":""},{"$f":"IF(ISBLANK(SRDB4[[#This Row],[SR-Nr]]),\"\",_xlfn.XLOOKUP(SRDB4[[#This Row],[SR-Nr]],SRDB[SR-Nr.],SRDB[Name],\"NA\",0))","v":""},{"$f":"IF(ISBLANK(SRDB4[[#This Row],[SR-Nr]]),\"\",IF(COUNTIF(Registration!$A$7:$A$204,SRDB4[[#This Row],[SR-Nr]])=1,TRUE,FALSE))","v":""}]
[null,{"$f":"IF(ISBLANK(SRDB4[[#This Row],[SR-Nr]]),\"\",_xlfn.XLOOKUP(SRDB4[[#This Row],[SR-Nr]],SRDB[SR-Nr.],SRDB[Vorname],\"NA\",0))","v":""},{"$f":"IF(ISBLANK(SRDB4[[#This Row],[SR-Nr]]),\"\",_xlfn.XLOOKUP(SRDB4[[#This Row],[SR-Nr]],SRDB[SR-Nr.],SRDB[Name],\"NA\",0))","v":""},{"$f":"IF(ISBLANK(SRDB4[[#This Row],[SR-Nr]]),\"\",IF(COUNTIF(Registration!$A$7:$A$204,SRDB4[[#This Row],[SR-Nr]])=1,TRUE,FALSE))","v":""}]
[null,{"$f":"IF(ISBLANK(SRDB4[[#This Row],[SR-Nr]]),\"\",_xlfn.XLOOKUP(SRDB4[[#This Row],[SR-Nr]],SRDB[SR-Nr.],SRDB[Vorname],\"NA\",0))","v":""},{"$f":"IF(ISBLANK(SRDB4[[#This Row],[SR-Nr]]),\"\",_xlfn.XLOOKUP(SRDB4[[#This Row],[SR-Nr]],SRDB[SR-Nr.],SRDB[Name],\"NA\",0))","v":""},{"$f":"IF(ISBLANK(SRDB4[[#This Row],[SR-Nr]]),\"\",IF(COUNTIF(Registration!$A$7:$A$204,SRDB4[[#This Row],[SR-Nr]])=1,TRUE,FALSE))","v":""}]
[null,{"$f":"IF(ISBLANK(SRDB4[[#This Row],[SR-Nr]]),\"\",_xlfn.XLOOKUP(SRDB4[[#This Row],[SR-Nr]],SRDB[SR-Nr.],SRDB[Vorname],\"NA\",0))","v":""},{"$f":"IF(ISBLANK(SRDB4[[#This Row],[SR-Nr]]),\"\",_xlfn.XLOOKUP(SRDB4[[#This Row],[SR-Nr]],SRDB[SR-Nr.],SRDB[Name],\"NA\",0))","v":""},{"$f":"IF(ISBLANK(SRDB4[[#This Row],[SR-Nr]]),\"\",IF(COUNTIF(Registration!$A$7:$A$204,SRDB4[[#This Row],[SR-Nr]])=1,TRUE,FALSE))","v":""}]
[null,{"$f":"IF(ISBLANK(SRDB4[[#This Row],[SR-Nr]]),\"\",_xlfn.XLOOKUP(SRDB4[[#This Row],[SR-Nr]],SRDB[SR-Nr.],SRDB[Vorname],\"NA\",0))","v":""},{"$f":"IF(ISBLANK(SRDB4[[#This Row],[SR-Nr]]),\"\",_xlfn.XLOOKUP(SRDB4[[#This Row],[SR-Nr]],SRDB[SR-Nr.],SRDB[Name],\"NA\",0))","v":""},{"$f":"IF(ISBLANK(SRDB4[[#This Row],[SR-Nr]]),\"\",IF(COUNTIF(Registration!$A$7:$A$204,SRDB4[[#This Row],[SR-Nr]])=1,TRUE,FALSE))","v":""}]
[null,{"$f":"IF(ISBLANK(SRDB4[[#This Row],[SR-Nr]]),\"\",_xlfn.XLOOKUP(SRDB4[[#This Row],[SR-Nr]],SRDB[SR-Nr.],SRDB[Vorname],\"NA\",0))","v":""},{"$f":"IF(ISBLANK(SRDB4[[#This Row],[SR-Nr]]),\"\",_xlfn.XLOOKUP(SRDB4[[#This Row],[SR-Nr]],SRDB[SR-Nr.],SRDB[Name],\"NA\",0))","v":""},{"$f":"IF(ISBLANK(SRDB4[[#This Row],[SR-Nr]]),\"\",IF(COUNTIF(Registration!$A$7:$A$204,SRDB4[[#This Row],[SR-Nr]])=1,TRUE,FALSE))","v":""}]
[null,{"$f":"IF(ISBLANK(SRDB4[[#This Row],[SR-Nr]]),\"\",_xlfn.XLOOKUP(SRDB4[[#This Row],[SR-Nr]],SRDB[SR-Nr.],SRDB[Vorname],\"NA\",0))","v":""},{"$f":"IF(ISBLANK(SRDB4[[#This Row],[SR-Nr]]),\"\",_xlfn.XLOOKUP(SRDB4[[#This Row],[SR-Nr]],SRDB[SR-Nr.],SRDB[Name],\"NA\",0))","v":""},{"$f":"IF(ISBLANK(SRDB4[[#This Row],[SR-Nr]]),\"\",IF(COUNTIF(Registration!$A$7:$A$204,SRDB4[[#This Row],[SR-Nr]])=1,TRUE,FALSE))","v":""}]
[null,{"$f":"IF(ISBLANK(SRDB4[[#This Row],[SR-Nr]]),\"\",_xlfn.XLOOKUP(SRDB4[[#This Row],[SR-Nr]],SRDB[SR-Nr.],SRDB[Vorname],\"NA\",0))","v":""},{"$f":"IF(ISBLANK(SRDB4[[#This Row],[SR-Nr]]),\"\",_xlfn.XLOOKUP(SRDB4[[#This Row],[SR-Nr]],SRDB[SR-Nr.],SRDB[Name],\"NA\",0))","v":""},{"$f":"IF(ISBLANK(SRDB4[[#This Row],[SR-Nr]]),\"\",IF(COUNTIF(Registration!$A$7:$A$204,SRDB4[[#This Row],[SR-Nr]])=1,TRUE,FALSE))","v":""}]
[null,{"$f":"IF(ISBLANK(SRDB4[[#This Row],[SR-Nr]]),\"\",_xlfn.XLOOKUP(SRDB4[[#This Row],[SR-Nr]],SRDB[SR-Nr.],SRDB[Vorname],\"NA\",0))","v":""},{"$f":"IF(ISBLANK(SRDB4[[#This Row],[SR-Nr]]),\"\",_xlfn.XLOOKUP(SRDB4[[#This Row],[SR-Nr]],SRDB[SR-Nr.],SRDB[Name],\"NA\",0))","v":""},{"$f":"IF(ISBLANK(SRDB4[[#This Row],[SR-Nr]]),\"\",IF(COUNTIF(Registration!$A$7:$A$204,SRDB4[[#This Row],[SR-Nr]])=1,TRUE,FALSE))","v":""}]
[null,{"$f":"IF(ISBLANK(SRDB4[[#This Row],[SR-Nr]]),\"\",_xlfn.XLOOKUP(SRDB4[[#This Row],[SR-Nr]],SRDB[SR-Nr.],SRDB[Vorname],\"NA\",0))","v":""},{"$f":"IF(ISBLANK(SRDB4[[#This Row],[SR-Nr]]),\"\",_xlfn.XLOOKUP(SRDB4[[#This Row],[SR-Nr]],SRDB[SR-Nr.],SRDB[Name],\"NA\",0))","v":""},{"$f":"IF(ISBLANK(SRDB4[[#This Row],[SR-Nr]]),\"\",IF(COUNTIF(Registration!$A$7:$A$204,SRDB4[[#This Row],[SR-Nr]])=1,TRUE,FALSE))","v":""}]
[null,{"$f":"IF(ISBLANK(SRDB4[[#This Row],[SR-Nr]]),\"\",_xlfn.XLOOKUP(SRDB4[[#This Row],[SR-Nr]],SRDB[SR-Nr.],SRDB[Vorname],\"NA\",0))","v":""},{"$f":"IF(ISBLANK(SRDB4[[#This Row],[SR-Nr]]),\"\",_xlfn.XLOOKUP(SRDB4[[#This Row],[SR-Nr]],SRDB[SR-Nr.],SRDB[Name],\"NA\",0))","v":""},{"$f":"IF(ISBLANK(SRDB4[[#This Row],[SR-Nr]]),\"\",IF(COUNTIF(Registration!$A$7:$A$204,SRDB4[[#This Row],[SR-Nr]])=1,TRUE,FALSE))","v":""}]
[null,{"$f":"IF(ISBLANK(SRDB4[[#This Row],[SR-Nr]]),\"\",_xlfn.XLOOKUP(SRDB4[[#This Row],[SR-Nr]],SRDB[SR-Nr.],SRDB[Vorname],\"NA\",0))","v":""},{"$f":"IF(ISBLANK(SRDB4[[#This Row],[SR-Nr]]),\"\",_xlfn.XLOOKUP(SRDB4[[#This Row],[SR-Nr]],SRDB[SR-Nr.],SRDB[Name],\"NA\",0))","v":""},{"$f":"IF(ISBLANK(SRDB4[[#This Row],[SR-Nr]]),\"\",IF(COUNTIF(Registration!$A$7:$A$204,SRDB4[[#This Row],[SR-Nr]])=1,TRUE,FALSE))","v":""}]
[null,{"$f":"IF(ISBLANK(SRDB4[[#This Row],[SR-Nr]]),\"\",_xlfn.XLOOKUP(SRDB4[[#This Row],[SR-Nr]],SRDB[SR-Nr.],SRDB[Vorname],\"NA\",0))","v":""},{"$f":"IF(ISBLANK(SRDB4[[#This Row],[SR-Nr]]),\"\",_xlfn.XLOOKUP(SRDB4[[#This Row],[SR-Nr]],SRDB[SR-Nr.],SRDB[Name],\"NA\",0))","v":""},{"$f":"IF(ISBLANK(SRDB4[[#This Row],[SR-Nr]]),\"\",IF(COUNTIF(Registration!$A$7:$A$204,SRDB4[[#This Row],[SR-Nr]])=1,TRUE,FALSE))","v":""}]
[null,{"$f":"IF(ISBLANK(SRDB4[[#This Row],[SR-Nr]]),\"\",_xlfn.XLOOKUP(SRDB4[[#This Row],[SR-Nr]],SRDB[SR-Nr.],SRDB[Vorname],\"NA\",0))","v":""},{"$f":"IF(ISBLANK(SRDB4[[#This Row],[SR-Nr]]),\"\",_xlfn.XLOOKUP(SRDB4[[#This Row],[SR-Nr]],SRDB[SR-Nr.],SRDB[Name],\"NA\",0))","v":""},{"$f":"IF(ISBLANK(SRDB4[[#This Row],[SR-Nr]]),\"\",IF(COUNTIF(Registration!$A$7:$A$204,SRDB4[[#This Row],[SR-Nr]])=1,TRUE,FALSE))","v":""}]
[null,{"$f":"IF(ISBLANK(SRDB4[[#This Row],[SR-Nr]]),\"\",_xlfn.XLOOKUP(SRDB4[[#This Row],[SR-Nr]],SRDB[SR-Nr.],SRDB[Vorname],\"NA\",0))","v":""},{"$f":"IF(ISBLANK(SRDB4[[#This Row],[SR-Nr]]),\"\",_xlfn.XLOOKUP(SRDB4[[#This Row],[SR-Nr]],SRDB[SR-Nr.],SRDB[Name],\"NA\",0))","v":""},{"$f":"IF(ISBLANK(SRDB4[[#This Row],[SR-Nr]]),\"\",IF(COUNTIF(Registration!$A$7:$A$204,SRDB4[[#This Row],[SR-Nr]])=1,TRUE,FALSE))","v":""}]
[null,{"$f":"IF(ISBLANK(SRDB4[[#This Row],[SR-Nr]]),\"\",_xlfn.XLOOKUP(SRDB4[[#This Row],[SR-Nr]],SRDB[SR-Nr.],SRDB[Vorname],\"NA\",0))","v":""},{"$f":"IF(ISBLANK(SRDB4[[#This Row],[SR-Nr]]),\"\",_xlfn.XLOOKUP(SRDB4[[#This Row],[SR-Nr]],SRDB[SR-Nr.],SRDB[Name],\"NA\",0))","v":""},{"$f":"IF(ISBLANK(SRDB4[[#This Row],[SR-Nr]]),\"\",IF(COUNTIF(Registration!$A$7:$A$204,SRDB4[[#This Row],[SR-Nr]])=1,TRUE,FALSE))","v":""}]
[null,{"$f":"IF(ISBLANK(SRDB4[[#This Row],[SR-Nr]]),\"\",_xlfn.XLOOKUP(SRDB4[[#This Row],[SR-Nr]],SRDB[SR-Nr.],SRDB[Vorname],\"NA\",0))","v":""},{"$f":"IF(ISBLANK(SRDB4[[#This Row],[SR-Nr]]),\"\",_xlfn.XLOOKUP(SRDB4[[#This Row],[SR-Nr]],SRDB[SR-Nr.],SRDB[Name],\"NA\",0))","v":""},{"$f":"IF(ISBLANK(SRDB4[[#This Row],[SR-Nr]]),\"\",IF(COUNTIF(Registration!$A$7:$A$204,SRDB4[[#This Row],[SR-Nr]])=1,TRUE,FALSE))","v":""}]
[null,{"$f":"IF(ISBLANK(SRDB4[[#This Row],[SR-Nr]]),\"\",_xlfn.XLOOKUP(SRDB4[[#This Row],[SR-Nr]],SRDB[SR-Nr.],SRDB[Vorname],\"NA\",0))","v":""},{"$f":"IF(ISBLANK(SRDB4[[#This Row],[SR-Nr]]),\"\",_xlfn.XLOOKUP(SRDB4[[#This Row],[SR-Nr]],SRDB[SR-Nr.],SRDB[Name],\"NA\",0))","v":""},{"$f":"IF(ISBLANK(SRDB4[[#This Row],[SR-Nr]]),\"\",IF(COUNTIF(Registration!$A$7:$A$204,SRDB4[[#This Row],[SR-Nr]])=1,TRUE,FALSE))","v":""}]
[null,{"$f":"IF(ISBLANK(SRDB4[[#This Row],[SR-Nr]]),\"\",_xlfn.XLOOKUP(SRDB4[[#This Row],[SR-Nr]],SRDB[SR-Nr.],SRDB[Vorname],\"NA\",0))","v":""},{"$f":"IF(ISBLANK(SRDB4[[#This Row],[SR-Nr]]),\"\",_xlfn.XLOOKUP(SRDB4[[#This Row],[SR-Nr]],SRDB[SR-Nr.],SRDB[Name],\"NA\",0))","v":""},{"$f":"IF(ISBLANK(SRDB4[[#This Row],[SR-Nr]]),\"\",IF(COUNTIF(Registration!$A$7:$A$204,SRDB4[[#This Row],[SR-Nr]])=1,TRUE,FALSE))","v":""}]
[null,{"$f":"IF(ISBLANK(SRDB4[[#This Row],[SR-Nr]]),\"\",_xlfn.XLOOKUP(SRDB4[[#This Row],[SR-Nr]],SRDB[SR-Nr.],SRDB[Vorname],\"NA\",0))","v":""},{"$f":"IF(ISBLANK(SRDB4[[#This Row],[SR-Nr]]),\"\",_xlfn.XLOOKUP(SRDB4[[#This Row],[SR-Nr]],SRDB[SR-Nr.],SRDB[Name],\"NA\",0))","v":""},{"$f":"IF(ISBLANK(SRDB4[[#This Row],[SR-Nr]]),\"\",IF(COUNTIF(Registration!$A$7:$A$204,SRDB4[[#This Row],[SR-Nr]])=1,TRUE,FALSE))","v":""}]
[null,{"$f":"IF(ISBLANK(SRDB4[[#This Row],[SR-Nr]]),\"\",_xlfn.XLOOKUP(SRDB4[[#This Row],[SR-Nr]],SRDB[SR-Nr.],SRDB[Vorname],\"NA\",0))","v":""},{"$f":"IF(ISBLANK(SRDB4[[#This Row],[SR-Nr]]),\"\",_xlfn.XLOOKUP(SRDB4[[#This Row],[SR-Nr]],SRDB[SR-Nr.],SRDB[Name],\"NA\",0))","v":""},{"$f":"IF(ISBLANK(SRDB4[[#This Row],[SR-Nr]]),\"\",IF(COUNTIF(Registration!$A$7:$A$204,SRDB4[[#This Row],[SR-Nr]])=1,TRUE,FALSE))","v":""}]
[null,{"$f":"IF(ISBLANK(SRDB4[[#This Row],[SR-Nr]]),\"\",_xlfn.XLOOKUP(SRDB4[[#This Row],[SR-Nr]],SRDB[SR-Nr.],SRDB[Vorname],\"NA\",0))","v":""},{"$f":"IF(ISBLANK(SRDB4[[#This Row],[SR-Nr]]),\"\",_xlfn.XLOOKUP(SRDB4[[#This Row],[SR-Nr]],SRDB[SR-Nr.],SRDB[Name],\"NA\",0))","v":""},{"$f":"IF(ISBLANK(SRDB4[[#This Row],[SR-Nr]]),\"\",IF(COUNTIF(Registration!$A$7:$A$204,SRDB4[[#This Row],[SR-Nr]])=1,TRUE,FALSE))","v":""}]
[null,{"$f":"IF(ISBLANK(SRDB4[[#This Row],[SR-Nr]]),\"\",_xlfn.XLOOKUP(SRDB4[[#This Row],[SR-Nr]],SRDB[SR-Nr.],SRDB[Vorname],\"NA\",0))","v":""},{"$f":"IF(ISBLANK(SRDB4[[#This Row],[SR-Nr]]),\"\",_xlfn.XLOOKUP(SRDB4[[#This Row],[SR-Nr]],SRDB[SR-Nr.],SRDB[Name],\"NA\",0))","v":""},{"$f":"IF(ISBLANK(SRDB4[[#This Row],[SR-Nr]]),\"\",IF(COUNTIF(Registration!$A$7:$A$204,SRDB4[[#This Row],[SR-Nr]])=1,TRUE,FALSE))","v":""}]
[null,{"$f":"IF(ISBLANK(SRDB4[[#This Row],[SR-Nr]]),\"\",_xlfn.XLOOKUP(SRDB4[[#This Row],[SR-Nr]],SRDB[SR-Nr.],SRDB[Vorname],\"NA\",0))","v":""},{"$f":"IF(ISBLANK(SRDB4[[#This Row],[SR-Nr]]),\"\",_xlfn.XLOOKUP(SRDB4[[#This Row],[SR-Nr]],SRDB[SR-Nr.],SRDB[Name],\"NA\",0))","v":""},{"$f":"IF(ISBLANK(SRDB4[[#This Row],[SR-Nr]]),\"\",IF(COUNTIF(Registration!$A$7:$A$204,SRDB4[[#This Row],[SR-Nr]])=1,TRUE,FALSE))","v":""}]
[null,{"$f":"IF(ISBLANK(SRDB4[[#This Row],[SR-Nr]]),\"\",_xlfn.XLOOKUP(SRDB4[[#This Row],[SR-Nr]],SRDB[SR-Nr.],SRDB[Vorname],\"NA\",0))","v":""},{"$f":"IF(ISBLANK(SRDB4[[#This Row],[SR-Nr]]),\"\",_xlfn.XLOOKUP(SRDB4[[#This Row],[SR-Nr]],SRDB[SR-Nr.],SRDB[Name],\"NA\",0))","v":""},{"$f":"IF(ISBLANK(SRDB4[[#This Row],[SR-Nr]]),\"\",IF(COUNTIF(Registration!$A$7:$A$204,SRDB4[[#This Row],[SR-Nr]])=1,TRUE,FALSE))","v":""}]
[null,{"$f":"IF(ISBLANK(SRDB4[[#This Row],[SR-Nr]]),\"\",_xlfn.XLOOKUP(SRDB4[[#This Row],[SR-Nr]],SRDB[SR-Nr.],SRDB[Vorname],\"NA\",0))","v":""},{"$f":"IF(ISBLANK(SRDB4[[#This Row],[SR-Nr]]),\"\",_xlfn.XLOOKUP(SRDB4[[#This Row],[SR-Nr]],SRDB[SR-Nr.],SRDB[Name],\"NA\",0))","v":""},{"$f":"IF(ISBLANK(SRDB4[[#This Row],[SR-Nr]]),\"\",IF(COUNTIF(Registration!$A$7:$A$204,SRDB4[[#This Row],[SR-Nr]])=1,TRUE,FALSE))","v":""}]
[null,{"$f":"IF(ISBLANK(SRDB4[[#This Row],[SR-Nr]]),\"\",_xlfn.XLOOKUP(SRDB4[[#This Row],[SR-Nr]],SRDB[SR-Nr.],SRDB[Vorname],\"NA\",0))","v":""},{"$f":"IF(ISBLANK(SRDB4[[#This Row],[SR-Nr]]),\"\",_xlfn.XLOOKUP(SRDB4[[#This Row],[SR-Nr]],SRDB[SR-Nr.],SRDB[Name],\"NA\",0))","v":""},{"$f":"IF(ISBLANK(SRDB4[[#This Row],[SR-Nr]]),\"\",IF(COUNTIF(Registration!$A$7:$A$204,SRDB4[[#This Row],[SR-Nr]])=1,TRUE,FALSE))","v":""}]
[null,{"$f":"IF(ISBLANK(SRDB4[[#This Row],[SR-Nr]]),\"\",_xlfn.XLOOKUP(SRDB4[[#This Row],[SR-Nr]],SRDB[SR-Nr.],SRDB[Vorname],\"NA\",0))","v":""},{"$f":"IF(ISBLANK(SRDB4[[#This Row],[SR-Nr]]),\"\",_xlfn.XLOOKUP(SRDB4[[#This Row],[SR-Nr]],SRDB[SR-Nr.],SRDB[Name],\"NA\",0))","v":""},{"$f":"IF(ISBLANK(SRDB4[[#This Row],[SR-Nr]]),\"\",IF(COUNTIF(Registration!$A$7:$A$204,SRDB4[[#This Row],[SR-Nr]])=1,TRUE,FALSE))","v":""}]
[null,{"$f":"IF(ISBLANK(SRDB4[[#This Row],[SR-Nr]]),\"\",_xlfn.XLOOKUP(SRDB4[[#This Row],[SR-Nr]],SRDB[SR-Nr.],SRDB[Vorname],\"NA\",0))","v":""},{"$f":"IF(ISBLANK(SRDB4[[#This Row],[SR-Nr]]),\"\",_xlfn.XLOOKUP(SRDB4[[#This Row],[SR-Nr]],SRDB[SR-Nr.],SRDB[Name],\"NA\",0))","v":""},{"$f":"IF(ISBLANK(SRDB4[[#This Row],[SR-Nr]]),\"\",IF(COUNTIF(Registration!$A$7:$A$204,SRDB4[[#This Row],[SR-Nr]])=1,TRUE,FALSE))","v":""}]
[null,{"$f":"IF(ISBLANK(SRDB4[[#This Row],[SR-Nr]]),\"\",_xlfn.XLOOKUP(SRDB4[[#This Row],[SR-Nr]],SRDB[SR-Nr.],SRDB[Vorname],\"NA\",0))","v":""},{"$f":"IF(ISBLANK(SRDB4[[#This Row],[SR-Nr]]),\"\",_xlfn.XLOOKUP(SRDB4[[#This Row],[SR-Nr]],SRDB[SR-Nr.],SRDB[Name],\"NA\",0))","v":""},{"$f":"IF(ISBLANK(SRDB4[[#This Row],[SR-Nr]]),\"\",IF(COUNTIF(Registration!$A$7:$A$204,SRDB4[[#This Row],[SR-Nr]])=1,TRUE,FALSE))","v":""}]
[null,{"$f":"IF(ISBLANK(SRDB4[[#This Row],[SR-Nr]]),\"\",_xlfn.XLOOKUP(SRDB4[[#This Row],[SR-Nr]],SRDB[SR-Nr.],SRDB[Vorname],\"NA\",0))","v":""},{"$f":"IF(ISBLANK(SRDB4[[#This Row],[SR-Nr]]),\"\",_xlfn.XLOOKUP(SRDB4[[#This Row],[SR-Nr]],SRDB[SR-Nr.],SRDB[Name],\"NA\",0))","v":""},{"$f":"IF(ISBLANK(SRDB4[[#This Row],[SR-Nr]]),\"\",IF(COUNTIF(Registration!$A$7:$A$204,SRDB4[[#This Row],[SR-Nr]])=1,TRUE,FALSE))","v":""}]
[null,{"$f":"IF(ISBLANK(SRDB4[[#This Row],[SR-Nr]]),\"\",_xlfn.XLOOKUP(SRDB4[[#This Row],[SR-Nr]],SRDB[SR-Nr.],SRDB[Vorname],\"NA\",0))","v":""},{"$f":"IF(ISBLANK(SRDB4[[#This Row],[SR-Nr]]),\"\",_xlfn.XLOOKUP(SRDB4[[#This Row],[SR-Nr]],SRDB[SR-Nr.],SRDB[Name],\"NA\",0))","v":""},{"$f":"IF(ISBLANK(SRDB4[[#This Row],[SR-Nr]]),\"\",IF(COUNTIF(Registration!$A$7:$A$204,SRDB4[[#This Row],[SR-Nr]])=1,TRUE,FALSE))","v":""}]
[null,{"$f":"IF(ISBLANK(SRDB4[[#This Row],[SR-Nr]]),\"\",_xlfn.XLOOKUP(SRDB4[[#This Row],[SR-Nr]],SRDB[SR-Nr.],SRDB[Vorname],\"NA\",0))","v":""},{"$f":"IF(ISBLANK(SRDB4[[#This Row],[SR-Nr]]),\"\",_xlfn.XLOOKUP(SRDB4[[#This Row],[SR-Nr]],SRDB[SR-Nr.],SRDB[Name],\"NA\",0))","v":""},{"$f":"IF(ISBLANK(SRDB4[[#This Row],[SR-Nr]]),\"\",IF(COUNTIF(Registration!$A$7:$A$204,SRDB4[[#This Row],[SR-Nr]])=1,TRUE,FALSE))","v":""}]
[null,{"$f":"IF(ISBLANK(SRDB4[[#This Row],[SR-Nr]]),\"\",_xlfn.XLOOKUP(SRDB4[[#This Row],[SR-Nr]],SRDB[SR-Nr.],SRDB[Vorname],\"NA\",0))","v":""},{"$f":"IF(ISBLANK(SRDB4[[#This Row],[SR-Nr]]),\"\",_xlfn.XLOOKUP(SRDB4[[#This Row],[SR-Nr]],SRDB[SR-Nr.],SRDB[Name],\"NA\",0))","v":""},{"$f":"IF(ISBLANK(SRDB4[[#This Row],[SR-Nr]]),\"\",IF(COUNTIF(Registration!$A$7:$A$204,SRDB4[[#This Row],[SR-Nr]])=1,TRUE,FALSE))","v":""}]
[null,{"$f":"IF(ISBLANK(SRDB4[[#This Row],[SR-Nr]]),\"\",_xlfn.XLOOKUP(SRDB4[[#This Row],[SR-Nr]],SRDB[SR-Nr.],SRDB[Vorname],\"NA\",0))","v":""},{"$f":"IF(ISBLANK(SRDB4[[#This Row],[SR-Nr]]),\"\",_xlfn.XLOOKUP(SRDB4[[#This Row],[SR-Nr]],SRDB[SR-Nr.],SRDB[Name],\"NA\",0))","v":""},{"$f":"IF(ISBLANK(SRDB4[[#This Row],[SR-Nr]]),\"\",IF(COUNTIF(Registration!$A$7:$A$204,SRDB4[[#This Row],[SR-Nr]])=1,TRUE,FALSE))","v":""}]
[null,{"$f":"IF(ISBLANK(SRDB4[[#This Row],[SR-Nr]]),\"\",_xlfn.XLOOKUP(SRDB4[[#This Row],[SR-Nr]],SRDB[SR-Nr.],SRDB[Vorname],\"NA\",0))","v":""},{"$f":"IF(ISBLANK(SRDB4[[#This Row],[SR-Nr]]),\"\",_xlfn.XLOOKUP(SRDB4[[#This Row],[SR-Nr]],SRDB[SR-Nr.],SRDB[Name],\"NA\",0))","v":""},{"$f":"IF(ISBLANK(SRDB4[[#This Row],[SR-Nr]]),\"\",IF(COUNTIF(Registration!$A$7:$A$204,SRDB4[[#This Row],[SR-Nr]])=1,TRUE,FALSE))","v":""}]
[null,{"$f":"IF(ISBLANK(SRDB4[[#This Row],[SR-Nr]]),\"\",_xlfn.XLOOKUP(SRDB4[[#This Row],[SR-Nr]],SRDB[SR-Nr.],SRDB[Vorname],\"NA\",0))","v":""},{"$f":"IF(ISBLANK(SRDB4[[#This Row],[SR-Nr]]),\"\",_xlfn.XLOOKUP(SRDB4[[#This Row],[SR-Nr]],SRDB[SR-Nr.],SRDB[Name],\"NA\",0))","v":""},{"$f":"IF(ISBLANK(SRDB4[[#This Row],[SR-Nr]]),\"\",IF(COUNTIF(Registration!$A$7:$A$204,SRDB4[[#This Row],[SR-Nr]])=1,TRUE,FALSE))","v":""}]
[null,{"$f":"IF(ISBLANK(SRDB4[[#This Row],[SR-Nr]]),\"\",_xlfn.XLOOKUP(SRDB4[[#This Row],[SR-Nr]],SRDB[SR-Nr.],SRDB[Vorname],\"NA\",0))","v":""},{"$f":"IF(ISBLANK(SRDB4[[#This Row],[SR-Nr]]),\"\",_xlfn.XLOOKUP(SRDB4[[#This Row],[SR-Nr]],SRDB[SR-Nr.],SRDB[Name],\"NA\",0))","v":""},{"$f":"IF(ISBLANK(SRDB4[[#This Row],[SR-Nr]]),\"\",IF(COUNTIF(Registration!$A$7:$A$204,SRDB4[[#This Row],[SR-Nr]])=1,TRUE,FALSE))","v":""}]
[null,{"$f":"IF(ISBLANK(SRDB4[[#This Row],[SR-Nr]]),\"\",_xlfn.XLOOKUP(SRDB4[[#This Row],[SR-Nr]],SRDB[SR-Nr.],SRDB[Vorname],\"NA\",0))","v":""},{"$f":"IF(ISBLANK(SRDB4[[#This Row],[SR-Nr]]),\"\",_xlfn.XLOOKUP(SRDB4[[#This Row],[SR-Nr]],SRDB[SR-Nr.],SRDB[Name],\"NA\",0))","v":""},{"$f":"IF(ISBLANK(SRDB4[[#This Row],[SR-Nr]]),\"\",IF(COUNTIF(Registration!$A$7:$A$204,SRDB4[[#This Row],[SR-Nr]])=1,TRUE,FALSE))","v":""}]
[null,{"$f":"IF(ISBLANK(SRDB4[[#This Row],[SR-Nr]]),\"\",_xlfn.XLOOKUP(SRDB4[[#This Row],[SR-Nr]],SRDB[SR-Nr.],SRDB[Vorname],\"NA\",0))","v":""},{"$f":"IF(ISBLANK(SRDB4[[#This Row],[SR-Nr]]),\"\",_xlfn.XLOOKUP(SRDB4[[#This Row],[SR-Nr]],SRDB[SR-Nr.],SRDB[Name],\"NA\",0))","v":""},{"$f":"IF(ISBLANK(SRDB4[[#This Row],[SR-Nr]]),\"\",IF(COUNTIF(Registration!$A$7:$A$204,SRDB4[[#This Row],[SR-Nr]])=1,TRUE,FALSE))","v":""}]
[null,{"$f":"IF(ISBLANK(SRDB4[[#This Row],[SR-Nr]]),\"\",_xlfn.XLOOKUP(SRDB4[[#This Row],[SR-Nr]],SRDB[SR-Nr.],SRDB[Vorname],\"NA\",0))","v":""},{"$f":"IF(ISBLANK(SRDB4[[#This Row],[SR-Nr]]),\"\",_xlfn.XLOOKUP(SRDB4[[#This Row],[SR-Nr]],SRDB[SR-Nr.],SRDB[Name],\"NA\",0))","v":""},{"$f":"IF(ISBLANK(SRDB4[[#This Row],[SR-Nr]]),\"\",IF(COUNTIF(Registration!$A$7:$A$204,SRDB4[[#This Row],[SR-Nr]])=1,TRUE,FALSE))","v":""}]
[null,{"$f":"IF(ISBLANK(SRDB4[[#This Row],[SR-Nr]]),\"\",_xlfn.XLOOKUP(SRDB4[[#This Row],[SR-Nr]],SRDB[SR-Nr.],SRDB[Vorname],\"NA\",0))","v":""},{"$f":"IF(ISBLANK(SRDB4[[#This Row],[SR-Nr]]),\"\",_xlfn.XLOOKUP(SRDB4[[#This Row],[SR-Nr]],SRDB[SR-Nr.],SRDB[Name],\"NA\",0))","v":""},{"$f":"IF(ISBLANK(SRDB4[[#This Row],[SR-Nr]]),\"\",IF(COUNTIF(Registration!$A$7:$A$204,SRDB4[[#This Row],[SR-Nr]])=1,TRUE,FALSE))","v":""}]
[null,{"$f":"IF(ISBLANK(SRDB4[[#This Row],[SR-Nr]]),\"\",_xlfn.XLOOKUP(SRDB4[[#This Row],[SR-Nr]],SRDB[SR-Nr.],SRDB[Vorname],\"NA\",0))","v":""},{"$f":"IF(ISBLANK(SRDB4[[#This Row],[SR-Nr]]),\"\",_xlfn.XLOOKUP(SRDB4[[#This Row],[SR-Nr]],SRDB[SR-Nr.],SRDB[Name],\"NA\",0))","v":""},{"$f":"IF(ISBLANK(SRDB4[[#This Row],[SR-Nr]]),\"\",IF(COUNTIF(Registration!$A$7:$A$204,SRDB4[[#This Row],[SR-Nr]])=1,TRUE,FALSE))","v":""}]
[null,{"$f":"IF(ISBLANK(SRDB4[[#This Row],[SR-Nr]]),\"\",_xlfn.XLOOKUP(SRDB4[[#This Row],[SR-Nr]],SRDB[SR-Nr.],SRDB[Vorname],\"NA\",0))","v":""},{"$f":"IF(ISBLANK(SRDB4[[#This Row],[SR-Nr]]),\"\",_xlfn.XLOOKUP(SRDB4[[#This Row],[SR-Nr]],SRDB[SR-Nr.],SRDB[Name],\"NA\",0))","v":""},{"$f":"IF(ISBLANK(SRDB4[[#This Row],[SR-Nr]]),\"\",IF(COUNTIF(Registration!$A$7:$A$204,SRDB4[[#This Row],[SR-Nr]])=1,TRUE,FALSE))","v":""}]
[null,{"$f":"IF(ISBLANK(SRDB4[[#This Row],[SR-Nr]]),\"\",_xlfn.XLOOKUP(SRDB4[[#This Row],[SR-Nr]],SRDB[SR-Nr.],SRDB[Vorname],\"NA\",0))","v":""},{"$f":"IF(ISBLANK(SRDB4[[#This Row],[SR-Nr]]),\"\",_xlfn.XLOOKUP(SRDB4[[#This Row],[SR-Nr]],SRDB[SR-Nr.],SRDB[Name],\"NA\",0))","v":""},{"$f":"IF(ISBLANK(SRDB4[[#This Row],[SR-Nr]]),\"\",IF(COUNTIF(Registration!$A$7:$A$204,SRDB4[[#This Row],[SR-Nr]])=1,TRUE,FALSE))","v":""}]
[null,{"$f":"IF(ISBLANK(SRDB4[[#This Row],[SR-Nr]]),\"\",_xlfn.XLOOKUP(SRDB4[[#This Row],[SR-Nr]],SRDB[SR-Nr.],SRDB[Vorname],\"NA\",0))","v":""},{"$f":"IF(ISBLANK(SRDB4[[#This Row],[SR-Nr]]),\"\",_xlfn.XLOOKUP(SRDB4[[#This Row],[SR-Nr]],SRDB[SR-Nr.],SRDB[Name],\"NA\",0))","v":""},{"$f":"IF(ISBLANK(SRDB4[[#This Row],[SR-Nr]]),\"\",IF(COUNTIF(Registration!$A$7:$A$204,SRDB4[[#This Row],[SR-Nr]])=1,TRUE,FALSE))","v":""}]
[null,{"$f":"IF(ISBLANK(SRDB4[[#This Row],[SR-Nr]]),\"\",_xlfn.XLOOKUP(SRDB4[[#This Row],[SR-Nr]],SRDB[SR-Nr.],SRDB[Vorname],\"NA\",0))","v":""},{"$f":"IF(ISBLANK(SRDB4[[#This Row],[SR-Nr]]),\"\",_xlfn.XLOOKUP(SRDB4[[#This Row],[SR-Nr]],SRDB[SR-Nr.],SRDB[Name],\"NA\",0))","v":""},{"$f":"IF(ISBLANK(SRDB4[[#This Row],[SR-Nr]]),\"\",IF(COUNTIF(Registration!$A$7:$A$204,SRDB4[[#This Row],[SR-Nr]])=1,TRUE,FALSE))","v":""}]
[null,{"$f":"IF(ISBLANK(SRDB4[[#This Row],[SR-Nr]]),\"\",_xlfn.XLOOKUP(SRDB4[[#This Row],[SR-Nr]],SRDB[SR-Nr.],SRDB[Vorname],\"NA\",0))","v":""},{"$f":"IF(ISBLANK(SRDB4[[#This Row],[SR-Nr]]),\"\",_xlfn.XLOOKUP(SRDB4[[#This Row],[SR-Nr]],SRDB[SR-Nr.],SRDB[Name],\"NA\",0))","v":""},{"$f":"IF(ISBLANK(SRDB4[[#This Row],[SR-Nr]]),\"\",IF(COUNTIF(Registration!$A$7:$A$204,SRDB4[[#This Row],[SR-Nr]])=1,TRUE,FALSE))","v":""}]
[null,{"$f":"IF(ISBLANK(SRDB4[[#This Row],[SR-Nr]]),\"\",_xlfn.XLOOKUP(SRDB4[[#This Row],[SR-Nr]],SRDB[SR-Nr.],SRDB[Vorname],\"NA\",0))","v":""},{"$f":"IF(ISBLANK(SRDB4[[#This Row],[SR-Nr]]),\"\",_xlfn.XLOOKUP(SRDB4[[#This Row],[SR-Nr]],SRDB[SR-Nr.],SRDB[Name],\"NA\",0))","v":""},{"$f":"IF(ISBLANK(SRDB4[[#This Row],[SR-Nr]]),\"\",IF(COUNTIF(Registration!$A$7:$A$204,SRDB4[[#This Row],[SR-Nr]])=1,TRUE,FALSE))","v":""}]
[null,{"$f":"IF(ISBLANK(SRDB4[[#This Row],[SR-Nr]]),\"\",_xlfn.XLOOKUP(SRDB4[[#This Row],[SR-Nr]],SRDB[SR-Nr.],SRDB[Vorname],\"NA\",0))","v":""},{"$f":"IF(ISBLANK(SRDB4[[#This Row],[SR-Nr]]),\"\",_xlfn.XLOOKUP(SRDB4[[#This Row],[SR-Nr]],SRDB[SR-Nr.],SRDB[Name],\"NA\",0))","v":""},{"$f":"IF(ISBLANK(SRDB4[[#This Row],[SR-Nr]]),\"\",IF(COUNTIF(Registration!$A$7:$A$204,SRDB4[[#This Row],[SR-Nr]])=1,TRUE,FALSE))","v":""}]
[null,{"$f":"IF(ISBLANK(SRDB4[[#This Row],[SR-Nr]]),\"\",_xlfn.XLOOKUP(SRDB4[[#This Row],[SR-Nr]],SRDB[SR-Nr.],SRDB[Vorname],\"NA\",0))","v":""},{"$f":"IF(ISBLANK(SRDB4[[#This Row],[SR-Nr]]),\"\",_xlfn.XLOOKUP(SRDB4[[#This Row],[SR-Nr]],SRDB[SR-Nr.],SRDB[Name],\"NA\",0))","v":""},{"$f":"IF(ISBLANK(SRDB4[[#This Row],[SR-Nr]]),\"\",IF(COUNTIF(Registration!$A$7:$A$204,SRDB4[[#This Row],[SR-Nr]])=1,TRUE,FALSE))","v":""}]
[null,{"$f":"IF(ISBLANK(SRDB4[[#This Row],[SR-Nr]]),\"\",_xlfn.XLOOKUP(SRDB4[[#This Row],[SR-Nr]],SRDB[SR-Nr.],SRDB[Vorname],\"NA\",0))","v":""},{"$f":"IF(ISBLANK(SRDB4[[#This Row],[SR-Nr]]),\"\",_xlfn.XLOOKUP(SRDB4[[#This Row],[SR-Nr]],SRDB[SR-Nr.],SRDB[Name],\"NA\",0))","v":""},{"$f":"IF(ISBLANK(SRDB4[[#This Row],[SR-Nr]]),\"\",IF(COUNTIF(Registration!$A$7:$A$204,SRDB4[[#This Row],[SR-Nr]])=1,TRUE,FALSE))","v":""}]
[null,{"$f":"IF(ISBLANK(SRDB4[[#This Row],[SR-Nr]]),\"\",_xlfn.XLOOKUP(SRDB4[[#This Row],[SR-Nr]],SRDB[SR-Nr.],SRDB[Vorname],\"NA\",0))","v":""},{"$f":"IF(ISBLANK(SRDB4[[#This Row],[SR-Nr]]),\"\",_xlfn.XLOOKUP(SRDB4[[#This Row],[SR-Nr]],SRDB[SR-Nr.],SRDB[Name],\"NA\",0))","v":""},{"$f":"IF(ISBLANK(SRDB4[[#This Row],[SR-Nr]]),\"\",IF(COUNTIF(Registration!$A$7:$A$204,SRDB4[[#This Row],[SR-Nr]])=1,TRUE,FALSE))","v":""}]
[null,{"$f":"IF(ISBLANK(SRDB4[[#This Row],[SR-Nr]]),\"\",_xlfn.XLOOKUP(SRDB4[[#This Row],[SR-Nr]],SRDB[SR-Nr.],SRDB[Vorname],\"NA\",0))","v":""},{"$f":"IF(ISBLANK(SRDB4[[#This Row],[SR-Nr]]),\"\",_xlfn.XLOOKUP(SRDB4[[#This Row],[SR-Nr]],SRDB[SR-Nr.],SRDB[Name],\"NA\",0))","v":""},{"$f":"IF(ISBLANK(SRDB4[[#This Row],[SR-Nr]]),\"\",IF(COUNTIF(Registration!$A$7:$A$204,SRDB4[[#This Row],[SR-Nr]])=1,TRUE,FALSE))","v":""}]
[null,{"$f":"IF(ISBLANK(SRDB4[[#This Row],[SR-Nr]]),\"\",_xlfn.XLOOKUP(SRDB4[[#This Row],[SR-Nr]],SRDB[SR-Nr.],SRDB[Vorname],\"NA\",0))","v":""},{"$f":"IF(ISBLANK(SRDB4[[#This Row],[SR-Nr]]),\"\",_xlfn.XLOOKUP(SRDB4[[#This Row],[SR-Nr]],SRDB[SR-Nr.],SRDB[Name],\"NA\",0))","v":""},{"$f":"IF(ISBLANK(SRDB4[[#This Row],[SR-Nr]]),\"\",IF(COUNTIF(Registration!$A$7:$A$204,SRDB4[[#This Row],[SR-Nr]])=1,TRUE,FALSE))","v":""}]
[null,{"$f":"IF(ISBLANK(SRDB4[[#This Row],[SR-Nr]]),\"\",_xlfn.XLOOKUP(SRDB4[[#This Row],[SR-Nr]],SRDB[SR-Nr.],SRDB[Vorname],\"NA\",0))","v":""},{"$f":"IF(ISBLANK(SRDB4[[#This Row],[SR-Nr]]),\"\",_xlfn.XLOOKUP(SRDB4[[#This Row],[SR-Nr]],SRDB[SR-Nr.],SRDB[Name],\"NA\",0))","v":""},{"$f":"IF(ISBLANK(SRDB4[[#This Row],[SR-Nr]]),\"\",IF(COUNTIF(Registration!$A$7:$A$204,SRDB4[[#This Row],[SR-Nr]])=1,TRUE,FALSE))","v":""}]
[null,{"$f":"IF(ISBLANK(SRDB4[[#This Row],[SR-Nr]]),\"\",_xlfn.XLOOKUP(SRDB4[[#This Row],[SR-Nr]],SRDB[SR-Nr.],SRDB[Vorname],\"NA\",0))","v":""},{"$f":"IF(ISBLANK(SRDB4[[#This Row],[SR-Nr]]),\"\",_xlfn.XLOOKUP(SRDB4[[#This Row],[SR-Nr]],SRDB[SR-Nr.],SRDB[Name],\"NA\",0))","v":""},{"$f":"IF(ISBLANK(SRDB4[[#This Row],[SR-Nr]]),\"\",IF(COUNTIF(Registration!$A$7:$A$204,SRDB4[[#This Row],[SR-Nr]])=1,TRUE,FALSE))","v":""}]
[null,{"$f":"IF(ISBLANK(SRDB4[[#This Row],[SR-Nr]]),\"\",_xlfn.XLOOKUP(SRDB4[[#This Row],[SR-Nr]],SRDB[SR-Nr.],SRDB[Vorname],\"NA\",0))","v":""},{"$f":"IF(ISBLANK(SRDB4[[#This Row],[SR-Nr]]),\"\",_xlfn.XLOOKUP(SRDB4[[#This Row],[SR-Nr]],SRDB[SR-Nr.],SRDB[Name],\"NA\",0))","v":""},{"$f":"IF(ISBLANK(SRDB4[[#This Row],[SR-Nr]]),\"\",IF(COUNTIF(Registration!$A$7:$A$204,SRDB4[[#This Row],[SR-Nr]])=1,TRUE,FALSE))","v":""}]
[null,{"$f":"IF(ISBLANK(SRDB4[[#This Row],[SR-Nr]]),\"\",_xlfn.XLOOKUP(SRDB4[[#This Row],[SR-Nr]],SRDB[SR-Nr.],SRDB[Vorname],\"NA\",0))","v":""},{"$f":"IF(ISBLANK(SRDB4[[#This Row],[SR-Nr]]),\"\",_xlfn.XLOOKUP(SRDB4[[#This Row],[SR-Nr]],SRDB[SR-Nr.],SRDB[Name],\"NA\",0))","v":""},{"$f":"IF(ISBLANK(SRDB4[[#This Row],[SR-Nr]]),\"\",IF(COUNTIF(Registration!$A$7:$A$204,SRDB4[[#This Row],[SR-Nr]])=1,TRUE,FALSE))","v":""}]
[null,{"$f":"IF(ISBLANK(SRDB4[[#This Row],[SR-Nr]]),\"\",_xlfn.XLOOKUP(SRDB4[[#This Row],[SR-Nr]],SRDB[SR-Nr.],SRDB[Vorname],\"NA\",0))","v":""},{"$f":"IF(ISBLANK(SRDB4[[#This Row],[SR-Nr]]),\"\",_xlfn.XLOOKUP(SRDB4[[#This Row],[SR-Nr]],SRDB[SR-Nr.],SRDB[Name],\"NA\",0))","v":""},{"$f":"IF(ISBLANK(SRDB4[[#This Row],[SR-Nr]]),\"\",IF(COUNTIF(Registration!$A$7:$A$204,SRDB4[[#This Row],[SR-Nr]])=1,TRUE,FALSE))","v":""}]
[null,{"$f":"IF(ISBLANK(SRDB4[[#This Row],[SR-Nr]]),\"\",_xlfn.XLOOKUP(SRDB4[[#This Row],[SR-Nr]],SRDB[SR-Nr.],SRDB[Vorname],\"NA\",0))","v":""},{"$f":"IF(ISBLANK(SRDB4[[#This Row],[SR-Nr]]),\"\",_xlfn.XLOOKUP(SRDB4[[#This Row],[SR-Nr]],SRDB[SR-Nr.],SRDB[Name],\"NA\",0))","v":""},{"$f":"IF(ISBLANK(SRDB4[[#This Row],[SR-Nr]]),\"\",IF(COUNTIF(Registration!$A$7:$A$204,SRDB4[[#This Row],[SR-Nr]])=1,TRUE,FALSE))","v":""}]
[null,{"$f":"IF(ISBLANK(SRDB4[[#This Row],[SR-Nr]]),\"\",_xlfn.XLOOKUP(SRDB4[[#This Row],[SR-Nr]],SRDB[SR-Nr.],SRDB[Vorname],\"NA\",0))","v":""},{"$f":"IF(ISBLANK(SRDB4[[#This Row],[SR-Nr]]),\"\",_xlfn.XLOOKUP(SRDB4[[#This Row],[SR-Nr]],SRDB[SR-Nr.],SRDB[Name],\"NA\",0))","v":""},{"$f":"IF(ISBLANK(SRDB4[[#This Row],[SR-Nr]]),\"\",IF(COUNTIF(Registration!$A$7:$A$204,SRDB4[[#This Row],[SR-Nr]])=1,TRUE,FALSE))","v":""}]
[null,{"$f":"IF(ISBLANK(SRDB4[[#This Row],[SR-Nr]]),\"\",_xlfn.XLOOKUP(SRDB4[[#This Row],[SR-Nr]],SRDB[SR-Nr.],SRDB[Vorname],\"NA\",0))","v":""},{"$f":"IF(ISBLANK(SRDB4[[#This Row],[SR-Nr]]),\"\",_xlfn.XLOOKUP(SRDB4[[#This Row],[SR-Nr]],SRDB[SR-Nr.],SRDB[Name],\"NA\",0))","v":""},{"$f":"IF(ISBLANK(SRDB4[[#This Row],[SR-Nr]]),\"\",IF(COUNTIF(Registration!$A$7:$A$204,SRDB4[[#This Row],[SR-Nr]])=1,TRUE,FALSE))","v":""}]
[null,{"$f":"IF(ISBLANK(SRDB4[[#This Row],[SR-Nr]]),\"\",_xlfn.XLOOKUP(SRDB4[[#This Row],[SR-Nr]],SRDB[SR-Nr.],SRDB[Vorname],\"NA\",0))","v":""},{"$f":"IF(ISBLANK(SRDB4[[#This Row],[SR-Nr]]),\"\",_xlfn.XLOOKUP(SRDB4[[#This Row],[SR-Nr]],SRDB[SR-Nr.],SRDB[Name],\"NA\",0))","v":""},{"$f":"IF(ISBLANK(SRDB4[[#This Row],[SR-Nr]]),\"\",IF(COUNTIF(Registration!$A$7:$A$204,SRDB4[[#This Row],[SR-Nr]])=1,TRUE,FALSE))","v":""}]
[null,{"$f":"IF(ISBLANK(SRDB4[[#This Row],[SR-Nr]]),\"\",_xlfn.XLOOKUP(SRDB4[[#This Row],[SR-Nr]],SRDB[SR-Nr.],SRDB[Vorname],\"NA\",0))","v":""},{"$f":"IF(ISBLANK(SRDB4[[#This Row],[SR-Nr]]),\"\",_xlfn.XLOOKUP(SRDB4[[#This Row],[SR-Nr]],SRDB[SR-Nr.],SRDB[Name],\"NA\",0))","v":""},{"$f":"IF(ISBLANK(SRDB4[[#This Row],[SR-Nr]]),\"\",IF(COUNTIF(Registration!$A$7:$A$204,SRDB4[[#This Row],[SR-Nr]])=1,TRUE,FALSE))","v":""}]
[null,{"$f":"IF(ISBLANK(SRDB4[[#This Row],[SR-Nr]]),\"\",_xlfn.XLOOKUP(SRDB4[[#This Row],[SR-Nr]],SRDB[SR-Nr.],SRDB[Vorname],\"NA\",0))","v":""},{"$f":"IF(ISBLANK(SRDB4[[#This Row],[SR-Nr]]),\"\",_xlfn.XLOOKUP(SRDB4[[#This Row],[SR-Nr]],SRDB[SR-Nr.],SRDB[Name],\"NA\",0))","v":""},{"$f":"IF(ISBLANK(SRDB4[[#This Row],[SR-Nr]]),\"\",IF(COUNTIF(Registration!$A$7:$A$204,SRDB4[[#This Row],[SR-Nr]])=1,TRUE,FALSE))","v":""}]
[null,{"$f":"IF(ISBLANK(SRDB4[[#This Row],[SR-Nr]]),\"\",_xlfn.XLOOKUP(SRDB4[[#This Row],[SR-Nr]],SRDB[SR-Nr.],SRDB[Vorname],\"NA\",0))","v":""},{"$f":"IF(ISBLANK(SRDB4[[#This Row],[SR-Nr]]),\"\",_xlfn.XLOOKUP(SRDB4[[#This Row],[SR-Nr]],SRDB[SR-Nr.],SRDB[Name],\"NA\",0))","v":""},{"$f":"IF(ISBLANK(SRDB4[[#This Row],[SR-Nr]]),\"\",IF(COUNTIF(Registration!$A$7:$A$204,SRDB4[[#This Row],[SR-Nr]])=1,TRUE,FALSE))","v":""}]
[null,{"$f":"IF(ISBLANK(SRDB4[[#This Row],[SR-Nr]]),\"\",_xlfn.XLOOKUP(SRDB4[[#This Row],[SR-Nr]],SRDB[SR-Nr.],SRDB[Vorname],\"NA\",0))","v":""},{"$f":"IF(ISBLANK(SRDB4[[#This Row],[SR-Nr]]),\"\",_xlfn.XLOOKUP(SRDB4[[#This Row],[SR-Nr]],SRDB[SR-Nr.],SRDB[Name],\"NA\",0))","v":""},{"$f":"IF(ISBLANK(SRDB4[[#This Row],[SR-Nr]]),\"\",IF(COUNTIF(Registration!$A$7:$A$204,SRDB4[[#This Row],[SR-Nr]])=1,TRUE,FALSE))","v":""}]
[null,{"$f":"IF(ISBLANK(SRDB4[[#This Row],[SR-Nr]]),\"\",_xlfn.XLOOKUP(SRDB4[[#This Row],[SR-Nr]],SRDB[SR-Nr.],SRDB[Vorname],\"NA\",0))","v":""},{"$f":"IF(ISBLANK(SRDB4[[#This Row],[SR-Nr]]),\"\",_xlfn.XLOOKUP(SRDB4[[#This Row],[SR-Nr]],SRDB[SR-Nr.],SRDB[Name],\"NA\",0))","v":""},{"$f":"IF(ISBLANK(SRDB4[[#This Row],[SR-Nr]]),\"\",IF(COUNTIF(Registration!$A$7:$A$204,SRDB4[[#This Row],[SR-Nr]])=1,TRUE,FALSE))","v":""}]
[null,{"$f":"IF(ISBLANK(SRDB4[[#This Row],[SR-Nr]]),\"\",_xlfn.XLOOKUP(SRDB4[[#This Row],[SR-Nr]],SRDB[SR-Nr.],SRDB[Vorname],\"NA\",0))","v":""},{"$f":"IF(ISBLANK(SRDB4[[#This Row],[SR-Nr]]),\"\",_xlfn.XLOOKUP(SRDB4[[#This Row],[SR-Nr]],SRDB[SR-Nr.],SRDB[Name],\"NA\",0))","v":""},{"$f":"IF(ISBLANK(SRDB4[[#This Row],[SR-Nr]]),\"\",IF(COUNTIF(Registration!$A$7:$A$204,SRDB4[[#This Row],[SR-Nr]])=1,TRUE,FALSE))","v":""}]
[null,{"$f":"IF(ISBLANK(SRDB4[[#This Row],[SR-Nr]]),\"\",_xlfn.XLOOKUP(SRDB4[[#This Row],[SR-Nr]],SRDB[SR-Nr.],SRDB[Vorname],\"NA\",0))","v":""},{"$f":"IF(ISBLANK(SRDB4[[#This Row],[SR-Nr]]),\"\",_xlfn.XLOOKUP(SRDB4[[#This Row],[SR-Nr]],SRDB[SR-Nr.],SRDB[Name],\"NA\",0))","v":""},{"$f":"IF(ISBLANK(SRDB4[[#This Row],[SR-Nr]]),\"\",IF(COUNTIF(Registration!$A$7:$A$204,SRDB4[[#This Row],[SR-Nr]])=1,TRUE,FALSE))","v":""}]
[null,{"$f":"IF(ISBLANK(SRDB4[[#This Row],[SR-Nr]]),\"\",_xlfn.XLOOKUP(SRDB4[[#This Row],[SR-Nr]],SRDB[SR-Nr.],SRDB[Vorname],\"NA\",0))","v":""},{"$f":"IF(ISBLANK(SRDB4[[#This Row],[SR-Nr]]),\"\",_xlfn.XLOOKUP(SRDB4[[#This Row],[SR-Nr]],SRDB[SR-Nr.],SRDB[Name],\"NA\",0))","v":""},{"$f":"IF(ISBLANK(SRDB4[[#This Row],[SR-Nr]]),\"\",IF(COUNTIF(Registration!$A$7:$A$204,SRDB4[[#This Row],[SR-Nr]])=1,TRUE,FALSE))","v":""}]
[null,{"$f":"IF(ISBLANK(SRDB4[[#This Row],[SR-Nr]]),\"\",_xlfn.XLOOKUP(SRDB4[[#This Row],[SR-Nr]],SRDB[SR-Nr.],SRDB[Vorname],\"NA\",0))","v":""},{"$f":"IF(ISBLANK(SRDB4[[#This Row],[SR-Nr]]),\"\",_xlfn.XLOOKUP(SRDB4[[#This Row],[SR-Nr]],SRDB[SR-Nr.],SRDB[Name],\"NA\",0))","v":""},{"$f":"IF(ISBLANK(SRDB4[[#This Row],[SR-Nr]]),\"\",IF(COUNTIF(Registration!$A$7:$A$204,SRDB4[[#This Row],[SR-Nr]])=1,TRUE,FALSE))","v":""}]
[null,{"$f":"IF(ISBLANK(SRDB4[[#This Row],[SR-Nr]]),\"\",_xlfn.XLOOKUP(SRDB4[[#This Row],[SR-Nr]],SRDB[SR-Nr.],SRDB[Vorname],\"NA\",0))","v":""},{"$f":"IF(ISBLANK(SRDB4[[#This Row],[SR-Nr]]),\"\",_xlfn.XLOOKUP(SRDB4[[#This Row],[SR-Nr]],SRDB[SR-Nr.],SRDB[Name],\"NA\",0))","v":""},{"$f":"IF(ISBLANK(SRDB4[[#This Row],[SR-Nr]]),\"\",IF(COUNTIF(Registration!$A$7:$A$204,SRDB4[[#This Row],[SR-Nr]])=1,TRUE,FALSE))","v":""}]
[null,{"$f":"IF(ISBLANK(SRDB4[[#This Row],[SR-Nr]]),\"\",_xlfn.XLOOKUP(SRDB4[[#This Row],[SR-Nr]],SRDB[SR-Nr.],SRDB[Vorname],\"NA\",0))","v":""},{"$f":"IF(ISBLANK(SRDB4[[#This Row],[SR-Nr]]),\"\",_xlfn.XLOOKUP(SRDB4[[#This Row],[SR-Nr]],SRDB[SR-Nr.],SRDB[Name],\"NA\",0))","v":""},{"$f":"IF(ISBLANK(SRDB4[[#This Row],[SR-Nr]]),\"\",IF(COUNTIF(Registration!$A$7:$A$204,SRDB4[[#This Row],[SR-Nr]])=1,TRUE,FALSE))","v":""}]
[null,{"$f":"IF(ISBLANK(SRDB4[[#This Row],[SR-Nr]]),\"\",_xlfn.XLOOKUP(SRDB4[[#This Row],[SR-Nr]],SRDB[SR-Nr.],SRDB[Vorname],\"NA\",0))","v":""},{"$f":"IF(ISBLANK(SRDB4[[#This Row],[SR-Nr]]),\"\",_xlfn.XLOOKUP(SRDB4[[#This Row],[SR-Nr]],SRDB[SR-Nr.],SRDB[Name],\"NA\",0))","v":""},{"$f":"IF(ISBLANK(SRDB4[[#This Row],[SR-Nr]]),\"\",IF(COUNTIF(Registration!$A$7:$A$204,SRDB4[[#This Row],[SR-Nr]])=1,TRUE,FALSE))","v":""}]
[null,{"$f":"IF(ISBLANK(SRDB4[[#This Row],[SR-Nr]]),\"\",_xlfn.XLOOKUP(SRDB4[[#This Row],[SR-Nr]],SRDB[SR-Nr.],SRDB[Vorname],\"NA\",0))","v":""},{"$f":"IF(ISBLANK(SRDB4[[#This Row],[SR-Nr]]),\"\",_xlfn.XLOOKUP(SRDB4[[#This Row],[SR-Nr]],SRDB[SR-Nr.],SRDB[Name],\"NA\",0))","v":""},{"$f":"IF(ISBLANK(SRDB4[[#This Row],[SR-Nr]]),\"\",IF(COUNTIF(Registration!$A$7:$A$204,SRDB4[[#This Row],[SR-Nr]])=1,TRUE,FALSE))","v":""}]
[null,{"$f":"IF(ISBLANK(SRDB4[[#This Row],[SR-Nr]]),\"\",_xlfn.XLOOKUP(SRDB4[[#This Row],[SR-Nr]],SRDB[SR-Nr.],SRDB[Vorname],\"NA\",0))","v":""},{"$f":"IF(ISBLANK(SRDB4[[#This Row],[SR-Nr]]),\"\",_xlfn.XLOOKUP(SRDB4[[#This Row],[SR-Nr]],SRDB[SR-Nr.],SRDB[Name],\"NA\",0))","v":""},{"$f":"IF(ISBLANK(SRDB4[[#This Row],[SR-Nr]]),\"\",IF(COUNTIF(Registration!$A$7:$A$204,SRDB4[[#This Row],[SR-Nr]])=1,TRUE,FALSE))","v":""}]
[null,{"$f":"IF(ISBLANK(SRDB4[[#This Row],[SR-Nr]]),\"\",_xlfn.XLOOKUP(SRDB4[[#This Row],[SR-Nr]],SRDB[SR-Nr.],SRDB[Vorname],\"NA\",0))","v":""},{"$f":"IF(ISBLANK(SRDB4[[#This Row],[SR-Nr]]),\"\",_xlfn.XLOOKUP(SRDB4[[#This Row],[SR-Nr]],SRDB[SR-Nr.],SRDB[Name],\"NA\",0))","v":""},{"$f":"IF(ISBLANK(SRDB4[[#This Row],[SR-Nr]]),\"\",IF(COUNTIF(Registration!$A$7:$A$204,SRDB4[[#This Row],[SR-Nr]])=1,TRUE,FALSE))","v":""}]
[null,{"$f":"IF(ISBLANK(SRDB4[[#This Row],[SR-Nr]]),\"\",_xlfn.XLOOKUP(SRDB4[[#This Row],[SR-Nr]],SRDB[SR-Nr.],SRDB[Vorname],\"NA\",0))","v":""},{"$f":"IF(ISBLANK(SRDB4[[#This Row],[SR-Nr]]),\"\",_xlfn.XLOOKUP(SRDB4[[#This Row],[SR-Nr]],SRDB[SR-Nr.],SRDB[Name],\"NA\",0))","v":""},{"$f":"IF(ISBLANK(SRDB4[[#This Row],[SR-Nr]]),\"\",IF(COUNTIF(Registration!$A$7:$A$204,SRDB4[[#This Row],[SR-Nr]])=1,TRUE,FALSE))","v":""}]
[null,{"$f":"IF(ISBLANK(SRDB4[[#This Row],[SR-Nr]]),\"\",_xlfn.XLOOKUP(SRDB4[[#This Row],[SR-Nr]],SRDB[SR-Nr.],SRDB[Vorname],\"NA\",0))","v":""},{"$f":"IF(ISBLANK(SRDB4[[#This Row],[SR-Nr]]),\"\",_xlfn.XLOOKUP(SRDB4[[#This Row],[SR-Nr]],SRDB[SR-Nr.],SRDB[Name],\"NA\",0))","v":""},{"$f":"IF(ISBLANK(SRDB4[[#This Row],[SR-Nr]]),\"\",IF(COUNTIF(Registration!$A$7:$A$204,SRDB4[[#This Row],[SR-Nr]])=1,TRUE,FALSE))","v":""}]
[null,{"$f":"IF(ISBLANK(SRDB4[[#This Row],[SR-Nr]]),\"\",_xlfn.XLOOKUP(SRDB4[[#This Row],[SR-Nr]],SRDB[SR-Nr.],SRDB[Vorname],\"NA\",0))","v":""},{"$f":"IF(ISBLANK(SRDB4[[#This Row],[SR-Nr]]),\"\",_xlfn.XLOOKUP(SRDB4[[#This Row],[SR-Nr]],SRDB[SR-Nr.],SRDB[Name],\"NA\",0))","v":""},{"$f":"IF(ISBLANK(SRDB4[[#This Row],[SR-Nr]]),\"\",IF(COUNTIF(Registration!$A$7:$A$204,SRDB4[[#This Row],[SR-Nr]])=1,TRUE,FALSE))","v":""}]
[null,{"$f":"IF(ISBLANK(SRDB4[[#This Row],[SR-Nr]]),\"\",_xlfn.XLOOKUP(SRDB4[[#This Row],[SR-Nr]],SRDB[SR-Nr.],SRDB[Vorname],\"NA\",0))","v":""},{"$f":"IF(ISBLANK(SRDB4[[#This Row],[SR-Nr]]),\"\",_xlfn.XLOOKUP(SRDB4[[#This Row],[SR-Nr]],SRDB[SR-Nr.],SRDB[Name],\"NA\",0))","v":""},{"$f":"IF(ISBLANK(SRDB4[[#This Row],[SR-Nr]]),\"\",IF(COUNTIF(Registration!$A$7:$A$204,SRDB4[[#This Row],[SR-Nr]])=1,TRUE,FALSE))","v":""}]
[null,{"$f":"IF(ISBLANK(SRDB4[[#This Row],[SR-Nr]]),\"\",_xlfn.XLOOKUP(SRDB4[[#This Row],[SR-Nr]],SRDB[SR-Nr.],SRDB[Vorname],\"NA\",0))","v":""},{"$f":"IF(ISBLANK(SRDB4[[#This Row],[SR-Nr]]),\"\",_xlfn.XLOOKUP(SRDB4[[#This Row],[SR-Nr]],SRDB[SR-Nr.],SRDB[Name],\"NA\",0))","v":""},{"$f":"IF(ISBLANK(SRDB4[[#This Row],[SR-Nr]]),\"\",IF(COUNTIF(Registration!$A$7:$A$204,SRDB4[[#This Row],[SR-Nr]])=1,TRUE,FALSE))","v":""}]
[null,{"$f":"IF(ISBLANK(SRDB4[[#This Row],[SR-Nr]]),\"\",_xlfn.XLOOKUP(SRDB4[[#This Row],[SR-Nr]],SRDB[SR-Nr.],SRDB[Vorname],\"NA\",0))","v":""},{"$f":"IF(ISBLANK(SRDB4[[#This Row],[SR-Nr]]),\"\",_xlfn.XLOOKUP(SRDB4[[#This Row],[SR-Nr]],SRDB[SR-Nr.],SRDB[Name],\"NA\",0))","v":""},{"$f":"IF(ISBLANK(SRDB4[[#This Row],[SR-Nr]]),\"\",IF(COUNTIF(Registration!$A$7:$A$204,SRDB4[[#This Row],[SR-Nr]])=1,TRUE,FALSE))","v":""}]
[null,{"$f":"IF(ISBLANK(SRDB4[[#This Row],[SR-Nr]]),\"\",_xlfn.XLOOKUP(SRDB4[[#This Row],[SR-Nr]],SRDB[SR-Nr.],SRDB[Vorname],\"NA\",0))","v":""},{"$f":"IF(ISBLANK(SRDB4[[#This Row],[SR-Nr]]),\"\",_xlfn.XLOOKUP(SRDB4[[#This Row],[SR-Nr]],SRDB[SR-Nr.],SRDB[Name],\"NA\",0))","v":""},{"$f":"IF(ISBLANK(SRDB4[[#This Row],[SR-Nr]]),\"\",IF(COUNTIF(Registration!$A$7:$A$204,SRDB4[[#This Row],[SR-Nr]])=1,TRUE,FALSE))","v":""}]
[null,{"$f":"IF(ISBLANK(SRDB4[[#This Row],[SR-Nr]]),\"\",_xlfn.XLOOKUP(SRDB4[[#This Row],[SR-Nr]],SRDB[SR-Nr.],SRDB[Vorname],\"NA\",0))","v":""},{"$f":"IF(ISBLANK(SRDB4[[#This Row],[SR-Nr]]),\"\",_xlfn.XLOOKUP(SRDB4[[#This Row],[SR-Nr]],SRDB[SR-Nr.],SRDB[Name],\"NA\",0))","v":""},{"$f":"IF(ISBLANK(SRDB4[[#This Row],[SR-Nr]]),\"\",IF(COUNTIF(Registration!$A$7:$A$204,SRDB4[[#This Row],[SR-Nr]])=1,TRUE,FALSE))","v":""}]
[null,{"$f":"IF(ISBLANK(SRDB4[[#This Row],[SR-Nr]]),\"\",_xlfn.XLOOKUP(SRDB4[[#This Row],[SR-Nr]],SRDB[SR-Nr.],SRDB[Vorname],\"NA\",0))","v":""},{"$f":"IF(ISBLANK(SRDB4[[#This Row],[SR-Nr]]),\"\",_xlfn.XLOOKUP(SRDB4[[#This Row],[SR-Nr]],SRDB[SR-Nr.],SRDB[Name],\"NA\",0))","v":""},{"$f":"IF(ISBLANK(SRDB4[[#This Row],[SR-Nr]]),\"\",IF(COUNTIF(Registration!$A$7:$A$204,SRDB4[[#This Row],[SR-Nr]])=1,TRUE,FALSE))","v":""}]
[null,{"$f":"IF(ISBLANK(SRDB4[[#This Row],[SR-Nr]]),\"\",_xlfn.XLOOKUP(SRDB4[[#This Row],[SR-Nr]],SRDB[SR-Nr.],SRDB[Vorname],\"NA\",0))","v":""},{"$f":"IF(ISBLANK(SRDB4[[#This Row],[SR-Nr]]),\"\",_xlfn.XLOOKUP(SRDB4[[#This Row],[SR-Nr]],SRDB[SR-Nr.],SRDB[Name],\"NA\",0))","v":""},{"$f":"IF(ISBLANK(SRDB4[[#This Row],[SR-Nr]]),\"\",IF(COUNTIF(Registration!$A$7:$A$204,SRDB4[[#This Row],[SR-Nr]])=1,TRUE,FALSE))","v":""}]
[null,{"$f":"IF(ISBLANK(SRDB4[[#This Row],[SR-Nr]]),\"\",_xlfn.XLOOKUP(SRDB4[[#This Row],[SR-Nr]],SRDB[SR-Nr.],SRDB[Vorname],\"NA\",0))","v":""},{"$f":"IF(ISBLANK(SRDB4[[#This Row],[SR-Nr]]),\"\",_xlfn.XLOOKUP(SRDB4[[#This Row],[SR-Nr]],SRDB[SR-Nr.],SRDB[Name],\"NA\",0))","v":""},{"$f":"IF(ISBLANK(SRDB4[[#This Row],[SR-Nr]]),\"\",IF(COUNTIF(Registration!$A$7:$A$204,SRDB4[[#This Row],[SR-Nr]])=1,TRUE,FALSE))","v":""}]
[null,{"$f":"IF(ISBLANK(SRDB4[[#This Row],[SR-Nr]]),\"\",_xlfn.XLOOKUP(SRDB4[[#This Row],[SR-Nr]],SRDB[SR-Nr.],SRDB[Vorname],\"NA\",0))","v":""},{"$f":"IF(ISBLANK(SRDB4[[#This Row],[SR-Nr]]),\"\",_xlfn.XLOOKUP(SRDB4[[#This Row],[SR-Nr]],SRDB[SR-Nr.],SRDB[Name],\"NA\",0))","v":""},{"$f":"IF(ISBLANK(SRDB4[[#This Row],[SR-Nr]]),\"\",IF(COUNTIF(Registration!$A$7:$A$204,SRDB4[[#This Row],[SR-Nr]])=1,TRUE,FALSE))","v":""}]
[null,{"$f":"IF(ISBLANK(SRDB4[[#This Row],[SR-Nr]]),\"\",_xlfn.XLOOKUP(SRDB4[[#This Row],[SR-Nr]],SRDB[SR-Nr.],SRDB[Vorname],\"NA\",0))","v":""},{"$f":"IF(ISBLANK(SRDB4[[#This Row],[SR-Nr]]),\"\",_xlfn.XLOOKUP(SRDB4[[#This Row],[SR-Nr]],SRDB[SR-Nr.],SRDB[Name],\"NA\",0))","v":""},{"$f":"IF(ISBLANK(SRDB4[[#This Row],[SR-Nr]]),\"\",IF(COUNTIF(Registration!$A$7:$A$204,SRDB4[[#This Row],[SR-Nr]])=1,TRUE,FALSE))","v":""}]
[null,{"$f":"IF(ISBLANK(SRDB4[[#This Row],[SR-Nr]]),\"\",_xlfn.XLOOKUP(SRDB4[[#This Row],[SR-Nr]],SRDB[SR-Nr.],SRDB[Vorname],\"NA\",0))","v":""},{"$f":"IF(ISBLANK(SRDB4[[#This Row],[SR-Nr]]),\"\",_xlfn.XLOOKUP(SRDB4[[#This Row],[SR-Nr]],SRDB[SR-Nr.],SRDB[Name],\"NA\",0))","v":""},{"$f":"IF(ISBLANK(SRDB4[[#This Row],[SR-Nr]]),\"\",IF(COUNTIF(Registration!$A$7:$A$204,SRDB4[[#This Row],[SR-Nr]])=1,TRUE,FALSE))","v":""}]
[null,{"$f":"IF(ISBLANK(SRDB4[[#This Row],[SR-Nr]]),\"\",_xlfn.XLOOKUP(SRDB4[[#This Row],[SR-Nr]],SRDB[SR-Nr.],SRDB[Vorname],\"NA\",0))","v":""},{"$f":"IF(ISBLANK(SRDB4[[#This Row],[SR-Nr]]),\"\",_xlfn.XLOOKUP(SRDB4[[#This Row],[SR-Nr]],SRDB[SR-Nr.],SRDB[Name],\"NA\",0))","v":""},{"$f":"IF(ISBLANK(SRDB4[[#This Row],[SR-Nr]]),\"\",IF(COUNTIF(Registration!$A$7:$A$204,SRDB4[[#This Row],[SR-Nr]])=1,TRUE,FALSE))","v":""}]
[null,{"$f":"IF(ISBLANK(SRDB4[[#This Row],[SR-Nr]]),\"\",_xlfn.XLOOKUP(SRDB4[[#This Row],[SR-Nr]],SRDB[SR-Nr.],SRDB[Vorname],\"NA\",0))","v":""},{"$f":"IF(ISBLANK(SRDB4[[#This Row],[SR-Nr]]),\"\",_xlfn.XLOOKUP(SRDB4[[#This Row],[SR-Nr]],SRDB[SR-Nr.],SRDB[Name],\"NA\",0))","v":""},{"$f":"IF(ISBLANK(SRDB4[[#This Row],[SR-Nr]]),\"\",IF(COUNTIF(Registration!$A$7:$A$204,SRDB4[[#This Row],[SR-Nr]])=1,TRUE,FALSE))","v":""}]
[null,{"$f":"IF(ISBLANK(SRDB4[[#This Row],[SR-Nr]]),\"\",_xlfn.XLOOKUP(SRDB4[[#This Row],[SR-Nr]],SRDB[SR-Nr.],SRDB[Vorname],\"NA\",0))","v":""},{"$f":"IF(ISBLANK(SRDB4[[#This Row],[SR-Nr]]),\"\",_xlfn.XLOOKUP(SRDB4[[#This Row],[SR-Nr]],SRDB[SR-Nr.],SRDB[Name],\"NA\",0))","v":""},{"$f":"IF(ISBLANK(SRDB4[[#This Row],[SR-Nr]]),\"\",IF(COUNTIF(Registration!$A$7:$A$204,SRDB4[[#This Row],[SR-Nr]])=1,TRUE,FALSE))","v":""}]
[null,{"$f":"IF(ISBLANK(SRDB4[[#This Row],[SR-Nr]]),\"\",_xlfn.XLOOKUP(SRDB4[[#This Row],[SR-Nr]],SRDB[SR-Nr.],SRDB[Vorname],\"NA\",0))","v":""},{"$f":"IF(ISBLANK(SRDB4[[#This Row],[SR-Nr]]),\"\",_xlfn.XLOOKUP(SRDB4[[#This Row],[SR-Nr]],SRDB[SR-Nr.],SRDB[Name],\"NA\",0))","v":""},{"$f":"IF(ISBLANK(SRDB4[[#This Row],[SR-Nr]]),\"\",IF(COUNTIF(Registration!$A$7:$A$204,SRDB4[[#This Row],[SR-Nr]])=1,TRUE,FALSE))","v":""}]
[null,{"$f":"IF(ISBLANK(SRDB4[[#This Row],[SR-Nr]]),\"\",_xlfn.XLOOKUP(SRDB4[[#This Row],[SR-Nr]],SRDB[SR-Nr.],SRDB[Vorname],\"NA\",0))","v":""},{"$f":"IF(ISBLANK(SRDB4[[#This Row],[SR-Nr]]),\"\",_xlfn.XLOOKUP(SRDB4[[#This Row],[SR-Nr]],SRDB[SR-Nr.],SRDB[Name],\"NA\",0))","v":""},{"$f":"IF(ISBLANK(SRDB4[[#This Row],[SR-Nr]]),\"\",IF(COUNTIF(Registration!$A$7:$A$204,SRDB4[[#This Row],[SR-Nr]])=1,TRUE,FALSE))","v":""}]
[null,{"$f":"IF(ISBLANK(SRDB4[[#This Row],[SR-Nr]]),\"\",_xlfn.XLOOKUP(SRDB4[[#This Row],[SR-Nr]],SRDB[SR-Nr.],SRDB[Vorname],\"NA\",0))","v":""},{"$f":"IF(ISBLANK(SRDB4[[#This Row],[SR-Nr]]),\"\",_xlfn.XLOOKUP(SRDB4[[#This Row],[SR-Nr]],SRDB[SR-Nr.],SRDB[Name],\"NA\",0))","v":""},{"$f":"IF(ISBLANK(SRDB4[[#This Row],[SR-Nr]]),\"\",IF(COUNTIF(Registration!$A$7:$A$204,SRDB4[[#This Row],[SR-Nr]])=1,TRUE,FALSE))","v":""}]
[null,{"$f":"IF(ISBLANK(SRDB4[[#This Row],[SR-Nr]]),\"\",_xlfn.XLOOKUP(SRDB4[[#This Row],[SR-Nr]],SRDB[SR-Nr.],SRDB[Vorname],\"NA\",0))","v":""},{"$f":"IF(ISBLANK(SRDB4[[#This Row],[SR-Nr]]),\"\",_xlfn.XLOOKUP(SRDB4[[#This Row],[SR-Nr]],SRDB[SR-Nr.],SRDB[Name],\"NA\",0))","v":""},{"$f":"IF(ISBLANK(SRDB4[[#This Row],[SR-Nr]]),\"\",IF(COUNTIF(Registration!$A$7:$A$204,SRDB4[[#This Row],[SR-Nr]])=1,TRUE,FALSE))","v":""}]
[null,{"$f":"IF(ISBLANK(SRDB4[[#This Row],[SR-Nr]]),\"\",_xlfn.XLOOKUP(SRDB4[[#This Row],[SR-Nr]],SRDB[SR-Nr.],SRDB[Vorname],\"NA\",0))","v":""},{"$f":"IF(ISBLANK(SRDB4[[#This Row],[SR-Nr]]),\"\",_xlfn.XLOOKUP(SRDB4[[#This Row],[SR-Nr]],SRDB[SR-Nr.],SRDB[Name],\"NA\",0))","v":""},{"$f":"IF(ISBLANK(SRDB4[[#This Row],[SR-Nr]]),\"\",IF(COUNTIF(Registration!$A$7:$A$204,SRDB4[[#This Row],[SR-Nr]])=1,TRUE,FALSE))","v":""}]
[null,{"$f":"IF(ISBLANK(SRDB4[[#This Row],[SR-Nr]]),\"\",_xlfn.XLOOKUP(SRDB4[[#This Row],[SR-Nr]],SRDB[SR-Nr.],SRDB[Vorname],\"NA\",0))","v":""},{"$f":"IF(ISBLANK(SRDB4[[#This Row],[SR-Nr]]),\"\",_xlfn.XLOOKUP(SRDB4[[#This Row],[SR-Nr]],SRDB[SR-Nr.],SRDB[Name],\"NA\",0))","v":""},{"$f":"IF(ISBLANK(SRDB4[[#This Row],[SR-Nr]]),\"\",IF(COUNTIF(Registration!$A$7:$A$204,SRDB4[[#This Row],[SR-Nr]])=1,TRUE,FALSE))","v":""}]
[null,{"$f":"IF(ISBLANK(SRDB4[[#This Row],[SR-Nr]]),\"\",_xlfn.XLOOKUP(SRDB4[[#This Row],[SR-Nr]],SRDB[SR-Nr.],SRDB[Vorname],\"NA\",0))","v":""},{"$f":"IF(ISBLANK(SRDB4[[#This Row],[SR-Nr]]),\"\",_xlfn.XLOOKUP(SRDB4[[#This Row],[SR-Nr]],SRDB[SR-Nr.],SRDB[Name],\"NA\",0))","v":""},{"$f":"IF(ISBLANK(SRDB4[[#This Row],[SR-Nr]]),\"\",IF(COUNTIF(Registration!$A$7:$A$204,SRDB4[[#This Row],[SR-Nr]])=1,TRUE,FALSE))","v":""}]
[null,{"$f":"IF(ISBLANK(SRDB4[[#This Row],[SR-Nr]]),\"\",_xlfn.XLOOKUP(SRDB4[[#This Row],[SR-Nr]],SRDB[SR-Nr.],SRDB[Vorname],\"NA\",0))","v":""},{"$f":"IF(ISBLANK(SRDB4[[#This Row],[SR-Nr]]),\"\",_xlfn.XLOOKUP(SRDB4[[#This Row],[SR-Nr]],SRDB[SR-Nr.],SRDB[Name],\"NA\",0))","v":""},{"$f":"IF(ISBLANK(SRDB4[[#This Row],[SR-Nr]]),\"\",IF(COUNTIF(Registration!$A$7:$A$204,SRDB4[[#This Row],[SR-Nr]])=1,TRUE,FALSE))","v":""}]
[null,{"$f":"IF(ISBLANK(SRDB4[[#This Row],[SR-Nr]]),\"\",_xlfn.XLOOKUP(SRDB4[[#This Row],[SR-Nr]],SRDB[SR-Nr.],SRDB[Vorname],\"NA\",0))","v":""},{"$f":"IF(ISBLANK(SRDB4[[#This Row],[SR-Nr]]),\"\",_xlfn.XLOOKUP(SRDB4[[#This Row],[SR-Nr]],SRDB[SR-Nr.],SRDB[Name],\"NA\",0))","v":""},{"$f":"IF(ISBLANK(SRDB4[[#This Row],[SR-Nr]]),\"\",IF(COUNTIF(Registration!$A$7:$A$204,SRDB4[[#This Row],[SR-Nr]])=1,TRUE,FALSE))","v":""}]
[null,{"$f":"IF(ISBLANK(SRDB4[[#This Row],[SR-Nr]]),\"\",_xlfn.XLOOKUP(SRDB4[[#This Row],[SR-Nr]],SRDB[SR-Nr.],SRDB[Vorname],\"NA\",0))","v":""},{"$f":"IF(ISBLANK(SRDB4[[#This Row],[SR-Nr]]),\"\",_xlfn.XLOOKUP(SRDB4[[#This Row],[SR-Nr]],SRDB[SR-Nr.],SRDB[Name],\"NA\",0))","v":""},{"$f":"IF(ISBLANK(SRDB4[[#This Row],[SR-Nr]]),\"\",IF(COUNTIF(Registration!$A$7:$A$204,SRDB4[[#This Row],[SR-Nr]])=1,TRUE,FALSE))","v":""}]
[null,{"$f":"IF(ISBLANK(SRDB4[[#This Row],[SR-Nr]]),\"\",_xlfn.XLOOKUP(SRDB4[[#This Row],[SR-Nr]],SRDB[SR-Nr.],SRDB[Vorname],\"NA\",0))","v":""},{"$f":"IF(ISBLANK(SRDB4[[#This Row],[SR-Nr]]),\"\",_xlfn.XLOOKUP(SRDB4[[#This Row],[SR-Nr]],SRDB[SR-Nr.],SRDB[Name],\"NA\",0))","v":""},{"$f":"IF(ISBLANK(SRDB4[[#This Row],[SR-Nr]]),\"\",IF(COUNTIF(Registration!$A$7:$A$204,SRDB4[[#This Row],[SR-Nr]])=1,TRUE,FALSE))","v":""}]
[null,{"$f":"IF(ISBLANK(SRDB4[[#This Row],[SR-Nr]]),\"\",_xlfn.XLOOKUP(SRDB4[[#This Row],[SR-Nr]],SRDB[SR-Nr.],SRDB[Vorname],\"NA\",0))","v":""},{"$f":"IF(ISBLANK(SRDB4[[#This Row],[SR-Nr]]),\"\",_xlfn.XLOOKUP(SRDB4[[#This Row],[SR-Nr]],SRDB[SR-Nr.],SRDB[Name],\"NA\",0))","v":""},{"$f":"IF(ISBLANK(SRDB4[[#This Row],[SR-Nr]]),\"\",IF(COUNTIF(Registration!$A$7:$A$204,SRDB4[[#This Row],[SR-Nr]])=1,TRUE,FALSE))","v":""}]
[null,{"$f":"IF(ISBLANK(SRDB4[[#This Row],[SR-Nr]]),\"\",_xlfn.XLOOKUP(SRDB4[[#This Row],[SR-Nr]],SRDB[SR-Nr.],SRDB[Vorname],\"NA\",0))","v":""},{"$f":"IF(ISBLANK(SRDB4[[#This Row],[SR-Nr]]),\"\",_xlfn.XLOOKUP(SRDB4[[#This Row],[SR-Nr]],SRDB[SR-Nr.],SRDB[Name],\"NA\",0))","v":""},{"$f":"IF(ISBLANK(SRDB4[[#This Row],[SR-Nr]]),\"\",IF(COUNTIF(Registration!$A$7:$A$204,SRDB4[[#This Row],[SR-Nr]])=1,TRUE,FALSE))","v":""}]
[null,{"$f":"IF(ISBLANK(SRDB4[[#This Row],[SR-Nr]]),\"\",_xlfn.XLOOKUP(SRDB4[[#This Row],[SR-Nr]],SRDB[SR-Nr.],SRDB[Vorname],\"NA\",0))","v":""},{"$f":"IF(ISBLANK(SRDB4[[#This Row],[SR-Nr]]),\"\",_xlfn.XLOOKUP(SRDB4[[#This Row],[SR-Nr]],SRDB[SR-Nr.],SRDB[Name],\"NA\",0))","v":""},{"$f":"IF(ISBLANK(SRDB4[[#This Row],[SR-Nr]]),\"\",IF(COUNTIF(Registration!$A$7:$A$204,SRDB4[[#This Row],[SR-Nr]])=1,TRUE,FALSE))","v":""}]
[null,{"$f":"IF(ISBLANK(SRDB4[[#This Row],[SR-Nr]]),\"\",_xlfn.XLOOKUP(SRDB4[[#This Row],[SR-Nr]],SRDB[SR-Nr.],SRDB[Vorname],\"NA\",0))","v":""},{"$f":"IF(ISBLANK(SRDB4[[#This Row],[SR-Nr]]),\"\",_xlfn.XLOOKUP(SRDB4[[#This Row],[SR-Nr]],SRDB[SR-Nr.],SRDB[Name],\"NA\",0))","v":""},{"$f":"IF(ISBLANK(SRDB4[[#This Row],[SR-Nr]]),\"\",IF(COUNTIF(Registration!$A$7:$A$204,SRDB4[[#This Row],[SR-Nr]])=1,TRUE,FALSE))","v":""}]
[null,{"$f":"IF(ISBLANK(SRDB4[[#This Row],[SR-Nr]]),\"\",_xlfn.XLOOKUP(SRDB4[[#This Row],[SR-Nr]],SRDB[SR-Nr.],SRDB[Vorname],\"NA\",0))","v":""},{"$f":"IF(ISBLANK(SRDB4[[#This Row],[SR-Nr]]),\"\",_xlfn.XLOOKUP(SRDB4[[#This Row],[SR-Nr]],SRDB[SR-Nr.],SRDB[Name],\"NA\",0))","v":""},{"$f":"IF(ISBLANK(SRDB4[[#This Row],[SR-Nr]]),\"\",IF(COUNTIF(Registration!$A$7:$A$204,SRDB4[[#This Row],[SR-Nr]])=1,TRUE,FALSE))","v":""}]
[null,{"$f":"IF(ISBLANK(SRDB4[[#This Row],[SR-Nr]]),\"\",_xlfn.XLOOKUP(SRDB4[[#This Row],[SR-Nr]],SRDB[SR-Nr.],SRDB[Vorname],\"NA\",0))","v":""},{"$f":"IF(ISBLANK(SRDB4[[#This Row],[SR-Nr]]),\"\",_xlfn.XLOOKUP(SRDB4[[#This Row],[SR-Nr]],SRDB[SR-Nr.],SRDB[Name],\"NA\",0))","v":""},{"$f":"IF(ISBLANK(SRDB4[[#This Row],[SR-Nr]]),\"\",IF(COUNTIF(Registration!$A$7:$A$204,SRDB4[[#This Row],[SR-Nr]])=1,TRUE,FALSE))","v":""}]
[null,{"$f":"IF(ISBLANK(SRDB4[[#This Row],[SR-Nr]]),\"\",_xlfn.XLOOKUP(SRDB4[[#This Row],[SR-Nr]],SRDB[SR-Nr.],SRDB[Vorname],\"NA\",0))","v":""},{"$f":"IF(ISBLANK(SRDB4[[#This Row],[SR-Nr]]),\"\",_xlfn.XLOOKUP(SRDB4[[#This Row],[SR-Nr]],SRDB[SR-Nr.],SRDB[Name],\"NA\",0))","v":""},{"$f":"IF(ISBLANK(SRDB4[[#This Row],[SR-Nr]]),\"\",IF(COUNTIF(Registration!$A$7:$A$204,SRDB4[[#This Row],[SR-Nr]])=1,TRUE,FALSE))","v":""}]
[null,{"$f":"IF(ISBLANK(SRDB4[[#This Row],[SR-Nr]]),\"\",_xlfn.XLOOKUP(SRDB4[[#This Row],[SR-Nr]],SRDB[SR-Nr.],SRDB[Vorname],\"NA\",0))","v":""},{"$f":"IF(ISBLANK(SRDB4[[#This Row],[SR-Nr]]),\"\",_xlfn.XLOOKUP(SRDB4[[#This Row],[SR-Nr]],SRDB[SR-Nr.],SRDB[Name],\"NA\",0))","v":""},{"$f":"IF(ISBLANK(SRDB4[[#This Row],[SR-Nr]]),\"\",IF(COUNTIF(Registration!$A$7:$A$204,SRDB4[[#This Row],[SR-Nr]])=1,TRUE,FALSE))","v":""}]
[null,{"$f":"IF(ISBLANK(SRDB4[[#This Row],[SR-Nr]]),\"\",_xlfn.XLOOKUP(SRDB4[[#This Row],[SR-Nr]],SRDB[SR-Nr.],SRDB[Vorname],\"NA\",0))","v":""},{"$f":"IF(ISBLANK(SRDB4[[#This Row],[SR-Nr]]),\"\",_xlfn.XLOOKUP(SRDB4[[#This Row],[SR-Nr]],SRDB[SR-Nr.],SRDB[Name],\"NA\",0))","v":""},{"$f":"IF(ISBLANK(SRDB4[[#This Row],[SR-Nr]]),\"\",IF(COUNTIF(Registration!$A$7:$A$204,SRDB4[[#This Row],[SR-Nr]])=1,TRUE,FALSE))","v":""}]
[null,{"$f":"IF(ISBLANK(SRDB4[[#This Row],[SR-Nr]]),\"\",_xlfn.XLOOKUP(SRDB4[[#This Row],[SR-Nr]],SRDB[SR-Nr.],SRDB[Vorname],\"NA\",0))","v":""},{"$f":"IF(ISBLANK(SRDB4[[#This Row],[SR-Nr]]),\"\",_xlfn.XLOOKUP(SRDB4[[#This Row],[SR-Nr]],SRDB[SR-Nr.],SRDB[Name],\"NA\",0))","v":""},{"$f":"IF(ISBLANK(SRDB4[[#This Row],[SR-Nr]]),\"\",IF(COUNTIF(Registration!$A$7:$A$204,SRDB4[[#This Row],[SR-Nr]])=1,TRUE,FALSE))","v":""}]
[null,{"$f":"IF(ISBLANK(SRDB4[[#This Row],[SR-Nr]]),\"\",_xlfn.XLOOKUP(SRDB4[[#This Row],[SR-Nr]],SRDB[SR-Nr.],SRDB[Vorname],\"NA\",0))","v":""},{"$f":"IF(ISBLANK(SRDB4[[#This Row],[SR-Nr]]),\"\",_xlfn.XLOOKUP(SRDB4[[#This Row],[SR-Nr]],SRDB[SR-Nr.],SRDB[Name],\"NA\",0))","v":""},{"$f":"IF(ISBLANK(SRDB4[[#This Row],[SR-Nr]]),\"\",IF(COUNTIF(Registration!$A$7:$A$204,SRDB4[[#This Row],[SR-Nr]])=1,TRUE,FALSE))","v":""}]
[null,{"$f":"IF(ISBLANK(SRDB4[[#This Row],[SR-Nr]]),\"\",_xlfn.XLOOKUP(SRDB4[[#This Row],[SR-Nr]],SRDB[SR-Nr.],SRDB[Vorname],\"NA\",0))","v":""},{"$f":"IF(ISBLANK(SRDB4[[#This Row],[SR-Nr]]),\"\",_xlfn.XLOOKUP(SRDB4[[#This Row],[SR-Nr]],SRDB[SR-Nr.],SRDB[Name],\"NA\",0))","v":""},{"$f":"IF(ISBLANK(SRDB4[[#This Row],[SR-Nr]]),\"\",IF(COUNTIF(Registration!$A$7:$A$204,SRDB4[[#This Row],[SR-Nr]])=1,TRUE,FALSE))","v":""}]
[null,{"$f":"IF(ISBLANK(SRDB4[[#This Row],[SR-Nr]]),\"\",_xlfn.XLOOKUP(SRDB4[[#This Row],[SR-Nr]],SRDB[SR-Nr.],SRDB[Vorname],\"NA\",0))","v":""},{"$f":"IF(ISBLANK(SRDB4[[#This Row],[SR-Nr]]),\"\",_xlfn.XLOOKUP(SRDB4[[#This Row],[SR-Nr]],SRDB[SR-Nr.],SRDB[Name],\"NA\",0))","v":""},{"$f":"IF(ISBLANK(SRDB4[[#This Row],[SR-Nr]]),\"\",IF(COUNTIF(Registration!$A$7:$A$204,SRDB4[[#This Row],[SR-Nr]])=1,TRUE,FALSE))","v":""}]
[null,{"$f":"IF(ISBLANK(SRDB4[[#This Row],[SR-Nr]]),\"\",_xlfn.XLOOKUP(SRDB4[[#This Row],[SR-Nr]],SRDB[SR-Nr.],SRDB[Vorname],\"NA\",0))","v":""},{"$f":"IF(ISBLANK(SRDB4[[#This Row],[SR-Nr]]),\"\",_xlfn.XLOOKUP(SRDB4[[#This Row],[SR-Nr]],SRDB[SR-Nr.],SRDB[Name],\"NA\",0))","v":""},{"$f":"IF(ISBLANK(SRDB4[[#This Row],[SR-Nr]]),\"\",IF(COUNTIF(Registration!$A$7:$A$204,SRDB4[[#This Row],[SR-Nr]])=1,TRUE,FALSE))","v":""}]
[null,{"$f":"IF(ISBLANK(SRDB4[[#This Row],[SR-Nr]]),\"\",_xlfn.XLOOKUP(SRDB4[[#This Row],[SR-Nr]],SRDB[SR-Nr.],SRDB[Vorname],\"NA\",0))","v":""},{"$f":"IF(ISBLANK(SRDB4[[#This Row],[SR-Nr]]),\"\",_xlfn.XLOOKUP(SRDB4[[#This Row],[SR-Nr]],SRDB[SR-Nr.],SRDB[Name],\"NA\",0))","v":""},{"$f":"IF(ISBLANK(SRDB4[[#This Row],[SR-Nr]]),\"\",IF(COUNTIF(Registration!$A$7:$A$204,SRDB4[[#This Row],[SR-Nr]])=1,TRUE,FALSE))","v":""}]
[null,{"$f":"IF(ISBLANK(SRDB4[[#This Row],[SR-Nr]]),\"\",_xlfn.XLOOKUP(SRDB4[[#This Row],[SR-Nr]],SRDB[SR-Nr.],SRDB[Vorname],\"NA\",0))","v":""},{"$f":"IF(ISBLANK(SRDB4[[#This Row],[SR-Nr]]),\"\",_xlfn.XLOOKUP(SRDB4[[#This Row],[SR-Nr]],SRDB[SR-Nr.],SRDB[Name],\"NA\",0))","v":""},{"$f":"IF(ISBLANK(SRDB4[[#This Row],[SR-Nr]]),\"\",IF(COUNTIF(Registration!$A$7:$A$204,SRDB4[[#This Row],[SR-Nr]])=1,TRUE,FALSE))","v":""}]
[null,{"$f":"IF(ISBLANK(SRDB4[[#This Row],[SR-Nr]]),\"\",_xlfn.XLOOKUP(SRDB4[[#This Row],[SR-Nr]],SRDB[SR-Nr.],SRDB[Vorname],\"NA\",0))","v":""},{"$f":"IF(ISBLANK(SRDB4[[#This Row],[SR-Nr]]),\"\",_xlfn.XLOOKUP(SRDB4[[#This Row],[SR-Nr]],SRDB[SR-Nr.],SRDB[Name],\"NA\",0))","v":""},{"$f":"IF(ISBLANK(SRDB4[[#This Row],[SR-Nr]]),\"\",IF(COUNTIF(Registration!$A$7:$A$204,SRDB4[[#This Row],[SR-Nr]])=1,TRUE,FALSE))","v":""}]
[null,{"$f":"IF(ISBLANK(SRDB4[[#This Row],[SR-Nr]]),\"\",_xlfn.XLOOKUP(SRDB4[[#This Row],[SR-Nr]],SRDB[SR-Nr.],SRDB[Vorname],\"NA\",0))","v":""},{"$f":"IF(ISBLANK(SRDB4[[#This Row],[SR-Nr]]),\"\",_xlfn.XLOOKUP(SRDB4[[#This Row],[SR-Nr]],SRDB[SR-Nr.],SRDB[Name],\"NA\",0))","v":""},{"$f":"IF(ISBLANK(SRDB4[[#This Row],[SR-Nr]]),\"\",IF(COUNTIF(Registration!$A$7:$A$204,SRDB4[[#This Row],[SR-Nr]])=1,TRUE,FALSE))","v":""}]
[null,{"$f":"IF(ISBLANK(SRDB4[[#This Row],[SR-Nr]]),\"\",_xlfn.XLOOKUP(SRDB4[[#This Row],[SR-Nr]],SRDB[SR-Nr.],SRDB[Vorname],\"NA\",0))","v":""},{"$f":"IF(ISBLANK(SRDB4[[#This Row],[SR-Nr]]),\"\",_xlfn.XLOOKUP(SRDB4[[#This Row],[SR-Nr]],SRDB[SR-Nr.],SRDB[Name],\"NA\",0))","v":""},{"$f":"IF(ISBLANK(SRDB4[[#This Row],[SR-Nr]]),\"\",IF(COUNTIF(Registration!$A$7:$A$204,SRDB4[[#This Row],[SR-Nr]])=1,TRUE,FALSE))","v":""}]
[null,{"$f":"IF(ISBLANK(SRDB4[[#This Row],[SR-Nr]]),\"\",_xlfn.XLOOKUP(SRDB4[[#This Row],[SR-Nr]],SRDB[SR-Nr.],SRDB[Vorname],\"NA\",0))","v":""},{"$f":"IF(ISBLANK(SRDB4[[#This Row],[SR-Nr]]),\"\",_xlfn.XLOOKUP(SRDB4[[#This Row],[SR-Nr]],SRDB[SR-Nr.],SRDB[Name],\"NA\",0))","v":""},{"$f":"IF(ISBLANK(SRDB4[[#This Row],[SR-Nr]]),\"\",IF(COUNTIF(Registration!$A$7:$A$204,SRDB4[[#This Row],[SR-Nr]])=1,TRUE,FALSE))","v":""}]
[null,{"$f":"IF(ISBLANK(SRDB4[[#This Row],[SR-Nr]]),\"\",_xlfn.XLOOKUP(SRDB4[[#This Row],[SR-Nr]],SRDB[SR-Nr.],SRDB[Vorname],\"NA\",0))","v":""},{"$f":"IF(ISBLANK(SRDB4[[#This Row],[SR-Nr]]),\"\",_xlfn.XLOOKUP(SRDB4[[#This Row],[SR-Nr]],SRDB[SR-Nr.],SRDB[Name],\"NA\",0))","v":""},{"$f":"IF(ISBLANK(SRDB4[[#This Row],[SR-Nr]]),\"\",IF(COUNTIF(Registration!$A$7:$A$204,SRDB4[[#This Row],[SR-Nr]])=1,TRUE,FALSE))","v":""}]
[null,{"$f":"IF(ISBLANK(SRDB4[[#This Row],[SR-Nr]]),\"\",_xlfn.XLOOKUP(SRDB4[[#This Row],[SR-Nr]],SRDB[SR-Nr.],SRDB[Vorname],\"NA\",0))","v":""},{"$f":"IF(ISBLANK(SRDB4[[#This Row],[SR-Nr]]),\"\",_xlfn.XLOOKUP(SRDB4[[#This Row],[SR-Nr]],SRDB[SR-Nr.],SRDB[Name],\"NA\",0))","v":""},{"$f":"IF(ISBLANK(SRDB4[[#This Row],[SR-Nr]]),\"\",IF(COUNTIF(Registration!$A$7:$A$204,SRDB4[[#This Row],[SR-Nr]])=1,TRUE,FALSE))","v":""}]
[null,{"$f":"IF(ISBLANK(SRDB4[[#This Row],[SR-Nr]]),\"\",_xlfn.XLOOKUP(SRDB4[[#This Row],[SR-Nr]],SRDB[SR-Nr.],SRDB[Vorname],\"NA\",0))","v":""},{"$f":"IF(ISBLANK(SRDB4[[#This Row],[SR-Nr]]),\"\",_xlfn.XLOOKUP(SRDB4[[#This Row],[SR-Nr]],SRDB[SR-Nr.],SRDB[Name],\"NA\",0))","v":""},{"$f":"IF(ISBLANK(SRDB4[[#This Row],[SR-Nr]]),\"\",IF(COUNTIF(Registration!$A$7:$A$204,SRDB4[[#This Row],[SR-Nr]])=1,TRUE,FALSE))","v":""}]
[null,{"$f":"IF(ISBLANK(SRDB4[[#This Row],[SR-Nr]]),\"\",_xlfn.XLOOKUP(SRDB4[[#This Row],[SR-Nr]],SRDB[SR-Nr.],SRDB[Vorname],\"NA\",0))","v":""},{"$f":"IF(ISBLANK(SRDB4[[#This Row],[SR-Nr]]),\"\",_xlfn.XLOOKUP(SRDB4[[#This Row],[SR-Nr]],SRDB[SR-Nr.],SRDB[Name],\"NA\",0))","v":""},{"$f":"IF(ISBLANK(SRDB4[[#This Row],[SR-Nr]]),\"\",IF(COUNTIF(Registration!$A$7:$A$204,SRDB4[[#This Row],[SR-Nr]])=1,TRUE,FALSE))","v":""}]
[null,{"$f":"IF(ISBLANK(SRDB4[[#This Row],[SR-Nr]]),\"\",_xlfn.XLOOKUP(SRDB4[[#This Row],[SR-Nr]],SRDB[SR-Nr.],SRDB[Vorname],\"NA\",0))","v":""},{"$f":"IF(ISBLANK(SRDB4[[#This Row],[SR-Nr]]),\"\",_xlfn.XLOOKUP(SRDB4[[#This Row],[SR-Nr]],SRDB[SR-Nr.],SRDB[Name],\"NA\",0))","v":""},{"$f":"IF(ISBLANK(SRDB4[[#This Row],[SR-Nr]]),\"\",IF(COUNTIF(Registration!$A$7:$A$204,SRDB4[[#This Row],[SR-Nr]])=1,TRUE,FALSE))","v":""}]
[null,{"$f":"IF(ISBLANK(SRDB4[[#This Row],[SR-Nr]]),\"\",_xlfn.XLOOKUP(SRDB4[[#This Row],[SR-Nr]],SRDB[SR-Nr.],SRDB[Vorname],\"NA\",0))","v":""},{"$f":"IF(ISBLANK(SRDB4[[#This Row],[SR-Nr]]),\"\",_xlfn.XLOOKUP(SRDB4[[#This Row],[SR-Nr]],SRDB[SR-Nr.],SRDB[Name],\"NA\",0))","v":""},{"$f":"IF(ISBLANK(SRDB4[[#This Row],[SR-Nr]]),\"\",IF(COUNTIF(Registration!$A$7:$A$204,SRDB4[[#This Row],[SR-Nr]])=1,TRUE,FALSE))","v":""}]
[null,{"$f":"IF(ISBLANK(SRDB4[[#This Row],[SR-Nr]]),\"\",_xlfn.XLOOKUP(SRDB4[[#This Row],[SR-Nr]],SRDB[SR-Nr.],SRDB[Vorname],\"NA\",0))","v":""},{"$f":"IF(ISBLANK(SRDB4[[#This Row],[SR-Nr]]),\"\",_xlfn.XLOOKUP(SRDB4[[#This Row],[SR-Nr]],SRDB[SR-Nr.],SRDB[Name],\"NA\",0))","v":""},{"$f":"IF(ISBLANK(SRDB4[[#This Row],[SR-Nr]]),\"\",IF(COUNTIF(Registration!$A$7:$A$204,SRDB4[[#This Row],[SR-Nr]])=1,TRUE,FALSE))","v":""}]
[null,{"$f":"IF(ISBLANK(SRDB4[[#This Row],[SR-Nr]]),\"\",_xlfn.XLOOKUP(SRDB4[[#This Row],[SR-Nr]],SRDB[SR-Nr.],SRDB[Vorname],\"NA\",0))","v":""},{"$f":"IF(ISBLANK(SRDB4[[#This Row],[SR-Nr]]),\"\",_xlfn.XLOOKUP(SRDB4[[#This Row],[SR-Nr]],SRDB[SR-Nr.],SRDB[Name],\"NA\",0))","v":""},{"$f":"IF(ISBLANK(SRDB4[[#This Row],[SR-Nr]]),\"\",IF(COUNTIF(Registration!$A$7:$A$204,SRDB4[[#This Row],[SR-Nr]])=1,TRUE,FALSE))","v":""}]
[null,{"$f":"IF(ISBLANK(SRDB4[[#This Row],[SR-Nr]]),\"\",_xlfn.XLOOKUP(SRDB4[[#This Row],[SR-Nr]],SRDB[SR-Nr.],SRDB[Vorname],\"NA\",0))","v":""},{"$f":"IF(ISBLANK(SRDB4[[#This Row],[SR-Nr]]),\"\",_xlfn.XLOOKUP(SRDB4[[#This Row],[SR-Nr]],SRDB[SR-Nr.],SRDB[Name],\"NA\",0))","v":""},{"$f":"IF(ISBLANK(SRDB4[[#This Row],[SR-Nr]]),\"\",IF(COUNTIF(Registration!$A$7:$A$204,SRDB4[[#This Row],[SR-Nr]])=1,TRUE,FALSE))","v":""}]
[null,{"$f":"IF(ISBLANK(SRDB4[[#This Row],[SR-Nr]]),\"\",_xlfn.XLOOKUP(SRDB4[[#This Row],[SR-Nr]],SRDB[SR-Nr.],SRDB[Vorname],\"NA\",0))","v":""},{"$f":"IF(ISBLANK(SRDB4[[#This Row],[SR-Nr]]),\"\",_xlfn.XLOOKUP(SRDB4[[#This Row],[SR-Nr]],SRDB[SR-Nr.],SRDB[Name],\"NA\",0))","v":""},{"$f":"IF(ISBLANK(SRDB4[[#This Row],[SR-Nr]]),\"\",IF(COUNTIF(Registration!$A$7:$A$204,SRDB4[[#This Row],[SR-Nr]])=1,TRUE,FALSE))","v":""}]
[null,{"$f":"IF(ISBLANK(SRDB4[[#This Row],[SR-Nr]]),\"\",_xlfn.XLOOKUP(SRDB4[[#This Row],[SR-Nr]],SRDB[SR-Nr.],SRDB[Vorname],\"NA\",0))","v":""},{"$f":"IF(ISBLANK(SRDB4[[#This Row],[SR-Nr]]),\"\",_xlfn.XLOOKUP(SRDB4[[#This Row],[SR-Nr]],SRDB[SR-Nr.],SRDB[Name],\"NA\",0))","v":""},{"$f":"IF(ISBLANK(SRDB4[[#This Row],[SR-Nr]]),\"\",IF(COUNTIF(Registration!$A$7:$A$204,SRDB4[[#This Row],[SR-Nr]])=1,TRUE,FALSE))","v":""}]
[null,{"$f":"IF(ISBLANK(SRDB4[[#This Row],[SR-Nr]]),\"\",_xlfn.XLOOKUP(SRDB4[[#This Row],[SR-Nr]],SRDB[SR-Nr.],SRDB[Vorname],\"NA\",0))","v":""},{"$f":"IF(ISBLANK(SRDB4[[#This Row],[SR-Nr]]),\"\",_xlfn.XLOOKUP(SRDB4[[#This Row],[SR-Nr]],SRDB[SR-Nr.],SRDB[Name],\"NA\",0))","v":""},{"$f":"IF(ISBLANK(SRDB4[[#This Row],[SR-Nr]]),\"\",IF(COUNTIF(Registration!$A$7:$A$204,SRDB4[[#This Row],[SR-Nr]])=1,TRUE,FALSE))","v":""}]
[null,{"$f":"IF(ISBLANK(SRDB4[[#This Row],[SR-Nr]]),\"\",_xlfn.XLOOKUP(SRDB4[[#This Row],[SR-Nr]],SRDB[SR-Nr.],SRDB[Vorname],\"NA\",0))","v":""},{"$f":"IF(ISBLANK(SRDB4[[#This Row],[SR-Nr]]),\"\",_xlfn.XLOOKUP(SRDB4[[#This Row],[SR-Nr]],SRDB[SR-Nr.],SRDB[Name],\"NA\",0))","v":""},{"$f":"IF(ISBLANK(SRDB4[[#This Row],[SR-Nr]]),\"\",IF(COUNTIF(Registration!$A$7:$A$204,SRDB4[[#This Row],[SR-Nr]])=1,TRUE,FALSE))","v":""}]
[null,{"$f":"IF(ISBLANK(SRDB4[[#This Row],[SR-Nr]]),\"\",_xlfn.XLOOKUP(SRDB4[[#This Row],[SR-Nr]],SRDB[SR-Nr.],SRDB[Vorname],\"NA\",0))","v":""},{"$f":"IF(ISBLANK(SRDB4[[#This Row],[SR-Nr]]),\"\",_xlfn.XLOOKUP(SRDB4[[#This Row],[SR-Nr]],SRDB[SR-Nr.],SRDB[Name],\"NA\",0))","v":""},{"$f":"IF(ISBLANK(SRDB4[[#This Row],[SR-Nr]]),\"\",IF(COUNTIF(Registration!$A$7:$A$204,SRDB4[[#This Row],[SR-Nr]])=1,TRUE,FALSE))","v":""}]
[null,{"$f":"IF(ISBLANK(SRDB4[[#This Row],[SR-Nr]]),\"\",_xlfn.XLOOKUP(SRDB4[[#This Row],[SR-Nr]],SRDB[SR-Nr.],SRDB[Vorname],\"NA\",0))","v":""},{"$f":"IF(ISBLANK(SRDB4[[#This Row],[SR-Nr]]),\"\",_xlfn.XLOOKUP(SRDB4[[#This Row],[SR-Nr]],SRDB[SR-Nr.],SRDB[Name],\"NA\",0))","v":""},{"$f":"IF(ISBLANK(SRDB4[[#This Row],[SR-Nr]]),\"\",IF(COUNTIF(Registration!$A$7:$A$204,SRDB4[[#This Row],[SR-Nr]])=1,TRUE,FALSE))","v":""}]
[null,{"$f":"IF(ISBLANK(SRDB4[[#This Row],[SR-Nr]]),\"\",_xlfn.XLOOKUP(SRDB4[[#This Row],[SR-Nr]],SRDB[SR-Nr.],SRDB[Vorname],\"NA\",0))","v":""},{"$f":"IF(ISBLANK(SRDB4[[#This Row],[SR-Nr]]),\"\",_xlfn.XLOOKUP(SRDB4[[#This Row],[SR-Nr]],SRDB[SR-Nr.],SRDB[Name],\"NA\",0))","v":""},{"$f":"IF(ISBLANK(SRDB4[[#This Row],[SR-Nr]]),\"\",IF(COUNTIF(Registration!$A$7:$A$204,SRDB4[[#This Row],[SR-Nr]])=1,TRUE,FALSE))","v":""}]
[null,{"$f":"IF(ISBLANK(SRDB4[[#This Row],[SR-Nr]]),\"\",_xlfn.XLOOKUP(SRDB4[[#This Row],[SR-Nr]],SRDB[SR-Nr.],SRDB[Vorname],\"NA\",0))","v":""},{"$f":"IF(ISBLANK(SRDB4[[#This Row],[SR-Nr]]),\"\",_xlfn.XLOOKUP(SRDB4[[#This Row],[SR-Nr]],SRDB[SR-Nr.],SRDB[Name],\"NA\",0))","v":""},{"$f":"IF(ISBLANK(SRDB4[[#This Row],[SR-Nr]]),\"\",IF(COUNTIF(Registration!$A$7:$A$204,SRDB4[[#This Row],[SR-Nr]])=1,TRUE,FALSE))","v":""}]
[null,{"$f":"IF(ISBLANK(SRDB4[[#This Row],[SR-Nr]]),\"\",_xlfn.XLOOKUP(SRDB4[[#This Row],[SR-Nr]],SRDB[SR-Nr.],SRDB[Vorname],\"NA\",0))","v":""},{"$f":"IF(ISBLANK(SRDB4[[#This Row],[SR-Nr]]),\"\",_xlfn.XLOOKUP(SRDB4[[#This Row],[SR-Nr]],SRDB[SR-Nr.],SRDB[Name],\"NA\",0))","v":""},{"$f":"IF(ISBLANK(SRDB4[[#This Row],[SR-Nr]]),\"\",IF(COUNTIF(Registration!$A$7:$A$204,SRDB4[[#This Row],[SR-Nr]])=1,TRUE,FALSE))","v":""}]
[null,{"$f":"IF(ISBLANK(SRDB4[[#This Row],[SR-Nr]]),\"\",_xlfn.XLOOKUP(SRDB4[[#This Row],[SR-Nr]],SRDB[SR-Nr.],SRDB[Vorname],\"NA\",0))","v":""},{"$f":"IF(ISBLANK(SRDB4[[#This Row],[SR-Nr]]),\"\",_xlfn.XLOOKUP(SRDB4[[#This Row],[SR-Nr]],SRDB[SR-Nr.],SRDB[Name],\"NA\",0))","v":""},{"$f":"IF(ISBLANK(SRDB4[[#This Row],[SR-Nr]]),\"\",IF(COUNTIF(Registration!$A$7:$A$204,SRDB4[[#This Row],[SR-Nr]])=1,TRUE,FALSE))","v":""}]
[null,{"$f":"IF(ISBLANK(SRDB4[[#This Row],[SR-Nr]]),\"\",_xlfn.XLOOKUP(SRDB4[[#This Row],[SR-Nr]],SRDB[SR-Nr.],SRDB[Vorname],\"NA\",0))","v":""},{"$f":"IF(ISBLANK(SRDB4[[#This Row],[SR-Nr]]),\"\",_xlfn.XLOOKUP(SRDB4[[#This Row],[SR-Nr]],SRDB[SR-Nr.],SRDB[Name],\"NA\",0))","v":""},{"$f":"IF(ISBLANK(SRDB4[[#This Row],[SR-Nr]]),\"\",IF(COUNTIF(Registration!$A$7:$A$204,SRDB4[[#This Row],[SR-Nr]])=1,TRUE,FALSE))","v":""}]
[null,{"$f":"IF(ISBLANK(SRDB4[[#This Row],[SR-Nr]]),\"\",_xlfn.XLOOKUP(SRDB4[[#This Row],[SR-Nr]],SRDB[SR-Nr.],SRDB[Vorname],\"NA\",0))","v":""},{"$f":"IF(ISBLANK(SRDB4[[#This Row],[SR-Nr]]),\"\",_xlfn.XLOOKUP(SRDB4[[#This Row],[SR-Nr]],SRDB[SR-Nr.],SRDB[Name],\"NA\",0))","v":""},{"$f":"IF(ISBLANK(SRDB4[[#This Row],[SR-Nr]]),\"\",IF(COUNTIF(Registration!$A$7:$A$204,SRDB4[[#This Row],[SR-Nr]])=1,TRUE,FALSE))","v":""}]
[null,{"$f":"IF(ISBLANK(SRDB4[[#This Row],[SR-Nr]]),\"\",_xlfn.XLOOKUP(SRDB4[[#This Row],[SR-Nr]],SRDB[SR-Nr.],SRDB[Vorname],\"NA\",0))","v":""},{"$f":"IF(ISBLANK(SRDB4[[#This Row],[SR-Nr]]),\"\",_xlfn.XLOOKUP(SRDB4[[#This Row],[SR-Nr]],SRDB[SR-Nr.],SRDB[Name],\"NA\",0))","v":""},{"$f":"IF(ISBLANK(SRDB4[[#This Row],[SR-Nr]]),\"\",IF(COUNTIF(Registration!$A$7:$A$204,SRDB4[[#This Row],[SR-Nr]])=1,TRUE,FALSE))","v":""}]
[null,{"$f":"IF(ISBLANK(SRDB4[[#This Row],[SR-Nr]]),\"\",_xlfn.XLOOKUP(SRDB4[[#This Row],[SR-Nr]],SRDB[SR-Nr.],SRDB[Vorname],\"NA\",0))","v":""},{"$f":"IF(ISBLANK(SRDB4[[#This Row],[SR-Nr]]),\"\",_xlfn.XLOOKUP(SRDB4[[#This Row],[SR-Nr]],SRDB[SR-Nr.],SRDB[Name],\"NA\",0))","v":""},{"$f":"IF(ISBLANK(SRDB4[[#This Row],[SR-Nr]]),\"\",IF(COUNTIF(Registration!$A$7:$A$204,SRDB4[[#This Row],[SR-Nr]])=1,TRUE,FALSE))","v":""}]
[null,{"$f":"IF(ISBLANK(SRDB4[[#This Row],[SR-Nr]]),\"\",_xlfn.XLOOKUP(SRDB4[[#This Row],[SR-Nr]],SRDB[SR-Nr.],SRDB[Vorname],\"NA\",0))","v":""},{"$f":"IF(ISBLANK(SRDB4[[#This Row],[SR-Nr]]),\"\",_xlfn.XLOOKUP(SRDB4[[#This Row],[SR-Nr]],SRDB[SR-Nr.],SRDB[Name],\"NA\",0))","v":""},{"$f":"IF(ISBLANK(SRDB4[[#This Row],[SR-Nr]]),\"\",IF(COUNTIF(Registration!$A$7:$A$204,SRDB4[[#This Row],[SR-Nr]])=1,TRUE,FALSE))","v":""}]
[null,{"$f":"IF(ISBLANK(SRDB4[[#This Row],[SR-Nr]]),\"\",_xlfn.XLOOKUP(SRDB4[[#This Row],[SR-Nr]],SRDB[SR-Nr.],SRDB[Vorname],\"NA\",0))","v":""},{"$f":"IF(ISBLANK(SRDB4[[#This Row],[SR-Nr]]),\"\",_xlfn.XLOOKUP(SRDB4[[#This Row],[SR-Nr]],SRDB[SR-Nr.],SRDB[Name],\"NA\",0))","v":""},{"$f":"IF(ISBLANK(SRDB4[[#This Row],[SR-Nr]]),\"\",IF(COUNTIF(Registration!$A$7:$A$204,SRDB4[[#This Row],[SR-Nr]])=1,TRUE,FALSE))","v":""}]
[null,{"$f":"IF(ISBLANK(SRDB4[[#This Row],[SR-Nr]]),\"\",_xlfn.XLOOKUP(SRDB4[[#This Row],[SR-Nr]],SRDB[SR-Nr.],SRDB[Vorname],\"NA\",0))","v":""},{"$f":"IF(ISBLANK(SRDB4[[#This Row],[SR-Nr]]),\"\",_xlfn.XLOOKUP(SRDB4[[#This Row],[SR-Nr]],SRDB[SR-Nr.],SRDB[Name],\"NA\",0))","v":""},{"$f":"IF(ISBLANK(SRDB4[[#This Row],[SR-Nr]]),\"\",IF(COUNTIF(Registration!$A$7:$A$204,SRDB4[[#This Row],[SR-Nr]])=1,TRUE,FALSE))","v":""}]
[null,{"$f":"IF(ISBLANK(SRDB4[[#This Row],[SR-Nr]]),\"\",_xlfn.XLOOKUP(SRDB4[[#This Row],[SR-Nr]],SRDB[SR-Nr.],SRDB[Vorname],\"NA\",0))","v":""},{"$f":"IF(ISBLANK(SRDB4[[#This Row],[SR-Nr]]),\"\",_xlfn.XLOOKUP(SRDB4[[#This Row],[SR-Nr]],SRDB[SR-Nr.],SRDB[Name],\"NA\",0))","v":""},{"$f":"IF(ISBLANK(SRDB4[[#This Row],[SR-Nr]]),\"\",IF(COUNTIF(Registration!$A$7:$A$204,SRDB4[[#This Row],[SR-Nr]])=1,TRUE,FALSE))","v":""}]
[null,{"$f":"IF(ISBLANK(SRDB4[[#This Row],[SR-Nr]]),\"\",_xlfn.XLOOKUP(SRDB4[[#This Row],[SR-Nr]],SRDB[SR-Nr.],SRDB[Vorname],\"NA\",0))","v":""},{"$f":"IF(ISBLANK(SRDB4[[#This Row],[SR-Nr]]),\"\",_xlfn.XLOOKUP(SRDB4[[#This Row],[SR-Nr]],SRDB[SR-Nr.],SRDB[Name],\"NA\",0))","v":""},{"$f":"IF(ISBLANK(SRDB4[[#This Row],[SR-Nr]]),\"\",IF(COUNTIF(Registration!$A$7:$A$204,SRDB4[[#This Row],[SR-Nr]])=1,TRUE,FALSE))","v":""}]
[null,{"$f":"IF(ISBLANK(SRDB4[[#This Row],[SR-Nr]]),\"\",_xlfn.XLOOKUP(SRDB4[[#This Row],[SR-Nr]],SRDB[SR-Nr.],SRDB[Vorname],\"NA\",0))","v":""},{"$f":"IF(ISBLANK(SRDB4[[#This Row],[SR-Nr]]),\"\",_xlfn.XLOOKUP(SRDB4[[#This Row],[SR-Nr]],SRDB[SR-Nr.],SRDB[Name],\"NA\",0))","v":""},{"$f":"IF(ISBLANK(SRDB4[[#This Row],[SR-Nr]]),\"\",IF(COUNTIF(Registration!$A$7:$A$204,SRDB4[[#This Row],[SR-Nr]])=1,TRUE,FALSE))","v":""}]
[null,{"$f":"IF(ISBLANK(SRDB4[[#This Row],[SR-Nr]]),\"\",_xlfn.XLOOKUP(SRDB4[[#This Row],[SR-Nr]],SRDB[SR-Nr.],SRDB[Vorname],\"NA\",0))","v":""},{"$f":"IF(ISBLANK(SRDB4[[#This Row],[SR-Nr]]),\"\",_xlfn.XLOOKUP(SRDB4[[#This Row],[SR-Nr]],SRDB[SR-Nr.],SRDB[Name],\"NA\",0))","v":""},{"$f":"IF(ISBLANK(SRDB4[[#This Row],[SR-Nr]]),\"\",IF(COUNTIF(Registration!$A$7:$A$204,SRDB4[[#This Row],[SR-Nr]])=1,TRUE,FALSE))","v":""}]
[null,{"$f":"IF(ISBLANK(SRDB4[[#This Row],[SR-Nr]]),\"\",_xlfn.XLOOKUP(SRDB4[[#This Row],[SR-Nr]],SRDB[SR-Nr.],SRDB[Vorname],\"NA\",0))","v":""},{"$f":"IF(ISBLANK(SRDB4[[#This Row],[SR-Nr]]),\"\",_xlfn.XLOOKUP(SRDB4[[#This Row],[SR-Nr]],SRDB[SR-Nr.],SRDB[Name],\"NA\",0))","v":""},{"$f":"IF(ISBLANK(SRDB4[[#This Row],[SR-Nr]]),\"\",IF(COUNTIF(Registration!$A$7:$A$204,SRDB4[[#This Row],[SR-Nr]])=1,TRUE,FALSE))","v":""}]
[null,{"$f":"IF(ISBLANK(SRDB4[[#This Row],[SR-Nr]]),\"\",_xlfn.XLOOKUP(SRDB4[[#This Row],[SR-Nr]],SRDB[SR-Nr.],SRDB[Vorname],\"NA\",0))","v":""},{"$f":"IF(ISBLANK(SRDB4[[#This Row],[SR-Nr]]),\"\",_xlfn.XLOOKUP(SRDB4[[#This Row],[SR-Nr]],SRDB[SR-Nr.],SRDB[Name],\"NA\",0))","v":""},{"$f":"IF(ISBLANK(SRDB4[[#This Row],[SR-Nr]]),\"\",IF(COUNTIF(Registration!$A$7:$A$204,SRDB4[[#This Row],[SR-Nr]])=1,TRUE,FALSE))","v":""}]
[null,{"$f":"IF(ISBLANK(SRDB4[[#This Row],[SR-Nr]]),\"\",_xlfn.XLOOKUP(SRDB4[[#This Row],[SR-Nr]],SRDB[SR-Nr.],SRDB[Vorname],\"NA\",0))","v":""},{"$f":"IF(ISBLANK(SRDB4[[#This Row],[SR-Nr]]),\"\",_xlfn.XLOOKUP(SRDB4[[#This Row],[SR-Nr]],SRDB[SR-Nr.],SRDB[Name],\"NA\",0))","v":""},{"$f":"IF(ISBLANK(SRDB4[[#This Row],[SR-Nr]]),\"\",IF(COUNTIF(Registration!$A$7:$A$204,SRDB4[[#This Row],[SR-Nr]])=1,TRUE,FALSE))","v":""}]
[null,{"$f":"IF(ISBLANK(SRDB4[[#This Row],[SR-Nr]]),\"\",_xlfn.XLOOKUP(SRDB4[[#This Row],[SR-Nr]],SRDB[SR-Nr.],SRDB[Vorname],\"NA\",0))","v":""},{"$f":"IF(ISBLANK(SRDB4[[#This Row],[SR-Nr]]),\"\",_xlfn.XLOOKUP(SRDB4[[#This Row],[SR-Nr]],SRDB[SR-Nr.],SRDB[Name],\"NA\",0))","v":""},{"$f":"IF(ISBLANK(SRDB4[[#This Row],[SR-Nr]]),\"\",IF(COUNTIF(Registration!$A$7:$A$204,SRDB4[[#This Row],[SR-Nr]])=1,TRUE,FALSE))","v":""}]
[null,{"$f":"IF(ISBLANK(SRDB4[[#This Row],[SR-Nr]]),\"\",_xlfn.XLOOKUP(SRDB4[[#This Row],[SR-Nr]],SRDB[SR-Nr.],SRDB[Vorname],\"NA\",0))","v":""},{"$f":"IF(ISBLANK(SRDB4[[#This Row],[SR-Nr]]),\"\",_xlfn.XLOOKUP(SRDB4[[#This Row],[SR-Nr]],SRDB[SR-Nr.],SRDB[Name],\"NA\",0))","v":""},{"$f":"IF(ISBLANK(SRDB4[[#This Row],[SR-Nr]]),\"\",IF(COUNTIF(Registration!$A$7:$A$204,SRDB4[[#This Row],[SR-Nr]])=1,TRUE,FALSE))","v":""}]
[null,{"$f":"IF(ISBLANK(SRDB4[[#This Row],[SR-Nr]]),\"\",_xlfn.XLOOKUP(SRDB4[[#This Row],[SR-Nr]],SRDB[SR-Nr.],SRDB[Vorname],\"NA\",0))","v":""},{"$f":"IF(ISBLANK(SRDB4[[#This Row],[SR-Nr]]),\"\",_xlfn.XLOOKUP(SRDB4[[#This Row],[SR-Nr]],SRDB[SR-Nr.],SRDB[Name],\"NA\",0))","v":""},{"$f":"IF(ISBLANK(SRDB4[[#This Row],[SR-Nr]]),\"\",IF(COUNTIF(Registration!$A$7:$A$204,SRDB4[[#This Row],[SR-Nr]])=1,TRUE,FALSE))","v":""}]
[null,{"$f":"IF(ISBLANK(SRDB4[[#This Row],[SR-Nr]]),\"\",_xlfn.XLOOKUP(SRDB4[[#This Row],[SR-Nr]],SRDB[SR-Nr.],SRDB[Vorname],\"NA\",0))","v":""},{"$f":"IF(ISBLANK(SRDB4[[#This Row],[SR-Nr]]),\"\",_xlfn.XLOOKUP(SRDB4[[#This Row],[SR-Nr]],SRDB[SR-Nr.],SRDB[Name],\"NA\",0))","v":""},{"$f":"IF(ISBLANK(SRDB4[[#This Row],[SR-Nr]]),\"\",IF(COUNTIF(Registration!$A$7:$A$204,SRDB4[[#This Row],[SR-Nr]])=1,TRUE,FALSE))","v":""}]
[null,{"$f":"IF(ISBLANK(SRDB4[[#This Row],[SR-Nr]]),\"\",_xlfn.XLOOKUP(SRDB4[[#This Row],[SR-Nr]],SRDB[SR-Nr.],SRDB[Vorname],\"NA\",0))","v":""},{"$f":"IF(ISBLANK(SRDB4[[#This Row],[SR-Nr]]),\"\",_xlfn.XLOOKUP(SRDB4[[#This Row],[SR-Nr]],SRDB[SR-Nr.],SRDB[Name],\"NA\",0))","v":""},{"$f":"IF(ISBLANK(SRDB4[[#This Row],[SR-Nr]]),\"\",IF(COUNTIF(Registration!$A$7:$A$204,SRDB4[[#This Row],[SR-Nr]])=1,TRUE,FALSE))","v":""}]
[null,{"$f":"IF(ISBLANK(SRDB4[[#This Row],[SR-Nr]]),\"\",_xlfn.XLOOKUP(SRDB4[[#This Row],[SR-Nr]],SRDB[SR-Nr.],SRDB[Vorname],\"NA\",0))","v":""},{"$f":"IF(ISBLANK(SRDB4[[#This Row],[SR-Nr]]),\"\",_xlfn.XLOOKUP(SRDB4[[#This Row],[SR-Nr]],SRDB[SR-Nr.],SRDB[Name],\"NA\",0))","v":""},{"$f":"IF(ISBLANK(SRDB4[[#This Row],[SR-Nr]]),\"\",IF(COUNTIF(Registration!$A$7:$A$204,SRDB4[[#This Row],[SR-Nr]])=1,TRUE,FALSE))","v":""}]
[null,{"$f":"IF(ISBLANK(SRDB4[[#This Row],[SR-Nr]]),\"\",_xlfn.XLOOKUP(SRDB4[[#This Row],[SR-Nr]],SRDB[SR-Nr.],SRDB[Vorname],\"NA\",0))","v":""},{"$f":"IF(ISBLANK(SRDB4[[#This Row],[SR-Nr]]),\"\",_xlfn.XLOOKUP(SRDB4[[#This Row],[SR-Nr]],SRDB[SR-Nr.],SRDB[Name],\"NA\",0))","v":""},{"$f":"IF(ISBLANK(SRDB4[[#This Row],[SR-Nr]]),\"\",IF(COUNTIF(Registration!$A$7:$A$204,SRDB4[[#This Row],[SR-Nr]])=1,TRUE,FALSE))","v":""}]
[null,{"$f":"IF(ISBLANK(SRDB4[[#This Row],[SR-Nr]]),\"\",_xlfn.XLOOKUP(SRDB4[[#This Row],[SR-Nr]],SRDB[SR-Nr.],SRDB[Vorname],\"NA\",0))","v":""},{"$f":"IF(ISBLANK(SRDB4[[#This Row],[SR-Nr]]),\"\",_xlfn.XLOOKUP(SRDB4[[#This Row],[SR-Nr]],SRDB[SR-Nr.],SRDB[Name],\"NA\",0))","v":""},{"$f":"IF(ISBLANK(SRDB4[[#This Row],[SR-Nr]]),\"\",IF(COUNTIF(Registration!$A$7:$A$204,SRDB4[[#This Row],[SR-Nr]])=1,TRUE,FALSE))","v":""}]
[null,{"$f":"IF(ISBLANK(SRDB4[[#This Row],[SR-Nr]]),\"\",_xlfn.XLOOKUP(SRDB4[[#This Row],[SR-Nr]],SRDB[SR-Nr.],SRDB[Vorname],\"NA\",0))","v":""},{"$f":"IF(ISBLANK(SRDB4[[#This Row],[SR-Nr]]),\"\",_xlfn.XLOOKUP(SRDB4[[#This Row],[SR-Nr]],SRDB[SR-Nr.],SRDB[Name],\"NA\",0))","v":""},{"$f":"IF(ISBLANK(SRDB4[[#This Row],[SR-Nr]]),\"\",IF(COUNTIF(Registration!$A$7:$A$204,SRDB4[[#This Row],[SR-Nr]])=1,TRUE,FALSE))","v":""}]
[null,{"$f":"IF(ISBLANK(SRDB4[[#This Row],[SR-Nr]]),\"\",_xlfn.XLOOKUP(SRDB4[[#This Row],[SR-Nr]],SRDB[SR-Nr.],SRDB[Vorname],\"NA\",0))","v":""},{"$f":"IF(ISBLANK(SRDB4[[#This Row],[SR-Nr]]),\"\",_xlfn.XLOOKUP(SRDB4[[#This Row],[SR-Nr]],SRDB[SR-Nr.],SRDB[Name],\"NA\",0))","v":""},{"$f":"IF(ISBLANK(SRDB4[[#This Row],[SR-Nr]]),\"\",IF(COUNTIF(Registration!$A$7:$A$204,SRDB4[[#This Row],[SR-Nr]])=1,TRUE,FALSE))","v":""}]
[null,{"$f":"IF(ISBLANK(SRDB4[[#This Row],[SR-Nr]]),\"\",_xlfn.XLOOKUP(SRDB4[[#This Row],[SR-Nr]],SRDB[SR-Nr.],SRDB[Vorname],\"NA\",0))","v":""},{"$f":"IF(ISBLANK(SRDB4[[#This Row],[SR-Nr]]),\"\",_xlfn.XLOOKUP(SRDB4[[#This Row],[SR-Nr]],SRDB[SR-Nr.],SRDB[Name],\"NA\",0))","v":""},{"$f":"IF(ISBLANK(SRDB4[[#This Row],[SR-Nr]]),\"\",IF(COUNTIF(Registration!$A$7:$A$204,SRDB4[[#This Row],[SR-Nr]])=1,TRUE,FALSE))","v":""}]
[null,{"$f":"IF(ISBLANK(SRDB4[[#This Row],[SR-Nr]]),\"\",_xlfn.XLOOKUP(SRDB4[[#This Row],[SR-Nr]],SRDB[SR-Nr.],SRDB[Vorname],\"NA\",0))","v":""},{"$f":"IF(ISBLANK(SRDB4[[#This Row],[SR-Nr]]),\"\",_xlfn.XLOOKUP(SRDB4[[#This Row],[SR-Nr]],SRDB[SR-Nr.],SRDB[Name],\"NA\",0))","v":""},{"$f":"IF(ISBLANK(SRDB4[[#This Row],[SR-Nr]]),\"\",IF(COUNTIF(Registration!$A$7:$A$204,SRDB4[[#This Row],[SR-Nr]])=1,TRUE,FALSE))","v":""}]
[null,{"$f":"IF(ISBLANK(SRDB4[[#This Row],[SR-Nr]]),\"\",_xlfn.XLOOKUP(SRDB4[[#This Row],[SR-Nr]],SRDB[SR-Nr.],SRDB[Vorname],\"NA\",0))","v":""},{"$f":"IF(ISBLANK(SRDB4[[#This Row],[SR-Nr]]),\"\",_xlfn.XLOOKUP(SRDB4[[#This Row],[SR-Nr]],SRDB[SR-Nr.],SRDB[Name],\"NA\",0))","v":""},{"$f":"IF(ISBLANK(SRDB4[[#This Row],[SR-Nr]]),\"\",IF(COUNTIF(Registration!$A$7:$A$204,SRDB4[[#This Row],[SR-Nr]])=1,TRUE,FALSE))","v":""}]
[null,{"$f":"IF(ISBLANK(SRDB4[[#This Row],[SR-Nr]]),\"\",_xlfn.XLOOKUP(SRDB4[[#This Row],[SR-Nr]],SRDB[SR-Nr.],SRDB[Vorname],\"NA\",0))","v":""},{"$f":"IF(ISBLANK(SRDB4[[#This Row],[SR-Nr]]),\"\",_xlfn.XLOOKUP(SRDB4[[#This Row],[SR-Nr]],SRDB[SR-Nr.],SRDB[Name],\"NA\",0))","v":""},{"$f":"IF(ISBLANK(SRDB4[[#This Row],[SR-Nr]]),\"\",IF(COUNTIF(Registration!$A$7:$A$204,SRDB4[[#This Row],[SR-Nr]])=1,TRUE,FALSE))","v":""}]
[null,{"$f":"IF(ISBLANK(SRDB4[[#This Row],[SR-Nr]]),\"\",_xlfn.XLOOKUP(SRDB4[[#This Row],[SR-Nr]],SRDB[SR-Nr.],SRDB[Vorname],\"NA\",0))","v":""},{"$f":"IF(ISBLANK(SRDB4[[#This Row],[SR-Nr]]),\"\",_xlfn.XLOOKUP(SRDB4[[#This Row],[SR-Nr]],SRDB[SR-Nr.],SRDB[Name],\"NA\",0))","v":""},{"$f":"IF(ISBLANK(SRDB4[[#This Row],[SR-Nr]]),\"\",IF(COUNTIF(Registration!$A$7:$A$204,SRDB4[[#This Row],[SR-Nr]])=1,TRUE,FALSE))","v":""}]
[null,{"$f":"IF(ISBLANK(SRDB4[[#This Row],[SR-Nr]]),\"\",_xlfn.XLOOKUP(SRDB4[[#This Row],[SR-Nr]],SRDB[SR-Nr.],SRDB[Vorname],\"NA\",0))","v":""},{"$f":"IF(ISBLANK(SRDB4[[#This Row],[SR-Nr]]),\"\",_xlfn.XLOOKUP(SRDB4[[#This Row],[SR-Nr]],SRDB[SR-Nr.],SRDB[Name],\"NA\",0))","v":""},{"$f":"IF(ISBLANK(SRDB4[[#This Row],[SR-Nr]]),\"\",IF(COUNTIF(Registration!$A$7:$A$204,SRDB4[[#This Row],[SR-Nr]])=1,TRUE,FALSE))","v":""}]
[null,{"$f":"IF(ISBLANK(SRDB4[[#This Row],[SR-Nr]]),\"\",_xlfn.XLOOKUP(SRDB4[[#This Row],[SR-Nr]],SRDB[SR-Nr.],SRDB[Vorname],\"NA\",0))","v":""},{"$f":"IF(ISBLANK(SRDB4[[#This Row],[SR-Nr]]),\"\",_xlfn.XLOOKUP(SRDB4[[#This Row],[SR-Nr]],SRDB[SR-Nr.],SRDB[Name],\"NA\",0))","v":""},{"$f":"IF(ISBLANK(SRDB4[[#This Row],[SR-Nr]]),\"\",IF(COUNTIF(Registration!$A$7:$A$204,SRDB4[[#This Row],[SR-Nr]])=1,TRUE,FALSE))","v":""}]
[null,{"$f":"IF(ISBLANK(SRDB4[[#This Row],[SR-Nr]]),\"\",_xlfn.XLOOKUP(SRDB4[[#This Row],[SR-Nr]],SRDB[SR-Nr.],SRDB[Vorname],\"NA\",0))","v":""},{"$f":"IF(ISBLANK(SRDB4[[#This Row],[SR-Nr]]),\"\",_xlfn.XLOOKUP(SRDB4[[#This Row],[SR-Nr]],SRDB[SR-Nr.],SRDB[Name],\"NA\",0))","v":""},{"$f":"IF(ISBLANK(SRDB4[[#This Row],[SR-Nr]]),\"\",IF(COUNTIF(Registration!$A$7:$A$204,SRDB4[[#This Row],[SR-Nr]])=1,TRUE,FALSE))","v":""}]
[null,{"$f":"IF(ISBLANK(SRDB4[[#This Row],[SR-Nr]]),\"\",_xlfn.XLOOKUP(SRDB4[[#This Row],[SR-Nr]],SRDB[SR-Nr.],SRDB[Vorname],\"NA\",0))","v":""},{"$f":"IF(ISBLANK(SRDB4[[#This Row],[SR-Nr]]),\"\",_xlfn.XLOOKUP(SRDB4[[#This Row],[SR-Nr]],SRDB[SR-Nr.],SRDB[Name],\"NA\",0))","v":""},{"$f":"IF(ISBLANK(SRDB4[[#This Row],[SR-Nr]]),\"\",IF(COUNTIF(Registration!$A$7:$A$204,SRDB4[[#This Row],[SR-Nr]])=1,TRUE,FALSE))","v":""}]
[null,{"$f":"IF(ISBLANK(SRDB4[[#This Row],[SR-Nr]]),\"\",_xlfn.XLOOKUP(SRDB4[[#This Row],[SR-Nr]],SRDB[SR-Nr.],SRDB[Vorname],\"NA\",0))","v":""},{"$f":"IF(ISBLANK(SRDB4[[#This Row],[SR-Nr]]),\"\",_xlfn.XLOOKUP(SRDB4[[#This Row],[SR-Nr]],SRDB[SR-Nr.],SRDB[Name],\"NA\",0))","v":""},{"$f":"IF(ISBLANK(SRDB4[[#This Row],[SR-Nr]]),\"\",IF(COUNTIF(Registration!$A$7:$A$204,SRDB4[[#This Row],[SR-Nr]])=1,TRUE,FALSE))","v":""}]
[null,{"$f":"IF(ISBLANK(SRDB4[[#This Row],[SR-Nr]]),\"\",_xlfn.XLOOKUP(SRDB4[[#This Row],[SR-Nr]],SRDB[SR-Nr.],SRDB[Vorname],\"NA\",0))","v":""},{"$f":"IF(ISBLANK(SRDB4[[#This Row],[SR-Nr]]),\"\",_xlfn.XLOOKUP(SRDB4[[#This Row],[SR-Nr]],SRDB[SR-Nr.],SRDB[Name],\"NA\",0))","v":""},{"$f":"IF(ISBLANK(SRDB4[[#This Row],[SR-Nr]]),\"\",IF(COUNTIF(Registration!$A$7:$A$204,SRDB4[[#This Row],[SR-Nr]])=1,TRUE,FALSE))","v":""}]
[null,{"$f":"IF(ISBLANK(SRDB4[[#This Row],[SR-Nr]]),\"\",_xlfn.XLOOKUP(SRDB4[[#This Row],[SR-Nr]],SRDB[SR-Nr.],SRDB[Vorname],\"NA\",0))","v":""},{"$f":"IF(ISBLANK(SRDB4[[#This Row],[SR-Nr]]),\"\",_xlfn.XLOOKUP(SRDB4[[#This Row],[SR-Nr]],SRDB[SR-Nr.],SRDB[Name],\"NA\",0))","v":""},{"$f":"IF(ISBLANK(SRDB4[[#This Row],[SR-Nr]]),\"\",IF(COUNTIF(Registration!$A$7:$A$204,SRDB4[[#This Row],[SR-Nr]])=1,TRUE,FALSE))","v":""}]
[null,{"$f":"IF(ISBLANK(SRDB4[[#This Row],[SR-Nr]]),\"\",_xlfn.XLOOKUP(SRDB4[[#This Row],[SR-Nr]],SRDB[SR-Nr.],SRDB[Vorname],\"NA\",0))","v":""},{"$f":"IF(ISBLANK(SRDB4[[#This Row],[SR-Nr]]),\"\",_xlfn.XLOOKUP(SRDB4[[#This Row],[SR-Nr]],SRDB[SR-Nr.],SRDB[Name],\"NA\",0))","v":""},{"$f":"IF(ISBLANK(SRDB4[[#This Row],[SR-Nr]]),\"\",IF(COUNTIF(Registration!$A$7:$A$204,SRDB4[[#This Row],[SR-Nr]])=1,TRUE,FALSE))","v":""}]
[null,{"$f":"IF(ISBLANK(SRDB4[[#This Row],[SR-Nr]]),\"\",_xlfn.XLOOKUP(SRDB4[[#This Row],[SR-Nr]],SRDB[SR-Nr.],SRDB[Vorname],\"NA\",0))","v":""},{"$f":"IF(ISBLANK(SRDB4[[#This Row],[SR-Nr]]),\"\",_xlfn.XLOOKUP(SRDB4[[#This Row],[SR-Nr]],SRDB[SR-Nr.],SRDB[Name],\"NA\",0))","v":""},{"$f":"IF(ISBLANK(SRDB4[[#This Row],[SR-Nr]]),\"\",IF(COUNTIF(Registration!$A$7:$A$204,SRDB4[[#This Row],[SR-Nr]])=1,TRUE,FALSE))","v":""}]
[null,{"$f":"IF(ISBLANK(SRDB4[[#This Row],[SR-Nr]]),\"\",_xlfn.XLOOKUP(SRDB4[[#This Row],[SR-Nr]],SRDB[SR-Nr.],SRDB[Vorname],\"NA\",0))","v":""},{"$f":"IF(ISBLANK(SRDB4[[#This Row],[SR-Nr]]),\"\",_xlfn.XLOOKUP(SRDB4[[#This Row],[SR-Nr]],SRDB[SR-Nr.],SRDB[Name],\"NA\",0))","v":""},{"$f":"IF(ISBLANK(SRDB4[[#This Row],[SR-Nr]]),\"\",IF(COUNTIF(Registration!$A$7:$A$204,SRDB4[[#This Row],[SR-Nr]])=1,TRUE,FALSE))","v":""}]
[null,{"$f":"IF(ISBLANK(SRDB4[[#This Row],[SR-Nr]]),\"\",_xlfn.XLOOKUP(SRDB4[[#This Row],[SR-Nr]],SRDB[SR-Nr.],SRDB[Vorname],\"NA\",0))","v":""},{"$f":"IF(ISBLANK(SRDB4[[#This Row],[SR-Nr]]),\"\",_xlfn.XLOOKUP(SRDB4[[#This Row],[SR-Nr]],SRDB[SR-Nr.],SRDB[Name],\"NA\",0))","v":""},{"$f":"IF(ISBLANK(SRDB4[[#This Row],[SR-Nr]]),\"\",IF(COUNTIF(Registration!$A$7:$A$204,SRDB4[[#This Row],[SR-Nr]])=1,TRUE,FALSE))","v":""}]
[null,{"$f":"IF(ISBLANK(SRDB4[[#This Row],[SR-Nr]]),\"\",_xlfn.XLOOKUP(SRDB4[[#This Row],[SR-Nr]],SRDB[SR-Nr.],SRDB[Vorname],\"NA\",0))","v":""},{"$f":"IF(ISBLANK(SRDB4[[#This Row],[SR-Nr]]),\"\",_xlfn.XLOOKUP(SRDB4[[#This Row],[SR-Nr]],SRDB[SR-Nr.],SRDB[Name],\"NA\",0))","v":""},{"$f":"IF(ISBLANK(SRDB4[[#This Row],[SR-Nr]]),\"\",IF(COUNTIF(Registration!$A$7:$A$204,SRDB4[[#This Row],[SR-Nr]])=1,TRUE,FALSE))","v":""}]
[null,{"$f":"IF(ISBLANK(SRDB4[[#This Row],[SR-Nr]]),\"\",_xlfn.XLOOKUP(SRDB4[[#This Row],[SR-Nr]],SRDB[SR-Nr.],SRDB[Vorname],\"NA\",0))","v":""},{"$f":"IF(ISBLANK(SRDB4[[#This Row],[SR-Nr]]),\"\",_xlfn.XLOOKUP(SRDB4[[#This Row],[SR-Nr]],SRDB[SR-Nr.],SRDB[Name],\"NA\",0))","v":""},{"$f":"IF(ISBLANK(SRDB4[[#This Row],[SR-Nr]]),\"\",IF(COUNTIF(Registration!$A$7:$A$204,SRDB4[[#This Row],[SR-Nr]])=1,TRUE,FALSE))","v":""}]
[null,{"$f":"IF(ISBLANK(SRDB4[[#This Row],[SR-Nr]]),\"\",_xlfn.XLOOKUP(SRDB4[[#This Row],[SR-Nr]],SRDB[SR-Nr.],SRDB[Vorname],\"NA\",0))","v":""},{"$f":"IF(ISBLANK(SRDB4[[#This Row],[SR-Nr]]),\"\",_xlfn.XLOOKUP(SRDB4[[#This Row],[SR-Nr]],SRDB[SR-Nr.],SRDB[Name],\"NA\",0))","v":""},{"$f":"IF(ISBLANK(SRDB4[[#This Row],[SR-Nr]]),\"\",IF(COUNTIF(Registration!$A$7:$A$204,SRDB4[[#This Row],[SR-Nr]])=1,TRUE,FALSE))","v":""}]
[null,{"$f":"IF(ISBLANK(SRDB4[[#This Row],[SR-Nr]]),\"\",_xlfn.XLOOKUP(SRDB4[[#This Row],[SR-Nr]],SRDB[SR-Nr.],SRDB[Vorname],\"NA\",0))","v":""},{"$f":"IF(ISBLANK(SRDB4[[#This Row],[SR-Nr]]),\"\",_xlfn.XLOOKUP(SRDB4[[#This Row],[SR-Nr]],SRDB[SR-Nr.],SRDB[Name],\"NA\",0))","v":""},{"$f":"IF(ISBLANK(SRDB4[[#This Row],[SR-Nr]]),\"\",IF(COUNTIF(Registration!$A$7:$A$204,SRDB4[[#This Row],[SR-Nr]])=1,TRUE,FALSE))","v":""}]
[null,{"$f":"IF(ISBLANK(SRDB4[[#This Row],[SR-Nr]]),\"\",_xlfn.XLOOKUP(SRDB4[[#This Row],[SR-Nr]],SRDB[SR-Nr.],SRDB[Vorname],\"NA\",0))","v":""},{"$f":"IF(ISBLANK(SRDB4[[#This Row],[SR-Nr]]),\"\",_xlfn.XLOOKUP(SRDB4[[#This Row],[SR-Nr]],SRDB[SR-Nr.],SRDB[Name],\"NA\",0))","v":""},{"$f":"IF(ISBLANK(SRDB4[[#This Row],[SR-Nr]]),\"\",IF(COUNTIF(Registration!$A$7:$A$204,SRDB4[[#This Row],[SR-Nr]])=1,TRUE,FALSE))","v":""}]
[null,{"$f":"IF(ISBLANK(SRDB4[[#This Row],[SR-Nr]]),\"\",_xlfn.XLOOKUP(SRDB4[[#This Row],[SR-Nr]],SRDB[SR-Nr.],SRDB[Vorname],\"NA\",0))","v":""},{"$f":"IF(ISBLANK(SRDB4[[#This Row],[SR-Nr]]),\"\",_xlfn.XLOOKUP(SRDB4[[#This Row],[SR-Nr]],SRDB[SR-Nr.],SRDB[Name],\"NA\",0))","v":""},{"$f":"IF(ISBLANK(SRDB4[[#This Row],[SR-Nr]]),\"\",IF(COUNTIF(Registration!$A$7:$A$204,SRDB4[[#This Row],[SR-Nr]])=1,TRUE,FALSE))","v":""}]
[null,{"$f":"IF(ISBLANK(SRDB4[[#This Row],[SR-Nr]]),\"\",_xlfn.XLOOKUP(SRDB4[[#This Row],[SR-Nr]],SRDB[SR-Nr.],SRDB[Vorname],\"NA\",0))","v":""},{"$f":"IF(ISBLANK(SRDB4[[#This Row],[SR-Nr]]),\"\",_xlfn.XLOOKUP(SRDB4[[#This Row],[SR-Nr]],SRDB[SR-Nr.],SRDB[Name],\"NA\",0))","v":""},{"$f":"IF(ISBLANK(SRDB4[[#This Row],[SR-Nr]]),\"\",IF(COUNTIF(Registration!$A$7:$A$204,SRDB4[[#This Row],[SR-Nr]])=1,TRUE,FALSE))","v":""}]
[null,{"$f":"IF(ISBLANK(SRDB4[[#This Row],[SR-Nr]]),\"\",_xlfn.XLOOKUP(SRDB4[[#This Row],[SR-Nr]],SRDB[SR-Nr.],SRDB[Vorname],\"NA\",0))","v":""},{"$f":"IF(ISBLANK(SRDB4[[#This Row],[SR-Nr]]),\"\",_xlfn.XLOOKUP(SRDB4[[#This Row],[SR-Nr]],SRDB[SR-Nr.],SRDB[Name],\"NA\",0))","v":""},{"$f":"IF(ISBLANK(SRDB4[[#This Row],[SR-Nr]]),\"\",IF(COUNTIF(Registration!$A$7:$A$204,SRDB4[[#This Row],[SR-Nr]])=1,TRUE,FALSE))","v":""}]
[null,{"$f":"IF(ISBLANK(SRDB4[[#This Row],[SR-Nr]]),\"\",_xlfn.XLOOKUP(SRDB4[[#This Row],[SR-Nr]],SRDB[SR-Nr.],SRDB[Vorname],\"NA\",0))","v":""},{"$f":"IF(ISBLANK(SRDB4[[#This Row],[SR-Nr]]),\"\",_xlfn.XLOOKUP(SRDB4[[#This Row],[SR-Nr]],SRDB[SR-Nr.],SRDB[Name],\"NA\",0))","v":""},{"$f":"IF(ISBLANK(SRDB4[[#This Row],[SR-Nr]]),\"\",IF(COUNTIF(Registration!$A$7:$A$204,SRDB4[[#This Row],[SR-Nr]])=1,TRUE,FALSE))","v":""}]
[null,{"$f":"IF(ISBLANK(SRDB4[[#This Row],[SR-Nr]]),\"\",_xlfn.XLOOKUP(SRDB4[[#This Row],[SR-Nr]],SRDB[SR-Nr.],SRDB[Vorname],\"NA\",0))","v":""},{"$f":"IF(ISBLANK(SRDB4[[#This Row],[SR-Nr]]),\"\",_xlfn.XLOOKUP(SRDB4[[#This Row],[SR-Nr]],SRDB[SR-Nr.],SRDB[Name],\"NA\",0))","v":""},{"$f":"IF(ISBLANK(SRDB4[[#This Row],[SR-Nr]]),\"\",IF(COUNTIF(Registration!$A$7:$A$204,SRDB4[[#This Row],[SR-Nr]])=1,TRUE,FALSE))","v":""}]
[null,{"$f":"IF(ISBLANK(SRDB4[[#This Row],[SR-Nr]]),\"\",_xlfn.XLOOKUP(SRDB4[[#This Row],[SR-Nr]],SRDB[SR-Nr.],SRDB[Vorname],\"NA\",0))","v":""},{"$f":"IF(ISBLANK(SRDB4[[#This Row],[SR-Nr]]),\"\",_xlfn.XLOOKUP(SRDB4[[#This Row],[SR-Nr]],SRDB[SR-Nr.],SRDB[Name],\"NA\",0))","v":""},{"$f":"IF(ISBLANK(SRDB4[[#This Row],[SR-Nr]]),\"\",IF(COUNTIF(Registration!$A$7:$A$204,SRDB4[[#This Row],[SR-Nr]])=1,TRUE,FALSE))","v":""}]
[null,{"$f":"IF(ISBLANK(SRDB4[[#This Row],[SR-Nr]]),\"\",_xlfn.XLOOKUP(SRDB4[[#This Row],[SR-Nr]],SRDB[SR-Nr.],SRDB[Vorname],\"NA\",0))","v":""},{"$f":"IF(ISBLANK(SRDB4[[#This Row],[SR-Nr]]),\"\",_xlfn.XLOOKUP(SRDB4[[#This Row],[SR-Nr]],SRDB[SR-Nr.],SRDB[Name],\"NA\",0))","v":""},{"$f":"IF(ISBLANK(SRDB4[[#This Row],[SR-Nr]]),\"\",IF(COUNTIF(Registration!$A$7:$A$204,SRDB4[[#This Row],[SR-Nr]])=1,TRUE,FALSE))","v":""}]
[null,{"$f":"IF(ISBLANK(SRDB4[[#This Row],[SR-Nr]]),\"\",_xlfn.XLOOKUP(SRDB4[[#This Row],[SR-Nr]],SRDB[SR-Nr.],SRDB[Vorname],\"NA\",0))","v":""},{"$f":"IF(ISBLANK(SRDB4[[#This Row],[SR-Nr]]),\"\",_xlfn.XLOOKUP(SRDB4[[#This Row],[SR-Nr]],SRDB[SR-Nr.],SRDB[Name],\"NA\",0))","v":""},{"$f":"IF(ISBLANK(SRDB4[[#This Row],[SR-Nr]]),\"\",IF(COUNTIF(Registration!$A$7:$A$204,SRDB4[[#This Row],[SR-Nr]])=1,TRUE,FALSE))","v":""}]
[null,{"$f":"IF(ISBLANK(SRDB4[[#This Row],[SR-Nr]]),\"\",_xlfn.XLOOKUP(SRDB4[[#This Row],[SR-Nr]],SRDB[SR-Nr.],SRDB[Vorname],\"NA\",0))","v":""},{"$f":"IF(ISBLANK(SRDB4[[#This Row],[SR-Nr]]),\"\",_xlfn.XLOOKUP(SRDB4[[#This Row],[SR-Nr]],SRDB[SR-Nr.],SRDB[Name],\"NA\",0))","v":""},{"$f":"IF(ISBLANK(SRDB4[[#This Row],[SR-Nr]]),\"\",IF(COUNTIF(Registration!$A$7:$A$204,SRDB4[[#This Row],[SR-Nr]])=1,TRUE,FALSE))","v":""}]
[null,{"$f":"IF(ISBLANK(SRDB4[[#This Row],[SR-Nr]]),\"\",_xlfn.XLOOKUP(SRDB4[[#This Row],[SR-Nr]],SRDB[SR-Nr.],SRDB[Vorname],\"NA\",0))","v":""},{"$f":"IF(ISBLANK(SRDB4[[#This Row],[SR-Nr]]),\"\",_xlfn.XLOOKUP(SRDB4[[#This Row],[SR-Nr]],SRDB[SR-Nr.],SRDB[Name],\"NA\",0))","v":""},{"$f":"IF(ISBLANK(SRDB4[[#This Row],[SR-Nr]]),\"\",IF(COUNTIF(Registration!$A$7:$A$204,SRDB4[[#This Row],[SR-Nr]])=1,TRUE,FALSE))","v":""}]
[null,{"$f":"IF(ISBLANK(SRDB4[[#This Row],[SR-Nr]]),\"\",_xlfn.XLOOKUP(SRDB4[[#This Row],[SR-Nr]],SRDB[SR-Nr.],SRDB[Vorname],\"NA\",0))","v":""},{"$f":"IF(ISBLANK(SRDB4[[#This Row],[SR-Nr]]),\"\",_xlfn.XLOOKUP(SRDB4[[#This Row],[SR-Nr]],SRDB[SR-Nr.],SRDB[Name],\"NA\",0))","v":""},{"$f":"IF(ISBLANK(SRDB4[[#This Row],[SR-Nr]]),\"\",IF(COUNTIF(Registration!$A$7:$A$204,SRDB4[[#This Row],[SR-Nr]])=1,TRUE,FALSE))","v":""}]
[null,{"$f":"IF(ISBLANK(SRDB4[[#This Row],[SR-Nr]]),\"\",_xlfn.XLOOKUP(SRDB4[[#This Row],[SR-Nr]],SRDB[SR-Nr.],SRDB[Vorname],\"NA\",0))","v":""},{"$f":"IF(ISBLANK(SRDB4[[#This Row],[SR-Nr]]),\"\",_xlfn.XLOOKUP(SRDB4[[#This Row],[SR-Nr]],SRDB[SR-Nr.],SRDB[Name],\"NA\",0))","v":""},{"$f":"IF(ISBLANK(SRDB4[[#This Row],[SR-Nr]]),\"\",IF(COUNTIF(Registration!$A$7:$A$204,SRDB4[[#This Row],[SR-Nr]])=1,TRUE,FALSE))","v":""}]
[null,{"$f":"IF(ISBLANK(SRDB4[[#This Row],[SR-Nr]]),\"\",_xlfn.XLOOKUP(SRDB4[[#This Row],[SR-Nr]],SRDB[SR-Nr.],SRDB[Vorname],\"NA\",0))","v":""},{"$f":"IF(ISBLANK(SRDB4[[#This Row],[SR-Nr]]),\"\",_xlfn.XLOOKUP(SRDB4[[#This Row],[SR-Nr]],SRDB[SR-Nr.],SRDB[Name],\"NA\",0))","v":""},{"$f":"IF(ISBLANK(SRDB4[[#This Row],[SR-Nr]]),\"\",IF(COUNTIF(Registration!$A$7:$A$204,SRDB4[[#This Row],[SR-Nr]])=1,TRUE,FALSE))","v":""}]
[null,{"$f":"IF(ISBLANK(SRDB4[[#This Row],[SR-Nr]]),\"\",_xlfn.XLOOKUP(SRDB4[[#This Row],[SR-Nr]],SRDB[SR-Nr.],SRDB[Vorname],\"NA\",0))","v":""},{"$f":"IF(ISBLANK(SRDB4[[#This Row],[SR-Nr]]),\"\",_xlfn.XLOOKUP(SRDB4[[#This Row],[SR-Nr]],SRDB[SR-Nr.],SRDB[Name],\"NA\",0))","v":""},{"$f":"IF(ISBLANK(SRDB4[[#This Row],[SR-Nr]]),\"\",IF(COUNTIF(Registration!$A$7:$A$204,SRDB4[[#This Row],[SR-Nr]])=1,TRUE,FALSE))","v":""}]
[null,{"$f":"IF(ISBLANK(SRDB4[[#This Row],[SR-Nr]]),\"\",_xlfn.XLOOKUP(SRDB4[[#This Row],[SR-Nr]],SRDB[SR-Nr.],SRDB[Vorname],\"NA\",0))","v":""},{"$f":"IF(ISBLANK(SRDB4[[#This Row],[SR-Nr]]),\"\",_xlfn.XLOOKUP(SRDB4[[#This Row],[SR-Nr]],SRDB[SR-Nr.],SRDB[Name],\"NA\",0))","v":""},{"$f":"IF(ISBLANK(SRDB4[[#This Row],[SR-Nr]]),\"\",IF(COUNTIF(Registration!$A$7:$A$204,SRDB4[[#This Row],[SR-Nr]])=1,TRUE,FALSE))","v":""}]
[null,{"$f":"IF(ISBLANK(SRDB4[[#This Row],[SR-Nr]]),\"\",_xlfn.XLOOKUP(SRDB4[[#This Row],[SR-Nr]],SRDB[SR-Nr.],SRDB[Vorname],\"NA\",0))","v":""},{"$f":"IF(ISBLANK(SRDB4[[#This Row],[SR-Nr]]),\"\",_xlfn.XLOOKUP(SRDB4[[#This Row],[SR-Nr]],SRDB[SR-Nr.],SRDB[Name],\"NA\",0))","v":""},{"$f":"IF(ISBLANK(SRDB4[[#This Row],[SR-Nr]]),\"\",IF(COUNTIF(Registration!$A$7:$A$204,SRDB4[[#This Row],[SR-Nr]])=1,TRUE,FALSE))","v":""}]
[null,{"$f":"IF(ISBLANK(SRDB4[[#This Row],[SR-Nr]]),\"\",_xlfn.XLOOKUP(SRDB4[[#This Row],[SR-Nr]],SRDB[SR-Nr.],SRDB[Vorname],\"NA\",0))","v":""},{"$f":"IF(ISBLANK(SRDB4[[#This Row],[SR-Nr]]),\"\",_xlfn.XLOOKUP(SRDB4[[#This Row],[SR-Nr]],SRDB[SR-Nr.],SRDB[Name],\"NA\",0))","v":""},{"$f":"IF(ISBLANK(SRDB4[[#This Row],[SR-Nr]]),\"\",IF(COUNTIF(Registration!$A$7:$A$204,SRDB4[[#This Row],[SR-Nr]])=1,TRUE,FALSE))","v":""}]
[null,{"$f":"IF(ISBLANK(SRDB4[[#This Row],[SR-Nr]]),\"\",_xlfn.XLOOKUP(SRDB4[[#This Row],[SR-Nr]],SRDB[SR-Nr.],SRDB[Vorname],\"NA\",0))","v":""},{"$f":"IF(ISBLANK(SRDB4[[#This Row],[SR-Nr]]),\"\",_xlfn.XLOOKUP(SRDB4[[#This Row],[SR-Nr]],SRDB[SR-Nr.],SRDB[Name],\"NA\",0))","v":""},{"$f":"IF(ISBLANK(SRDB4[[#This Row],[SR-Nr]]),\"\",IF(COUNTIF(Registration!$A$7:$A$204,SRDB4[[#This Row],[SR-Nr]])=1,TRUE,FALSE))","v":""}]
[null,{"$f":"IF(ISBLANK(SRDB4[[#This Row],[SR-Nr]]),\"\",_xlfn.XLOOKUP(SRDB4[[#This Row],[SR-Nr]],SRDB[SR-Nr.],SRDB[Vorname],\"NA\",0))","v":""},{"$f":"IF(ISBLANK(SRDB4[[#This Row],[SR-Nr]]),\"\",_xlfn.XLOOKUP(SRDB4[[#This Row],[SR-Nr]],SRDB[SR-Nr.],SRDB[Name],\"NA\",0))","v":""},{"$f":"IF(ISBLANK(SRDB4[[#This Row],[SR-Nr]]),\"\",IF(COUNTIF(Registration!$A$7:$A$204,SRDB4[[#This Row],[SR-Nr]])=1,TRUE,FALSE))","v":""}]
[null,{"$f":"IF(ISBLANK(SRDB4[[#This Row],[SR-Nr]]),\"\",_xlfn.XLOOKUP(SRDB4[[#This Row],[SR-Nr]],SRDB[SR-Nr.],SRDB[Vorname],\"NA\",0))","v":""},{"$f":"IF(ISBLANK(SRDB4[[#This Row],[SR-Nr]]),\"\",_xlfn.XLOOKUP(SRDB4[[#This Row],[SR-Nr]],SRDB[SR-Nr.],SRDB[Name],\"NA\",0))","v":""},{"$f":"IF(ISBLANK(SRDB4[[#This Row],[SR-Nr]]),\"\",IF(COUNTIF(Registration!$A$7:$A$204,SRDB4[[#This Row],[SR-Nr]])=1,TRUE,FALSE))","v":""}]
[null,{"$f":"IF(ISBLANK(SRDB4[[#This Row],[SR-Nr]]),\"\",_xlfn.XLOOKUP(SRDB4[[#This Row],[SR-Nr]],SRDB[SR-Nr.],SRDB[Vorname],\"NA\",0))","v":""},{"$f":"IF(ISBLANK(SRDB4[[#This Row],[SR-Nr]]),\"\",_xlfn.XLOOKUP(SRDB4[[#This Row],[SR-Nr]],SRDB[SR-Nr.],SRDB[Name],\"NA\",0))","v":""},{"$f":"IF(ISBLANK(SRDB4[[#This Row],[SR-Nr]]),\"\",IF(COUNTIF(Registration!$A$7:$A$204,SRDB4[[#This Row],[SR-Nr]])=1,TRUE,FALSE))","v":""}]
[null,{"$f":"IF(ISBLANK(SRDB4[[#This Row],[SR-Nr]]),\"\",_xlfn.XLOOKUP(SRDB4[[#This Row],[SR-Nr]],SRDB[SR-Nr.],SRDB[Vorname],\"NA\",0))","v":""},{"$f":"IF(ISBLANK(SRDB4[[#This Row],[SR-Nr]]),\"\",_xlfn.XLOOKUP(SRDB4[[#This Row],[SR-Nr]],SRDB[SR-Nr.],SRDB[Name],\"NA\",0))","v":""},{"$f":"IF(ISBLANK(SRDB4[[#This Row],[SR-Nr]]),\"\",IF(COUNTIF(Registration!$A$7:$A$204,SRDB4[[#This Row],[SR-Nr]])=1,TRUE,FALSE))","v":""}]
[null,{"$f":"IF(ISBLANK(SRDB4[[#This Row],[SR-Nr]]),\"\",_xlfn.XLOOKUP(SRDB4[[#This Row],[SR-Nr]],SRDB[SR-Nr.],SRDB[Vorname],\"NA\",0))","v":""},{"$f":"IF(ISBLANK(SRDB4[[#This Row],[SR-Nr]]),\"\",_xlfn.XLOOKUP(SRDB4[[#This Row],[SR-Nr]],SRDB[SR-Nr.],SRDB[Name],\"NA\",0))","v":""},{"$f":"IF(ISBLANK(SRDB4[[#This Row],[SR-Nr]]),\"\",IF(COUNTIF(Registration!$A$7:$A$204,SRDB4[[#This Row],[SR-Nr]])=1,TRUE,FALSE))","v":""}]
[null,{"$f":"IF(ISBLANK(SRDB4[[#This Row],[SR-Nr]]),\"\",_xlfn.XLOOKUP(SRDB4[[#This Row],[SR-Nr]],SRDB[SR-Nr.],SRDB[Vorname],\"NA\",0))","v":""},{"$f":"IF(ISBLANK(SRDB4[[#This Row],[SR-Nr]]),\"\",_xlfn.XLOOKUP(SRDB4[[#This Row],[SR-Nr]],SRDB[SR-Nr.],SRDB[Name],\"NA\",0))","v":""},{"$f":"IF(ISBLANK(SRDB4[[#This Row],[SR-Nr]]),\"\",IF(COUNTIF(Registration!$A$7:$A$204,SRDB4[[#This Row],[SR-Nr]])=1,TRUE,FALSE))","v":""}]
[null,{"$f":"IF(ISBLANK(SRDB4[[#This Row],[SR-Nr]]),\"\",_xlfn.XLOOKUP(SRDB4[[#This Row],[SR-Nr]],SRDB[SR-Nr.],SRDB[Vorname],\"NA\",0))","v":""},{"$f":"IF(ISBLANK(SRDB4[[#This Row],[SR-Nr]]),\"\",_xlfn.XLOOKUP(SRDB4[[#This Row],[SR-Nr]],SRDB[SR-Nr.],SRDB[Name],\"NA\",0))","v":""},{"$f":"IF(ISBLANK(SRDB4[[#This Row],[SR-Nr]]),\"\",IF(COUNTIF(Registration!$A$7:$A$204,SRDB4[[#This Row],[SR-Nr]])=1,TRUE,FALSE))","v":""}]
[null,{"$f":"IF(ISBLANK(SRDB4[[#This Row],[SR-Nr]]),\"\",_xlfn.XLOOKUP(SRDB4[[#This Row],[SR-Nr]],SRDB[SR-Nr.],SRDB[Vorname],\"NA\",0))","v":""},{"$f":"IF(ISBLANK(SRDB4[[#This Row],[SR-Nr]]),\"\",_xlfn.XLOOKUP(SRDB4[[#This Row],[SR-Nr]],SRDB[SR-Nr.],SRDB[Name],\"NA\",0))","v":""},{"$f":"IF(ISBLANK(SRDB4[[#This Row],[SR-Nr]]),\"\",IF(COUNTIF(Registration!$A$7:$A$204,SRDB4[[#This Row],[SR-Nr]])=1,TRUE,FALSE))","v":""}]
[null,{"$f":"IF(ISBLANK(SRDB4[[#This Row],[SR-Nr]]),\"\",_xlfn.XLOOKUP(SRDB4[[#This Row],[SR-Nr]],SRDB[SR-Nr.],SRDB[Vorname],\"NA\",0))","v":""},{"$f":"IF(ISBLANK(SRDB4[[#This Row],[SR-Nr]]),\"\",_xlfn.XLOOKUP(SRDB4[[#This Row],[SR-Nr]],SRDB[SR-Nr.],SRDB[Name],\"NA\",0))","v":""},{"$f":"IF(ISBLANK(SRDB4[[#This Row],[SR-Nr]]),\"\",IF(COUNTIF(Registration!$A$7:$A$204,SRDB4[[#This Row],[SR-Nr]])=1,TRUE,FALSE))","v":""}]
[null,{"$f":"IF(ISBLANK(SRDB4[[#This Row],[SR-Nr]]),\"\",_xlfn.XLOOKUP(SRDB4[[#This Row],[SR-Nr]],SRDB[SR-Nr.],SRDB[Vorname],\"NA\",0))","v":""},{"$f":"IF(ISBLANK(SRDB4[[#This Row],[SR-Nr]]),\"\",_xlfn.XLOOKUP(SRDB4[[#This Row],[SR-Nr]],SRDB[SR-Nr.],SRDB[Name],\"NA\",0))","v":""},{"$f":"IF(ISBLANK(SRDB4[[#This Row],[SR-Nr]]),\"\",IF(COUNTIF(Registration!$A$7:$A$204,SRDB4[[#This Row],[SR-Nr]])=1,TRUE,FALSE))","v":""}]
[null,{"$f":"IF(ISBLANK(SRDB4[[#This Row],[SR-Nr]]),\"\",_xlfn.XLOOKUP(SRDB4[[#This Row],[SR-Nr]],SRDB[SR-Nr.],SRDB[Vorname],\"NA\",0))","v":""},{"$f":"IF(ISBLANK(SRDB4[[#This Row],[SR-Nr]]),\"\",_xlfn.XLOOKUP(SRDB4[[#This Row],[SR-Nr]],SRDB[SR-Nr.],SRDB[Name],\"NA\",0))","v":""},{"$f":"IF(ISBLANK(SRDB4[[#This Row],[SR-Nr]]),\"\",IF(COUNTIF(Registration!$A$7:$A$204,SRDB4[[#This Row],[SR-Nr]])=1,TRUE,FALSE))","v":""}]
[null,{"$f":"IF(ISBLANK(SRDB4[[#This Row],[SR-Nr]]),\"\",_xlfn.XLOOKUP(SRDB4[[#This Row],[SR-Nr]],SRDB[SR-Nr.],SRDB[Vorname],\"NA\",0))","v":""},{"$f":"IF(ISBLANK(SRDB4[[#This Row],[SR-Nr]]),\"\",_xlfn.XLOOKUP(SRDB4[[#This Row],[SR-Nr]],SRDB[SR-Nr.],SRDB[Name],\"NA\",0))","v":""},{"$f":"IF(ISBLANK(SRDB4[[#This Row],[SR-Nr]]),\"\",IF(COUNTIF(Registration!$A$7:$A$204,SRDB4[[#This Row],[SR-Nr]])=1,TRUE,FALSE))","v":""}]
[null,{"$f":"IF(ISBLANK(SRDB4[[#This Row],[SR-Nr]]),\"\",_xlfn.XLOOKUP(SRDB4[[#This Row],[SR-Nr]],SRDB[SR-Nr.],SRDB[Vorname],\"NA\",0))","v":""},{"$f":"IF(ISBLANK(SRDB4[[#This Row],[SR-Nr]]),\"\",_xlfn.XLOOKUP(SRDB4[[#This Row],[SR-Nr]],SRDB[SR-Nr.],SRDB[Name],\"NA\",0))","v":""},{"$f":"IF(ISBLANK(SRDB4[[#This Row],[SR-Nr]]),\"\",IF(COUNTIF(Registration!$A$7:$A$204,SRDB4[[#This Row],[SR-Nr]])=1,TRUE,FALSE))","v":""}]
[null,{"$f":"IF(ISBLANK(SRDB4[[#This Row],[SR-Nr]]),\"\",_xlfn.XLOOKUP(SRDB4[[#This Row],[SR-Nr]],SRDB[SR-Nr.],SRDB[Vorname],\"NA\",0))","v":""},{"$f":"IF(ISBLANK(SRDB4[[#This Row],[SR-Nr]]),\"\",_xlfn.XLOOKUP(SRDB4[[#This Row],[SR-Nr]],SRDB[SR-Nr.],SRDB[Name],\"NA\",0))","v":""},{"$f":"IF(ISBLANK(SRDB4[[#This Row],[SR-Nr]]),\"\",IF(COUNTIF(Registration!$A$7:$A$204,SRDB4[[#This Row],[SR-Nr]])=1,TRUE,FALSE))","v":""}]
[null,{"$f":"IF(ISBLANK(SRDB4[[#This Row],[SR-Nr]]),\"\",_xlfn.XLOOKUP(SRDB4[[#This Row],[SR-Nr]],SRDB[SR-Nr.],SRDB[Vorname],\"NA\",0))","v":""},{"$f":"IF(ISBLANK(SRDB4[[#This Row],[SR-Nr]]),\"\",_xlfn.XLOOKUP(SRDB4[[#This Row],[SR-Nr]],SRDB[SR-Nr.],SRDB[Name],\"NA\",0))","v":""},{"$f":"IF(ISBLANK(SRDB4[[#This Row],[SR-Nr]]),\"\",IF(COUNTIF(Registration!$A$7:$A$204,SRDB4[[#This Row],[SR-Nr]])=1,TRUE,FALSE))","v":""}]
[null,{"$f":"IF(ISBLANK(SRDB4[[#This Row],[SR-Nr]]),\"\",_xlfn.XLOOKUP(SRDB4[[#This Row],[SR-Nr]],SRDB[SR-Nr.],SRDB[Vorname],\"NA\",0))","v":""},{"$f":"IF(ISBLANK(SRDB4[[#This Row],[SR-Nr]]),\"\",_xlfn.XLOOKUP(SRDB4[[#This Row],[SR-Nr]],SRDB[SR-Nr.],SRDB[Name],\"NA\",0))","v":""},{"$f":"IF(ISBLANK(SRDB4[[#This Row],[SR-Nr]]),\"\",IF(COUNTIF(Registration!$A$7:$A$204,SRDB4[[#This Row],[SR-Nr]])=1,TRUE,FALSE))","v":""}]
[null,{"$f":"IF(ISBLANK(SRDB4[[#This Row],[SR-Nr]]),\"\",_xlfn.XLOOKUP(SRDB4[[#This Row],[SR-Nr]],SRDB[SR-Nr.],SRDB[Vorname],\"NA\",0))","v":""},{"$f":"IF(ISBLANK(SRDB4[[#This Row],[SR-Nr]]),\"\",_xlfn.XLOOKUP(SRDB4[[#This Row],[SR-Nr]],SRDB[SR-Nr.],SRDB[Name],\"NA\",0))","v":""},{"$f":"IF(ISBLANK(SRDB4[[#This Row],[SR-Nr]]),\"\",IF(COUNTIF(Registration!$A$7:$A$204,SRDB4[[#This Row],[SR-Nr]])=1,TRUE,FALSE))","v":""}]
[null,{"$f":"IF(ISBLANK(SRDB4[[#This Row],[SR-Nr]]),\"\",_xlfn.XLOOKUP(SRDB4[[#This Row],[SR-Nr]],SRDB[SR-Nr.],SRDB[Vorname],\"NA\",0))","v":""},{"$f":"IF(ISBLANK(SRDB4[[#This Row],[SR-Nr]]),\"\",_xlfn.XLOOKUP(SRDB4[[#This Row],[SR-Nr]],SRDB[SR-Nr.],SRDB[Name],\"NA\",0))","v":""},{"$f":"IF(ISBLANK(SRDB4[[#This Row],[SR-Nr]]),\"\",IF(COUNTIF(Registration!$A$7:$A$204,SRDB4[[#This Row],[SR-Nr]])=1,TRUE,FALSE))","v":""}]
[null,{"$f":"IF(ISBLANK(SRDB4[[#This Row],[SR-Nr]]),\"\",_xlfn.XLOOKUP(SRDB4[[#This Row],[SR-Nr]],SRDB[SR-Nr.],SRDB[Vorname],\"NA\",0))","v":""},{"$f":"IF(ISBLANK(SRDB4[[#This Row],[SR-Nr]]),\"\",_xlfn.XLOOKUP(SRDB4[[#This Row],[SR-Nr]],SRDB[SR-Nr.],SRDB[Name],\"NA\",0))","v":""},{"$f":"IF(ISBLANK(SRDB4[[#This Row],[SR-Nr]]),\"\",IF(COUNTIF(Registration!$A$7:$A$204,SRDB4[[#This Row],[SR-Nr]])=1,TRUE,FALSE))","v":""}]
[null,{"$f":"IF(ISBLANK(SRDB4[[#This Row],[SR-Nr]]),\"\",_xlfn.XLOOKUP(SRDB4[[#This Row],[SR-Nr]],SRDB[SR-Nr.],SRDB[Vorname],\"NA\",0))","v":""},{"$f":"IF(ISBLANK(SRDB4[[#This Row],[SR-Nr]]),\"\",_xlfn.XLOOKUP(SRDB4[[#This Row],[SR-Nr]],SRDB[SR-Nr.],SRDB[Name],\"NA\",0))","v":""},{"$f":"IF(ISBLANK(SRDB4[[#This Row],[SR-Nr]]),\"\",IF(COUNTIF(Registration!$A$7:$A$204,SRDB4[[#This Row],[SR-Nr]])=1,TRUE,FALSE))","v":""}]
[null,{"$f":"IF(ISBLANK(SRDB4[[#This Row],[SR-Nr]]),\"\",_xlfn.XLOOKUP(SRDB4[[#This Row],[SR-Nr]],SRDB[SR-Nr.],SRDB[Vorname],\"NA\",0))","v":""},{"$f":"IF(ISBLANK(SRDB4[[#This Row],[SR-Nr]]),\"\",_xlfn.XLOOKUP(SRDB4[[#This Row],[SR-Nr]],SRDB[SR-Nr.],SRDB[Name],\"NA\",0))","v":""},{"$f":"IF(ISBLANK(SRDB4[[#This Row],[SR-Nr]]),\"\",IF(COUNTIF(Registration!$A$7:$A$204,SRDB4[[#This Row],[SR-Nr]])=1,TRUE,FALSE))","v":""}]
[null,{"$f":"IF(ISBLANK(SRDB4[[#This Row],[SR-Nr]]),\"\",_xlfn.XLOOKUP(SRDB4[[#This Row],[SR-Nr]],SRDB[SR-Nr.],SRDB[Vorname],\"NA\",0))","v":""},{"$f":"IF(ISBLANK(SRDB4[[#This Row],[SR-Nr]]),\"\",_xlfn.XLOOKUP(SRDB4[[#This Row],[SR-Nr]],SRDB[SR-Nr.],SRDB[Name],\"NA\",0))","v":""},{"$f":"IF(ISBLANK(SRDB4[[#This Row],[SR-Nr]]),\"\",IF(COUNTIF(Registration!$A$7:$A$204,SRDB4[[#This Row],[SR-Nr]])=1,TRUE,FALSE))","v":""}]
[null,{"$f":"IF(ISBLANK(SRDB4[[#This Row],[SR-Nr]]),\"\",_xlfn.XLOOKUP(SRDB4[[#This Row],[SR-Nr]],SRDB[SR-Nr.],SRDB[Vorname],\"NA\",0))","v":""},{"$f":"IF(ISBLANK(SRDB4[[#This Row],[SR-Nr]]),\"\",_xlfn.XLOOKUP(SRDB4[[#This Row],[SR-Nr]],SRDB[SR-Nr.],SRDB[Name],\"NA\",0))","v":""},{"$f":"IF(ISBLANK(SRDB4[[#This Row],[SR-Nr]]),\"\",IF(COUNTIF(Registration!$A$7:$A$204,SRDB4[[#This Row],[SR-Nr]])=1,TRUE,FALSE))","v":""}]
[null,{"$f":"IF(ISBLANK(SRDB4[[#This Row],[SR-Nr]]),\"\",_xlfn.XLOOKUP(SRDB4[[#This Row],[SR-Nr]],SRDB[SR-Nr.],SRDB[Vorname],\"NA\",0))","v":""},{"$f":"IF(ISBLANK(SRDB4[[#This Row],[SR-Nr]]),\"\",_xlfn.XLOOKUP(SRDB4[[#This Row],[SR-Nr]],SRDB[SR-Nr.],SRDB[Name],\"NA\",0))","v":""},{"$f":"IF(ISBLANK(SRDB4[[#This Row],[SR-Nr]]),\"\",IF(COUNTIF(Registration!$A$7:$A$204,SRDB4[[#This Row],[SR-Nr]])=1,TRUE,FALSE))","v":""}]
["Ende der Liste"]

{"sheet":"SR-DB","index":2,"n_rows":1001,"n_cols":3,"rows_kept":1001,"cut":false,"hidden":false,"merged":[[0,0,0,1],[1000,0,1000,2]]}
["Schiedsrichterverzeichnis"]
["Stand:","2025-03-15"]
["Anzahl:",{"$f":"COUNT(C5:C1000)","v":2}]
["Vorname","Name","SR-Nr."]
["Max","Muster",123456]
["Alois","Arbiter",98765]
[]
[]
[]
[]
[]
[]
[]
[]
[]
[]
[]
[]
[]
[]
[]
[]
[]
[]
[]
[]
[]
[]
[]
[]
[]
[]
[]
[]
[]
[]
[]
[]
[]
[]
[]
[]
[]
[]
[]
[]
[]
[]
[]
[]
[]
[]
[]
[]
[]
[]
[]
[]
[]
[]
[]
[]
[]
[]
[]
[]
[]
[]
[]
[]
[]
[]
[]
[]
[]
[]
[]
[]
[]
[]
[]
[]
[]
[]
[]
[]
[]
[]
[]
[]
[]
[]
[]
[]
[]
[]
[]
[]
[]
[]
[]
[]
[]
[]
[]
[]
[]
[]
[]
[]
[]
[]
[]
[]
[]
[]
[]
[]
[]
[]
[]
[]
[]
[]
[]
[]
[]
[]
[]
[]
[]
[]
[]
[]
[]
[]
[]
[]
[]
[]
[]
[]
[]
[]
[]
[]
[]
[]
[]
[]
[]
[]
[]
[]
[]
[]
[]
[]
[]
[]
[]
[]
[]
[]
[]
[]
[]
[]
[]
[]
[]
[]
[]
[]
[]
[]
[]
[]
[]
[]
[]
[]
[]
[]
[]
[]
[]
[]
[]
[]
[]
[]
[]
[]
[]
[]
[]
[]
[]
[]
[]
[]
[]
[]
[]
[]
[]
[]
[]
[]
[]
[]
[]
[]
[]
[]
[]
[]
[]
[]
[]
[]
[]
[]
[]
[]
[]
[]
[]
[]
[]
[]
[]
[]
[]
[]
[]
[]
[]
[]
[]
[]
[]
[]
[]
[]
[]
[]
[]
[]
[]
[]
[]
[]
[]
[]
[]
[]
[]
[]
[]
[]
[]
[]
[]
[]
[]
[]
[]
[]
[]
[]
[]
[]
[]
[]
[]
[]
[]
[]
[]
[]
[]
[]
[]
[]
[]
[]
[]
[]
[]
[]
[]
[]
[]
[]
[]
[]
[]
[]
[]
[]
[]
[]
[]
[]
[]
[]
[]
[]
[]
[]
[]
[]
[]
[]
[]
[]
[]
[]
[]
[]
[]
[]
[]
[]
[]
[]
[]
[]
[]
[]
[]
[]
[]
[]
[]
[]
[]
[]
[]
[]
[]
[]
[]
[]
[]
[]
[]
[]
[]
[]
[]
[]
[]
[]
[]
[]
[]
[]
[]
[]
[]
[]
[]
[]
[]
[]
[]
[]
[]
[]
[]
[]
[]
[]
[]
[]
[]
[]
[]
[]
[]
[]
[]
[]
[]
[]
[]
[]
[]
[]
[]
[]
[]
[]
[]
[]
[]
[]
[]
[]
[]
[]
[]
[]
[]
[]
[]
[]
[]
[]
[]
[]
[]
[]
[]
[]
[]
[]
[]
[]
[]
[]
[]
[]
[]
[]
[]
[]
[]
[]
[]
[]
[]
[]
[]
[]
[]
[]
[]
[]
[]
[]
[]
[]
[]
[]
[]
[]
[]
[]
[]
[]
[]
[]
[]
[]
[]
[]
[]
[]
[]
[]
[]
[]
[]
[]
[]
[]
[]
[]
[]
[]
[]
[]
[]
[]
[]
[]
[]
[]
[]
[]
[]
[]
[]
[]
[]
[]
[]
[]
[]
[]
[]
[]
[]
[]
[]
[]
[]
[]
[]
[]
[]
[]
[]
[]
[]
[]
[]
[]
[]
[]
[]
[]
[]
[]
[]
[]
[]
[]
[]
[]
[]
[]
[]
[]
[]
[]
[]
[]
[]
[]
[]
[]
[]
[]
[]
[]
[]
[]
[]
[]
[]
[]
[]
[]
[]
[]
[]
[]
[]
[]
[]
[]
[]
[]
[]
[]
[]
[]
[]
[]
[]
[]
[]
[]
[]
[]
[]
[]
[]
[]
[]
[]
[]
[]
[]
[]
[]
[]
[]
[]
[]
[]
[]
[]
[]
[]
[]
[]
[]
[]
[]
[]
[]
[]
[]
[]
[]
[]
[]
[]
[]
[]
[]
[]
[]
[]
[]
[]
[]
[]
[]
[]
[]
[]
[]
[]
[]
[]
[]
[]
[]
[]
[]
[]
[]
[]
[]
[]
[]
[]
[]
[]
[]
[]
[]
[]
[]
[]
[]
[]
[]
[]
[]
[]
[]
[]
[]
[]
[]
[]
[]
[]
[]
[]
[]
[]
[]
[]
[]
[]
[]
[]
[]
[]
[]
[]
[]
[]
[]
[]
[]
[]
[]
[]
[]
[]
[]
[]
[]
[]
[]
[]
[]
[]
[]
[]
[]
[]
[]
[]
[]
[]
[]
[]
[]
[]
[]
[]
[]
[]
[]
[]
[]
[]
[]
[]
[]
[]
[]
[]
[]
[]
[]
[]
[]
[]
[]
[]
[]
[]
[]
[]
[]
[]
[]
[]
[]
[]
[]
[]
[]
[]
[]
[]
[]
[]
[]
[]
[]
[]
[]
[]
[]
[]
[]
[]
[]
[]
[]
[]
[]
[]
[]
[]
[]
[]
[]
[]
[]
[]
[]
[]
[]
[]
[]
[]
[]
[]
[]
[]
[]
[]
[]
[]
[]
[]
[]
[]
[]
[]
[]
[]
[]
[]
[]
[]
[]
[]
[]
[]
[]
[]
[]
[]
[]
[]
[]
[]
[]
[]
[]
[]
[]
[]
[]
[]
[]
[]
[]
[]
[]
[]
[]
[]
[]
[]
[]
[]
[]
[]
[]
[]
[]
[]
[]
[]
[]
[]
[]
[]
[]
[]
[]
[]
[]
[]
[]
[]
[]
[]
[]
[]
[]
[]
[]
[]
[]
[]
[]
[]
[]
[]
[]
[]
[]
[]
[]
[]
[]
[]
[]
[]
[]
[]
[]
[]
[]
[]
[]
[]
[]
[]
[]
[]
[]
[]
[]
[]
[]
[]
[]
[]
[]
[]
[]
[]
[]
[]
[]
[]
[]
[]
[]
[]
[]
[]
[]
[]
[]
[]
[]
[]
[]
[]
[]
[]
[]
[]
[]
[]
[]
[]
[]
[]
[]
[]
[]
[]
[]
[]
[]
[]
[]
[]
[]
[]
[]
[]
[]
[]
[]
[]
[]
[]
[]
[]
[]
[]
[]
[]
[]
[]
[]
[]
[]
[]
[]
[]
[]
[]
[]
[]
[]
[]
[]
[]
[]
[]
[]
[]
[]
[]
[]
[]
[]
[]
[]
[]
[]
[]
[]
[]
[]
[]
[]
[]
[]
[]
[]
[]
[]
[]
[]
[]
[]
[]
[]
[]
[]
[]
[]
[]
[]
[]
[]
[]
["Ende der Liste"]

{"sheet":"Settings","index":3,"n_rows":18,"n_cols":11,"rows_kept":18,"cut":false,"hidden":false,"merged":[]}
["Verband","E-Mail","Logo","HEX-Code","Sprache","Empfänger",null,"Element","Deutsch","Français","Italiano"]
["ACGF","test@football.ch",{"$error":"#VALUE!"},"d0002b",null,null,null,null,"Anlass:","Événement :","Evento :"]
["ACVF","test@football.ch",{"$error":"#VALUE!"},"d0002b",null,null,null,null,"Datum:","Date :","Data :"]
["AFF-FFV","test@football.ch",{"$error":"#VALUE!"},"d0002b",null,null,null,null,"Ort:","Lieu :","Luogo :"]
["AFV","test@football.ch",{"$error":"#VALUE!"},"23328c",null,null,null,null,"Anwesende:","Participants :","Partecipanti :"]
["ANF","test@football.ch",{"$error":"#VALUE!"},"d0002b",null,null,null,null,"SR-Nr","N° ARB","N° ARB"]
["AVF-WFV","test@football.ch",{"$error":"#VALUE!"},"d0002b",null,null,null,null,"Vorname","Prénom","Nome"]
["FTC","test@football.ch",{"$error":"#VALUE!"},"d0002b",null,null,null,null,"Nachname","Nom","Cognome"]
["FVBJ","jaussi.jonathan@football.ch",{"$error":"#VALUE!"},"c91127","Deutsch","Jonathan",null,null,"Zeitstempel","Horodatage","Timestamp"]
["FVNWS","test@football.ch",{"$error":"#VALUE!"},"c91127",null,null,null,"btn_SRScannen","SR-Ausweis scannen","Scanner la carte ARB","Scansiona la tessera ARB"]
["FVRZ","fvrz-sr@football.ch",{"$error":"#VALUE!"},"007abd","Deutsch","Susi",null,"btn_Manuell","manuelle Eingabe","Saisie manuelle","Inserimento manuale"]
["IFV","test@football.ch",{"$error":"#VALUE!"},"c91127",null,null,null,"btn_Reset","zurücksetzen","Réinitialiser","Reimposta"]
["OFV","test@football.ch",{"$error":"#VALUE!"},"007537",null,null,null,"btn_Suche","SR-Suche","Recherche ARB","Ricerca ARB"]
["SOFV","test@football.ch",{"$error":"#VALUE!"},"bf0400",null,null,null,"btn_LetzterEintrag","zum letzten Eintrag","Aller à la dernière entrée","Vai all'ultima voce"]
[null,null,null,null,null,null,null,"btn_Senden","Liste versenden","Envoyer la liste","Invia elenco"]
[null,null,null,null,null,null,null,"btn_Verband","Verbandsauswahl","Sélection de l'association","Selezione associazione"]
[null,null,null,null,null,null,null,"msg_Sprache","Sprache geändert!","Langue changée!","Lingua cambiata!"]
[null,null,null,null,null,null,null,"msg_Fehler","Sprache nicht gefunden!","Langue non trouvée!","Lingua non trovata!"]